BEGIN:VCALENDAR
VERSION:2.0
PRODID:-//Intergroup - District 5 Florida - ECPv6.15.20//NONSGML v1.0//EN
CALSCALE:GREGORIAN
METHOD:PUBLISH
X-ORIGINAL-URL:https://aanorthport.org
X-WR-CALDESC:Events for Intergroup - District 5 Florida
REFRESH-INTERVAL;VALUE=DURATION:PT1H
X-Robots-Tag:noindex
X-PUBLISHED-TTL:PT1H
BEGIN:VTIMEZONE
TZID:America/New_York
BEGIN:DAYLIGHT
TZOFFSETFROM:-0500
TZOFFSETTO:-0400
TZNAME:EDT
DTSTART:20190310T070000
END:DAYLIGHT
BEGIN:STANDARD
TZOFFSETFROM:-0400
TZOFFSETTO:-0500
TZNAME:EST
DTSTART:20191103T060000
END:STANDARD
BEGIN:DAYLIGHT
TZOFFSETFROM:-0500
TZOFFSETTO:-0400
TZNAME:EDT
DTSTART:20200308T070000
END:DAYLIGHT
BEGIN:STANDARD
TZOFFSETFROM:-0400
TZOFFSETTO:-0500
TZNAME:EST
DTSTART:20201101T060000
END:STANDARD
BEGIN:DAYLIGHT
TZOFFSETFROM:-0500
TZOFFSETTO:-0400
TZNAME:EDT
DTSTART:20210314T070000
END:DAYLIGHT
BEGIN:STANDARD
TZOFFSETFROM:-0400
TZOFFSETTO:-0500
TZNAME:EST
DTSTART:20211107T060000
END:STANDARD
END:VTIMEZONE
BEGIN:VEVENT
DTSTART;VALUE=DATE:20201126
DTEND;VALUE=DATE:20201127
DTSTAMP:20260424T042831
CREATED:20200116T030604Z
LAST-MODIFIED:20200116T030604Z
UID:10000021-1606348800-1606435199@aanorthport.org
SUMMARY:Thanksgiving
DESCRIPTION:Intergroup Office Closed
URL:https://aanorthport.org/event/thanksgiving/
CATEGORIES:Federal Holiday
END:VEVENT
BEGIN:VEVENT
DTSTART;VALUE=DATE:20200907
DTEND;VALUE=DATE:20200908
DTSTAMP:20260424T042831
CREATED:20200116T030140Z
LAST-MODIFIED:20200116T030140Z
UID:10000019-1599436800-1599523199@aanorthport.org
SUMMARY:Labor Day
DESCRIPTION:Intergroup Office Closed
URL:https://aanorthport.org/event/labor-day/
CATEGORIES:Federal Holiday
END:VEVENT
BEGIN:VEVENT
DTSTART;VALUE=DATE:20200525
DTEND;VALUE=DATE:20200526
DTSTAMP:20260424T042831
CREATED:20200116T025805Z
LAST-MODIFIED:20200116T025805Z
UID:10000018-1590364800-1590451199@aanorthport.org
SUMMARY:Memorial Day
DESCRIPTION:Intergroup Office Closed
URL:https://aanorthport.org/event/memorial-day/
CATEGORIES:Federal Holiday
END:VEVENT
BEGIN:VEVENT
DTSTART;VALUE=DATE:20200217
DTEND;VALUE=DATE:20200218
DTSTAMP:20260424T042831
CREATED:20200116T025704Z
LAST-MODIFIED:20200116T025841Z
UID:10000017-1581897600-1581983999@aanorthport.org
SUMMARY:Presidents Day
DESCRIPTION:Intergroup Office Closed
URL:https://aanorthport.org/event/presidents-day/
CATEGORIES:Federal Holiday
END:VEVENT
BEGIN:VEVENT
DTSTART;VALUE=DATE:20200120
DTEND;VALUE=DATE:20200121
DTSTAMP:20260424T042831
CREATED:20200116T025343Z
LAST-MODIFIED:20200116T025919Z
UID:10000016-1579478400-1579564799@aanorthport.org
SUMMARY:Martin Luther King Day
DESCRIPTION:Intergroup Office Closed
URL:https://aanorthport.org/event/martin-luther-king-day/
CATEGORIES:Federal Holiday
END:VEVENT
END:VCALENDAR