BEGIN:VCALENDAR
VERSION:2.0
PRODID:-//Intergroup - District 5 Florida - ECPv6.15.20//NONSGML v1.0//EN
CALSCALE:GREGORIAN
METHOD:PUBLISH
X-ORIGINAL-URL:https://aanorthport.org
X-WR-CALDESC:Events for Intergroup - District 5 Florida
REFRESH-INTERVAL;VALUE=DURATION:PT1H
X-Robots-Tag:noindex
X-PUBLISHED-TTL:PT1H
BEGIN:VTIMEZONE
TZID:America/New_York
BEGIN:DAYLIGHT
TZOFFSETFROM:-0500
TZOFFSETTO:-0400
TZNAME:EDT
DTSTART:20230312T070000
END:DAYLIGHT
BEGIN:STANDARD
TZOFFSETFROM:-0400
TZOFFSETTO:-0500
TZNAME:EST
DTSTART:20231105T060000
END:STANDARD
BEGIN:DAYLIGHT
TZOFFSETFROM:-0500
TZOFFSETTO:-0400
TZNAME:EDT
DTSTART:20240310T070000
END:DAYLIGHT
BEGIN:STANDARD
TZOFFSETFROM:-0400
TZOFFSETTO:-0500
TZNAME:EST
DTSTART:20241103T060000
END:STANDARD
BEGIN:DAYLIGHT
TZOFFSETFROM:-0500
TZOFFSETTO:-0400
TZNAME:EDT
DTSTART:20250309T070000
END:DAYLIGHT
BEGIN:STANDARD
TZOFFSETFROM:-0400
TZOFFSETTO:-0500
TZNAME:EST
DTSTART:20251102T060000
END:STANDARD
END:VTIMEZONE
BEGIN:VEVENT
DTSTART;TZID=America/New_York:20240509T180000
DTEND;TZID=America/New_York:20240509T180000
DTSTAMP:20260425T072229
CREATED:20240417T125823Z
LAST-MODIFIED:20240417T125829Z
UID:10000569-1715277600-1715277600@aanorthport.org
SUMMARY:No Events Committee Meeting tonight
DESCRIPTION:
URL:https://aanorthport.org/event/no-events-committee-meeting-tonight-2/
LOCATION:FL
CATEGORIES:Service Meetings
END:VEVENT
BEGIN:VEVENT
DTSTART;TZID=America/New_York:20240521T190000
DTEND;TZID=America/New_York:20240521T200000
DTSTAMP:20260425T072229
CREATED:20240417T131019Z
LAST-MODIFIED:20240417T131021Z
UID:10000674-1716318000-1716321600@aanorthport.org
SUMMARY:District 5 Business Meeting
DESCRIPTION:GSR Sharing 6:00pmDistrict 5 Business Meeting 7:00pm\n\n\n\nGSR sharing is at 6:00pm \n\n\n\nDistrict 5 Business meeting starts at 7:00pm
URL:https://aanorthport.org/event/district-5-business-meeting/2024-05-21/
LOCATION:St. Nathaniel’s Episcopal Church\, 4200 S. Biscayne Dr.\, North Port\, FL\, 34287\, United States
CATEGORIES:Service Meetings
GEO:27.0546961;-82.2454699
X-APPLE-STRUCTURED-LOCATION;VALUE=URI;X-ADDRESS=St. Nathaniel’s Episcopal Church 4200 S. Biscayne Dr. North Port FL 34287 United States;X-APPLE-RADIUS=500;X-TITLE=4200 S. Biscayne Dr.:geo:-82.2454699,27.0546961
END:VEVENT
END:VCALENDAR