BEGIN:VCALENDAR
VERSION:2.0
PRODID:-//Intergroup - District 5 Florida - ECPv6.15.20//NONSGML v1.0//EN
CALSCALE:GREGORIAN
METHOD:PUBLISH
X-WR-CALNAME:Intergroup - District 5 Florida
X-ORIGINAL-URL:https://aanorthport.org
X-WR-CALDESC:Events for Intergroup - District 5 Florida
REFRESH-INTERVAL;VALUE=DURATION:PT1H
X-Robots-Tag:noindex
X-PUBLISHED-TTL:PT1H
BEGIN:VTIMEZONE
TZID:America/New_York
BEGIN:DAYLIGHT
TZOFFSETFROM:-0500
TZOFFSETTO:-0400
TZNAME:EDT
DTSTART:20250309T070000
END:DAYLIGHT
BEGIN:STANDARD
TZOFFSETFROM:-0400
TZOFFSETTO:-0500
TZNAME:EST
DTSTART:20251102T060000
END:STANDARD
BEGIN:DAYLIGHT
TZOFFSETFROM:-0500
TZOFFSETTO:-0400
TZNAME:EDT
DTSTART:20260308T070000
END:DAYLIGHT
BEGIN:STANDARD
TZOFFSETFROM:-0400
TZOFFSETTO:-0500
TZNAME:EST
DTSTART:20261101T060000
END:STANDARD
BEGIN:DAYLIGHT
TZOFFSETFROM:-0500
TZOFFSETTO:-0400
TZNAME:EDT
DTSTART:20270314T070000
END:DAYLIGHT
BEGIN:STANDARD
TZOFFSETFROM:-0400
TZOFFSETTO:-0500
TZNAME:EST
DTSTART:20271107T060000
END:STANDARD
END:VTIMEZONE
BEGIN:VEVENT
DTSTART;TZID=America/New_York:20260507T180000
DTEND;TZID=America/New_York:20260507T190000
DTSTAMP:20260423T175313
CREATED:20240719T013124Z
LAST-MODIFIED:20240719T013126Z
UID:10000483-1778176800-1778180400@aanorthport.org
SUMMARY:Steering Committee Meeting (hybrid)
DESCRIPTION:The Intergroup Steering Committee meets every 1st Thursday of the month – in person and online. \nJoin Zoom Meeting\nhttps://us02web.zoom.us/j/86123447161?pwd=RUJqazlRS0c1MjA1dW1pZkI5UEVsZz09 \nMeeting ID: 861 2344 7161\nPasscode: 123456
URL:https://aanorthport.org/event/steering-committee-meeting-hybrid-3/2026-05-07/
LOCATION:Intergroup Office of District 5 – SWFL\, 13325 Tamiami Trail\, Unit A\, North Port\, FL\, 34287\, United States
CATEGORIES:Service Meetings
GEO:27.046958;-82.252493
X-APPLE-STRUCTURED-LOCATION;VALUE=URI;X-ADDRESS=Intergroup Office of District 5 – SWFL 13325 Tamiami Trail Unit A North Port FL 34287 United States;X-APPLE-RADIUS=500;X-TITLE=13325 Tamiami Trail\, Unit A:geo:-82.252493,27.046958
END:VEVENT
BEGIN:VEVENT
DTSTART;TZID=America/New_York:20260514T180000
DTEND;TZID=America/New_York:20260514T190000
DTSTAMP:20260423T175313
CREATED:20240426T111140Z
LAST-MODIFIED:20240426T111142Z
UID:10000593-1778781600-1778785200@aanorthport.org
SUMMARY:Events Committee Meeting (hybrid)
DESCRIPTION:Intergroup Events Committee hybrid meeting (in person at Intergroup office and online via Zoom) – every 2nd Thursday of the month at 6:00 pm \n\n\n\nJoin meeting onlinehttps://us02web.zoom.us/j/85833512842pwd=MEdYQ2tYKzg2dU9hWkg0cWV1RkM4QT09 \n\n\n\nZoom ID:  858 3351 2842Passcode:  417873 \n\n\n\nWe are always looking for volunteers!
URL:https://aanorthport.org/event/events-committee-meeting-3/2026-05-14/
LOCATION:Intergroup Office of District 5 – SWFL\, 13325 Tamiami Trail\, Unit A\, North Port\, FL\, 34287\, United States
CATEGORIES:Service Meetings
GEO:27.046958;-82.252493
X-APPLE-STRUCTURED-LOCATION;VALUE=URI;X-ADDRESS=Intergroup Office of District 5 – SWFL 13325 Tamiami Trail Unit A North Port FL 34287 United States;X-APPLE-RADIUS=500;X-TITLE=13325 Tamiami Trail\, Unit A:geo:-82.252493,27.046958
END:VEVENT
BEGIN:VEVENT
DTSTART;TZID=America/New_York:20260519T190000
DTEND;TZID=America/New_York:20260519T200000
DTSTAMP:20260423T175313
CREATED:20241117T234444Z
LAST-MODIFIED:20241117T234448Z
UID:10000698-1779217200-1779220800@aanorthport.org
SUMMARY:District 5 Business Meeting
DESCRIPTION:GSR Sharing 6:00pmDistrict 5 Business Meeting 7:00pm\n\n\n\nGSR sharing is at 6:00pm \n\n\n\nDistrict 5 Business meeting starts at 7:00pm
URL:https://aanorthport.org/event/district-5-business-meeting-5/2026-05-19/
LOCATION:St. Nathaniel’s Episcopal Church\, 4200 S. Biscayne Dr.\, North Port\, FL\, 34287\, United States
CATEGORIES:Service Meetings
GEO:27.0546961;-82.2454699
X-APPLE-STRUCTURED-LOCATION;VALUE=URI;X-ADDRESS=St. Nathaniel’s Episcopal Church 4200 S. Biscayne Dr. North Port FL 34287 United States;X-APPLE-RADIUS=500;X-TITLE=4200 S. Biscayne Dr.:geo:-82.2454699,27.0546961
END:VEVENT
BEGIN:VEVENT
DTSTART;TZID=America/New_York:20260521T180000
DTEND;TZID=America/New_York:20260521T190000
DTSTAMP:20260423T175313
CREATED:20240517T005039Z
LAST-MODIFIED:20240607T000449Z
UID:10000769-1779386400-1779390000@aanorthport.org
SUMMARY:IGR Meeting (hybrid)
DESCRIPTION:Intergroup Representative (IGR) Meeting\, in person  and online – NOTICE MEETING TIME CHANGE \n\n\n\nMeeting ID: 894 7593 7488Passcode: 246810 \n\n\n\nJoin Zoom Meetinghttps://us02web.zoom.us/j/89475937488?pwd=SGhSNHl6L1N3aExFb0h4UTFtdnNrUT09
URL:https://aanorthport.org/event/49558/2026-05-21/
LOCATION:Intergroup Office of District 5 – SWFL\, 13325 Tamiami Trail\, Unit A\, North Port\, FL\, 34287\, United States
CATEGORIES:Service Meetings
GEO:27.046958;-82.252493
X-APPLE-STRUCTURED-LOCATION;VALUE=URI;X-ADDRESS=Intergroup Office of District 5 – SWFL 13325 Tamiami Trail Unit A North Port FL 34287 United States;X-APPLE-RADIUS=500;X-TITLE=13325 Tamiami Trail\, Unit A:geo:-82.252493,27.046958
END:VEVENT
END:VCALENDAR