BEGIN:VCALENDAR
VERSION:2.0
PRODID:-//Intergroup - District 5 Florida - ECPv6.15.20//NONSGML v1.0//EN
CALSCALE:GREGORIAN
METHOD:PUBLISH
X-WR-CALNAME:Intergroup - District 5 Florida
X-ORIGINAL-URL:https://aanorthport.org
X-WR-CALDESC:Events for Intergroup - District 5 Florida
REFRESH-INTERVAL;VALUE=DURATION:PT1H
X-Robots-Tag:noindex
X-PUBLISHED-TTL:PT1H
BEGIN:VTIMEZONE
TZID:America/New_York
BEGIN:DAYLIGHT
TZOFFSETFROM:-0500
TZOFFSETTO:-0400
TZNAME:EDT
DTSTART:20230312T070000
END:DAYLIGHT
BEGIN:STANDARD
TZOFFSETFROM:-0400
TZOFFSETTO:-0500
TZNAME:EST
DTSTART:20231105T060000
END:STANDARD
BEGIN:DAYLIGHT
TZOFFSETFROM:-0500
TZOFFSETTO:-0400
TZNAME:EDT
DTSTART:20240310T070000
END:DAYLIGHT
BEGIN:STANDARD
TZOFFSETFROM:-0400
TZOFFSETTO:-0500
TZNAME:EST
DTSTART:20241103T060000
END:STANDARD
BEGIN:DAYLIGHT
TZOFFSETFROM:-0500
TZOFFSETTO:-0400
TZNAME:EDT
DTSTART:20250309T070000
END:DAYLIGHT
BEGIN:STANDARD
TZOFFSETFROM:-0400
TZOFFSETTO:-0500
TZNAME:EST
DTSTART:20251102T060000
END:STANDARD
BEGIN:DAYLIGHT
TZOFFSETFROM:-0500
TZOFFSETTO:-0400
TZNAME:EDT
DTSTART:20260308T070000
END:DAYLIGHT
BEGIN:STANDARD
TZOFFSETFROM:-0400
TZOFFSETTO:-0500
TZNAME:EST
DTSTART:20261101T060000
END:STANDARD
BEGIN:DAYLIGHT
TZOFFSETFROM:-0500
TZOFFSETTO:-0400
TZNAME:EDT
DTSTART:20270314T070000
END:DAYLIGHT
BEGIN:STANDARD
TZOFFSETFROM:-0400
TZOFFSETTO:-0500
TZNAME:EST
DTSTART:20271107T060000
END:STANDARD
END:VTIMEZONE
BEGIN:VEVENT
DTSTART;TZID=America/New_York:20260421T190000
DTEND;TZID=America/New_York:20260421T200000
DTSTAMP:20260423T124532
CREATED:20241117T234444Z
LAST-MODIFIED:20241117T234448Z
UID:10000697-1776798000-1776801600@aanorthport.org
SUMMARY:District 5 Business Meeting
DESCRIPTION:GSR Sharing 6:00pmDistrict 5 Business Meeting 7:00pm\n\n\n\nGSR sharing is at 6:00pm \n\n\n\nDistrict 5 Business meeting starts at 7:00pm
URL:https://aanorthport.org/event/district-5-business-meeting-5/2026-04-21/
LOCATION:St. Nathaniel’s Episcopal Church\, 4200 S. Biscayne Dr.\, North Port\, FL\, 34287\, United States
CATEGORIES:Service Meetings
GEO:27.0546961;-82.2454699
X-APPLE-STRUCTURED-LOCATION;VALUE=URI;X-ADDRESS=St. Nathaniel’s Episcopal Church 4200 S. Biscayne Dr. North Port FL 34287 United States;X-APPLE-RADIUS=500;X-TITLE=4200 S. Biscayne Dr.:geo:-82.2454699,27.0546961
END:VEVENT
BEGIN:VEVENT
DTSTART;TZID=America/New_York:20260416T180000
DTEND;TZID=America/New_York:20260416T190000
DTSTAMP:20260423T124532
CREATED:20240517T005039Z
LAST-MODIFIED:20240607T000449Z
UID:10000768-1776362400-1776366000@aanorthport.org
SUMMARY:IGR Meeting (hybrid)
DESCRIPTION:Intergroup Representative (IGR) Meeting\, in person  and online – NOTICE MEETING TIME CHANGE \n\n\n\nMeeting ID: 894 7593 7488Passcode: 246810 \n\n\n\nJoin Zoom Meetinghttps://us02web.zoom.us/j/89475937488?pwd=SGhSNHl6L1N3aExFb0h4UTFtdnNrUT09
URL:https://aanorthport.org/event/49558/2026-04-16/
LOCATION:Intergroup Office of District 5 – SWFL\, 13325 Tamiami Trail\, Unit A\, North Port\, FL\, 34287\, United States
CATEGORIES:Service Meetings
GEO:27.046958;-82.252493
X-APPLE-STRUCTURED-LOCATION;VALUE=URI;X-ADDRESS=Intergroup Office of District 5 – SWFL 13325 Tamiami Trail Unit A North Port FL 34287 United States;X-APPLE-RADIUS=500;X-TITLE=13325 Tamiami Trail\, Unit A:geo:-82.252493,27.046958
END:VEVENT
BEGIN:VEVENT
DTSTART;TZID=America/New_York:20260410T160000
DTEND;TZID=America/New_York:20260412T130000
DTSTAMP:20260423T124532
CREATED:20240719T024537Z
LAST-MODIFIED:20240719T024539Z
UID:10000826-1775836800-1775998800@aanorthport.org
SUMMARY:Area 15 Quarterly Assembly
DESCRIPTION:AREA 15 SUR DE LA FLORIDAASAMBLEA DE SERVICIOS GENERALES
URL:https://aanorthport.org/event/area-15-quarterly-assembly-9/
LOCATION:Boca Raton Marriott\, Town Center Circle\, Boca Raton\, FL\, 33486\, United States
CATEGORIES:Service Meetings
GEO:26.3617206;-80.1227651
X-APPLE-STRUCTURED-LOCATION;VALUE=URI;X-ADDRESS=Boca Raton Marriott Town Center Circle Boca Raton FL 33486 United States;X-APPLE-RADIUS=500;X-TITLE=Town Center Circle:geo:-80.1227651,26.3617206
END:VEVENT
BEGIN:VEVENT
DTSTART;TZID=America/New_York:20260409T180000
DTEND;TZID=America/New_York:20260409T190000
DTSTAMP:20260423T124532
CREATED:20240426T111140Z
LAST-MODIFIED:20240426T111142Z
UID:10000592-1775757600-1775761200@aanorthport.org
SUMMARY:Events Committee Meeting (hybrid)
DESCRIPTION:Intergroup Events Committee hybrid meeting (in person at Intergroup office and online via Zoom) – every 2nd Thursday of the month at 6:00 pm \n\n\n\nJoin meeting onlinehttps://us02web.zoom.us/j/85833512842pwd=MEdYQ2tYKzg2dU9hWkg0cWV1RkM4QT09 \n\n\n\nZoom ID:  858 3351 2842Passcode:  417873 \n\n\n\nWe are always looking for volunteers!
URL:https://aanorthport.org/event/events-committee-meeting-3/2026-04-09/
LOCATION:Intergroup Office of District 5 – SWFL\, 13325 Tamiami Trail\, Unit A\, North Port\, FL\, 34287\, United States
CATEGORIES:Service Meetings
GEO:27.046958;-82.252493
X-APPLE-STRUCTURED-LOCATION;VALUE=URI;X-ADDRESS=Intergroup Office of District 5 – SWFL 13325 Tamiami Trail Unit A North Port FL 34287 United States;X-APPLE-RADIUS=500;X-TITLE=13325 Tamiami Trail\, Unit A:geo:-82.252493,27.046958
END:VEVENT
BEGIN:VEVENT
DTSTART;TZID=America/New_York:20260402T180000
DTEND;TZID=America/New_York:20260402T190000
DTSTAMP:20260423T124532
CREATED:20240719T013124Z
LAST-MODIFIED:20240719T013126Z
UID:10000482-1775152800-1775156400@aanorthport.org
SUMMARY:Steering Committee Meeting (hybrid)
DESCRIPTION:The Intergroup Steering Committee meets every 1st Thursday of the month – in person and online. \nJoin Zoom Meeting\nhttps://us02web.zoom.us/j/86123447161?pwd=RUJqazlRS0c1MjA1dW1pZkI5UEVsZz09 \nMeeting ID: 861 2344 7161\nPasscode: 123456
URL:https://aanorthport.org/event/steering-committee-meeting-hybrid-3/2026-04-02/
LOCATION:Intergroup Office of District 5 – SWFL\, 13325 Tamiami Trail\, Unit A\, North Port\, FL\, 34287\, United States
CATEGORIES:Service Meetings
GEO:27.046958;-82.252493
X-APPLE-STRUCTURED-LOCATION;VALUE=URI;X-ADDRESS=Intergroup Office of District 5 – SWFL 13325 Tamiami Trail Unit A North Port FL 34287 United States;X-APPLE-RADIUS=500;X-TITLE=13325 Tamiami Trail\, Unit A:geo:-82.252493,27.046958
END:VEVENT
BEGIN:VEVENT
DTSTART;TZID=America/New_York:20260321T170000
DTEND;TZID=America/New_York:20260321T210000
DTSTAMP:20260423T124532
CREATED:20260128T220449Z
LAST-MODIFIED:20260128T221635Z
UID:10000951-1774112400-1774126800@aanorthport.org
SUMMARY:Old Timers Dinner
DESCRIPTION:Join us to celebrate those who have walked the path of recovery for a quarter century or more.  Their experience\, strength and hope will light the way for us all. \n\n\n\n5:00 pm~ Fellowship \n\n\n\n6:00 pm~ Meatloaf dinner\, mashed potatoes\, brown gravy\, green beans\, roll & dessert served \n\n\n\n7:30 pm~ Speaker:  Jim M.  \n\n\n\nTickets $25.00 \n\n\n\nAvailable after 2/2/26 at the Intergroup Office located at 13325 Tamiami Trail\, Unit A\, North Port\, Florida 34287 \n\n\n\n \n\n\n\n50/50 Raffle! \n\n\n\nGift Basket Raffles!! \n\n\n\nCall the office at 1-941-426-7655 with any questions. \n\n\n\nNote: Advance tickets required. Tickets will NOT be sold at the door.
URL:https://aanorthport.org/event/old-timers-dinner-5/
LOCATION:700 E. Dearborn St.\, Englewood\, FL  34223\, 700 E. Dearborn St.\, Englewood\, Florida\, 34223
END:VEVENT
BEGIN:VEVENT
DTSTART;TZID=America/New_York:20260109T160000
DTEND;TZID=America/New_York:20260111T130000
DTSTAMP:20260423T124532
CREATED:20240719T025303Z
LAST-MODIFIED:20240719T025616Z
UID:10000827-1767974400-1768136400@aanorthport.org
SUMMARY:Area 15 Quarterly Assembly
DESCRIPTION:AREA 15 SUR DE LA FLORIDAASAMBLEA DE SERVICIOS GENERALES
URL:https://aanorthport.org/event/area-15-quarterly-assembly-10/
LOCATION:Ft Lauderdale Marriott North\, North Andrews Avenue\, Fort Lauderdale\, Florida\, 33309\, United States
CATEGORIES:Service Meetings
GEO:26.2077476;-80.142963
X-APPLE-STRUCTURED-LOCATION;VALUE=URI;X-ADDRESS=Ft Lauderdale Marriott North North Andrews Avenue Fort Lauderdale Florida 33309 United States;X-APPLE-RADIUS=500;X-TITLE=North Andrews Avenue:geo:-80.142963,26.2077476
END:VEVENT
BEGIN:VEVENT
DTSTART;TZID=America/New_York:20251224T090000
DTEND;TZID=America/New_York:20251225T180000
DTSTAMP:20260423T124532
CREATED:20250123T203708Z
LAST-MODIFIED:20250123T203744Z
UID:10000933-1766566800-1766685600@aanorthport.org
SUMMARY:Office Closed for Christmas Holiday
DESCRIPTION:The Intergroup Office will be closed Wednesday and Thursday for the Christmas Holiday.. We will be open as usual on Friday at 9:00 am.
URL:https://aanorthport.org/event/office-closed-for-christmas-holiday/
LOCATION:Intergroup Office of District 5 – SWFL\, 13325 Tamiami Trail\, Unit A\, North Port\, FL\, 34287\, United States
CATEGORIES:Group Events
GEO:27.046958;-82.252493
X-APPLE-STRUCTURED-LOCATION;VALUE=URI;X-ADDRESS=Intergroup Office of District 5 – SWFL 13325 Tamiami Trail Unit A North Port FL 34287 United States;X-APPLE-RADIUS=500;X-TITLE=13325 Tamiami Trail\, Unit A:geo:-82.252493,27.046958
END:VEVENT
BEGIN:VEVENT
DTSTART;TZID=America/New_York:20251127T090000
DTEND;TZID=America/New_York:20251128T180000
DTSTAMP:20260423T124532
CREATED:20250123T203413Z
LAST-MODIFIED:20250123T203416Z
UID:10000932-1764234000-1764352800@aanorthport.org
SUMMARY:Office Closed for Thanksgiving
DESCRIPTION:The Intergroup Office will be closed Thursday and Friday for Thanksgiving. We will be open as usual on Monday at 9:00 am.
URL:https://aanorthport.org/event/office-closed-for-thanksgiving/
LOCATION:Intergroup Office of District 5 – SWFL\, 13325 Tamiami Trail\, Unit A\, North Port\, FL\, 34287\, United States
CATEGORIES:Group Events
GEO:27.046958;-82.252493
X-APPLE-STRUCTURED-LOCATION;VALUE=URI;X-ADDRESS=Intergroup Office of District 5 – SWFL 13325 Tamiami Trail Unit A North Port FL 34287 United States;X-APPLE-RADIUS=500;X-TITLE=13325 Tamiami Trail\, Unit A:geo:-82.252493,27.046958
END:VEVENT
BEGIN:VEVENT
DTSTART;TZID=America/New_York:20251108T170000
DTEND;TZID=America/New_York:20251108T203000
DTSTAMP:20260423T124532
CREATED:20250922T150652Z
LAST-MODIFIED:20250922T150818Z
UID:10000949-1762621200-1762633800@aanorthport.org
SUMMARY:Gratitude Dinner
DESCRIPTION:5:00 pm Fellowship \n\n\n\n6:00 pm Turkey Dinner & Pumpkin Pie \n\n\n\n7:30 pm Speaker- Sue O. \n\n\n\n50/50 raffle\, gift basket raffles \n\n\n\nEnglewood United Methodist Church\, 700 E. Dearborn St.\, Englewood\, FL 34223
URL:https://aanorthport.org/event/gratitude-dinner-6/
LOCATION:Florida
END:VEVENT
BEGIN:VEVENT
DTSTART;TZID=America/New_York:20251107T080000
DTEND;TZID=America/New_York:20251109T170000
DTSTAMP:20260423T124532
CREATED:20250123T212018Z
LAST-MODIFIED:20250123T212037Z
UID:10000934-1762502400-1762707600@aanorthport.org
SUMMARY:Natl AA Technology Workshop (hybrid)
DESCRIPTION:Save the Date: November 7 – 9\, 2025 \n\n\n\n11th Annual National A.A. Technology Workshop – Hybrid \n\n\n\nMark your calendars and get ready to join us for our hybrid workshop\, in-person in Cincinnati or online \n\n\n\nRegistration info and the call for presenters is forthcoming \n\n\n\nView flyer
URL:https://aanorthport.org/event/natl-aa-technology-workshop-hybrid/
LOCATION:Florida
CATEGORIES:Group Events
END:VEVENT
BEGIN:VEVENT
DTSTART;TZID=America/New_York:20251025T190000
DTEND;TZID=America/New_York:20251025T220000
DTSTAMP:20260423T124532
CREATED:20250919T162010Z
LAST-MODIFIED:20250919T162800Z
UID:10000948-1761418800-1761429600@aanorthport.org
SUMMARY:Halloween Dance
DESCRIPTION:Easy Does It Club\, 23312 Harper Ave.\, Punta Gorda\, FL 33980 \n\n\n\nTickets are $10.00 in advance or $15.00 at the door.  Kids are free. \n\n\n\nOnly 100 tickets. Tickets available at Intergroup \n\n\n\nCostume Contests: \n\n\n\nprizes for \n\n\n\nBest Man Costume \n\n\n\nBest Woman Costume \n\n\n\nBest Couple Costume \n\n\n\nBest Kids Costume \n\n\n\nCostumes are optional
URL:https://aanorthport.org/event/halloween-dance-2/
LOCATION:Florida
END:VEVENT
BEGIN:VEVENT
DTSTART;TZID=America/New_York:20251014T180000
DTEND;TZID=America/New_York:20251014T200000
DTSTAMP:20260423T124532
CREATED:20250923T182105Z
LAST-MODIFIED:20250923T182109Z
UID:10000950-1760464800-1760472000@aanorthport.org
SUMMARY:Anniversary Potluck Dinner
DESCRIPTION:Dinner 6:00 pm \n\n\n\nSpeaker 7:00 pm \n\n\n\nPlease join us for food and fellowship! \n\n\n\nWe will be providing a main dish\, dessert and drinks.
URL:https://aanorthport.org/event/anniversary-potluck-dinner/
LOCATION:St. Nathaniel’s Episcopal Church\, 4200 S. Biscayne Dr.\, North Port\, FL\, 34287\, United States
GEO:27.0546961;-82.2454699
X-APPLE-STRUCTURED-LOCATION;VALUE=URI;X-ADDRESS=St. Nathaniel’s Episcopal Church 4200 S. Biscayne Dr. North Port FL 34287 United States;X-APPLE-RADIUS=500;X-TITLE=4200 S. Biscayne Dr.:geo:-82.2454699,27.0546961
END:VEVENT
BEGIN:VEVENT
DTSTART;TZID=America/New_York:20251003T203000
DTEND;TZID=America/New_York:20251005T090000
DTSTAMP:20260423T124532
CREATED:20250822T014344Z
LAST-MODIFIED:20250822T014348Z
UID:10000945-1759523400-1759654800@aanorthport.org
SUMMARY:General Service Assembly
DESCRIPTION:
URL:https://aanorthport.org/event/general-service-assembly/
LOCATION:Florida
END:VEVENT
BEGIN:VEVENT
DTSTART;TZID=America/New_York:20251003T160000
DTEND;TZID=America/New_York:20251005T130000
DTSTAMP:20260423T124532
CREATED:20240719T024240Z
LAST-MODIFIED:20240719T025015Z
UID:10000825-1759507200-1759669200@aanorthport.org
SUMMARY:Area 15 Quarterly Assembly
DESCRIPTION:AREA 15 SUR DE LA FLORIDAASAMBLEA DE SERVICIOS GENERALES
URL:https://aanorthport.org/event/area-15-quarterly-assembly-8/
LOCATION:Boca Raton Marriott\, Town Center Circle\, Boca Raton\, FL\, 33486\, United States
CATEGORIES:Service Meetings
GEO:26.3617206;-80.1227651
X-APPLE-STRUCTURED-LOCATION;VALUE=URI;X-ADDRESS=Boca Raton Marriott Town Center Circle Boca Raton FL 33486 United States;X-APPLE-RADIUS=500;X-TITLE=Town Center Circle:geo:-80.1227651,26.3617206
END:VEVENT
BEGIN:VEVENT
DTSTART;TZID=America/New_York:20250927T113000
DTEND;TZID=America/New_York:20250927T130000
DTSTAMP:20260423T124532
CREATED:20250902T210901Z
LAST-MODIFIED:20250902T210906Z
UID:10000946-1758972600-1758978000@aanorthport.org
SUMMARY:Celebration of Life for Ellen F.
DESCRIPTION:Center for Hope Church \n\n\n\n2395 Shamrock Blvd.\, Venice\, Florida  \n\n\n\nBring your memories and stories to share. \n\n\n\nZoom option  \n\n\n\nMeeting ID: 89125206752 \n\n\n\nPassword: sobriety
URL:https://aanorthport.org/event/celebration-of-life-for-ellen-f/
LOCATION:Florida
END:VEVENT
BEGIN:VEVENT
DTSTART;TZID=America/New_York:20250925T190000
DTEND;TZID=America/New_York:20250925T220000
DTSTAMP:20260423T124532
CREATED:20250911T155357Z
LAST-MODIFIED:20250911T155400Z
UID:10000947-1758826800-1758837600@aanorthport.org
SUMMARY:Halloween Party
DESCRIPTION:Easy Does It Club \n\n\n\n \n\n\n\n\n\nCostume prizes\, games\, finger foods\, beverages\, 50/50\, DJ
URL:https://aanorthport.org/event/halloween-party/
LOCATION:Florida
END:VEVENT
BEGIN:VEVENT
DTSTART;TZID=America/New_York:20250921T133000
DTEND;TZID=America/New_York:20250921T163000
DTSTAMP:20260423T124532
CREATED:20250802T012313Z
LAST-MODIFIED:20250802T012315Z
UID:10000944-1758461400-1758472200@aanorthport.org
SUMMARY:Joint Corrections Workshop
DESCRIPTION:corrections committee meeting. Info on bringing meetings to those that have no other contact with our program of recovery. Food and drinks provided. \n\n\n\nEastside Clubhouse AA \n\n\n\n2017 Goldenrod Rd.\, Orlando\, FL. 32807
URL:https://aanorthport.org/event/joint-corrections-workshop/
LOCATION:Florida
END:VEVENT
BEGIN:VEVENT
DTSTART;TZID=America/New_York:20250913T073000
DTEND;TZID=America/New_York:20250913T170000
DTSTAMP:20260423T124532
CREATED:20250707T204114Z
LAST-MODIFIED:20250707T204119Z
UID:10000940-1757748600-1757782800@aanorthport.org
SUMMARY:Friends of Bill W.  Annual Golf Tournament
DESCRIPTION:Rotonda Golf & Country Club – The Hills Course100 Rotonda Circle\, Rotonda West\, FL 33947Saturday\, September 13\, 2025
URL:https://aanorthport.org/event/friends-of-bill-w-annual-golf-tournament-2/
LOCATION:Florida
END:VEVENT
BEGIN:VEVENT
DTSTART;TZID=America/New_York:20250912T173000
DTEND;TZID=America/New_York:20250912T193000
DTSTAMP:20260423T124532
CREATED:20250725T124515Z
LAST-MODIFIED:20250727T004545Z
UID:10000943-1757698200-1757705400@aanorthport.org
SUMMARY:Friday Nite "It's in the Book" Meeting Celebrating Their 17 Year Anniversay!!
DESCRIPTION:Dinner at 5:30 pm🍴 \n\n\n\nSpeaker\, Angela B. at 6:30 pm 🗣 \n\n\n\nEveryone is invited!! 🎉🎊🧨
URL:https://aanorthport.org/event/friday-nite-its-in-the-book-meeting-celebrating-their-17-year-anniversay/
LOCATION:Florida
CATEGORIES:Group Events
END:VEVENT
BEGIN:VEVENT
DTSTART;TZID=America/New_York:20250729T183000
DTEND;TZID=America/New_York:20250729T200000
DTSTAMP:20260423T124532
CREATED:20250721T162423Z
LAST-MODIFIED:20250721T163117Z
UID:10000942-1753813800-1753819200@aanorthport.org
SUMMARY:Tuesday Night Step Group "40" Anniversary
DESCRIPTION:Come celebrate with us!   \n\n\n\nFood and Fellowship at 6:30 pm \n\n\n\nSpeakers (2) start at 7:00 pm
URL:https://aanorthport.org/event/tuesday-night-step-group-40-anniversary/
LOCATION:2300 Luther Road\, Port Charlotte\, FL  33983\, 2300 Luther Road\, Port Charlotte\, Florida\, 33983\, United States
END:VEVENT
BEGIN:VEVENT
DTSTART;TZID=America/New_York:20250704T090000
DTEND;TZID=America/New_York:20250704T180000
DTSTAMP:20260423T124532
CREATED:20250123T203034Z
LAST-MODIFIED:20250123T203112Z
UID:10000931-1751619600-1751652000@aanorthport.org
SUMMARY:Office closed for Independence Day
DESCRIPTION:The Intergroup Office will be closed today for the 4th of July. We will be open as usual on Monday starting at 9:00 am.
URL:https://aanorthport.org/event/office-closed-for-independence-day/
LOCATION:Florida
CATEGORIES:Group Events
END:VEVENT
BEGIN:VEVENT
DTSTART;TZID=America/New_York:20250526T090000
DTEND;TZID=America/New_York:20250526T180000
DTSTAMP:20260423T124532
CREATED:20250123T202635Z
LAST-MODIFIED:20250123T203153Z
UID:10000930-1748250000-1748282400@aanorthport.org
SUMMARY:Office Closed for Memorial Day
DESCRIPTION:The Intergroup Office will be closed today for Memorial Day. We will be open as usual on Tuesday at 9:00 am.
URL:https://aanorthport.org/event/office-closed-for-memorial-day/
LOCATION:Florida
CATEGORIES:Group Events
END:VEVENT
BEGIN:VEVENT
DTSTART;TZID=America/New_York:20250120T090000
DTEND;TZID=America/New_York:20250120T180000
DTSTAMP:20260423T124532
CREATED:20250123T212511Z
LAST-MODIFIED:20250123T212532Z
UID:10000936-1737363600-1737396000@aanorthport.org
SUMMARY:Office Closed on MLK Day
DESCRIPTION:The Intergroup Office will be closed on Martin Luther King Day. We will be open as usual on Tuesday at 9:00 am.
URL:https://aanorthport.org/event/office-closed-on-mlk-day/
LOCATION:Intergroup Office of District 5 – SWFL\, 13325 Tamiami Trail\, Unit A\, North Port\, FL\, 34287\, United States
CATEGORIES:Group Events
GEO:27.046958;-82.252493
X-APPLE-STRUCTURED-LOCATION;VALUE=URI;X-ADDRESS=Intergroup Office of District 5 – SWFL 13325 Tamiami Trail Unit A North Port FL 34287 United States;X-APPLE-RADIUS=500;X-TITLE=13325 Tamiami Trail\, Unit A:geo:-82.252493,27.046958
END:VEVENT
BEGIN:VEVENT
DTSTART;TZID=America/New_York:20250103T160000
DTEND;TZID=America/New_York:20250105T130000
DTSTAMP:20260423T124532
CREATED:20240719T022419Z
LAST-MODIFIED:20241011T134914Z
UID:10000820-1735920000-1736082000@aanorthport.org
SUMMARY:Area 15 Quarterly Assembly
DESCRIPTION:View flyer \n\n\n\n\n\n\n\nAREA 15 SUR DE LA FLORIDA ASAMBLEA DE SERVICIOS GENERALES \n\n\n\nVer folleto
URL:https://aanorthport.org/event/area-15-quarterly-assembly-3/
LOCATION:Hyatt Regency Hotel\, Sarasota\, FL\, 1000 Boulevard of the Arts\, Sarasota\,\, FL\, 34236
CATEGORIES:Service Meetings
GEO:27.340901;-82.5489636
X-APPLE-STRUCTURED-LOCATION;VALUE=URI;X-ADDRESS=Hyatt Regency Hotel Sarasota FL 1000 Boulevard of the Arts Sarasota FL 34236;X-APPLE-RADIUS=500;X-TITLE=1000 Boulevard of the Arts:geo:-82.5489636,27.340901
END:VEVENT
BEGIN:VEVENT
DTSTART;TZID=America/New_York:20250101T090000
DTEND;TZID=America/New_York:20250101T180000
DTSTAMP:20260423T124532
CREATED:20250123T212303Z
LAST-MODIFIED:20250123T212308Z
UID:10000935-1735722000-1735754400@aanorthport.org
SUMMARY:Office Closed on New Year's Day
DESCRIPTION:The Intergroup Office will be closed on New Year’s Day. We we re-open on Wednesday as usual starting at 9:00 am. Happy New Year!
URL:https://aanorthport.org/event/office-closed-on-new-years-day/
LOCATION:Intergroup Office of District 5 – SWFL\, 13325 Tamiami Trail\, Unit A\, North Port\, FL\, 34287\, United States
GEO:27.046958;-82.252493
X-APPLE-STRUCTURED-LOCATION;VALUE=URI;X-ADDRESS=Intergroup Office of District 5 – SWFL 13325 Tamiami Trail Unit A North Port FL 34287 United States;X-APPLE-RADIUS=500;X-TITLE=13325 Tamiami Trail\, Unit A:geo:-82.252493,27.046958
END:VEVENT
BEGIN:VEVENT
DTSTART;TZID=America/New_York:20241231T200000
DTEND;TZID=America/New_York:20250101T190000
DTSTAMP:20260423T124532
CREATED:20241228T034905Z
LAST-MODIFIED:20241228T035259Z
UID:10000924-1735675200-1735758000@aanorthport.org
SUMMARY:New Year's Eve/Day Alcathon - Another Chance
DESCRIPTION:If you are looking for a safe place and a meeting with fellow alcoholics\, Another Chance Group will be open on New Year’s Eve/Day.
URL:https://aanorthport.org/event/new-years-eve-alcathon/
LOCATION:Another Chance Group\, 2811 Tamiami Trail Unit K\, Port Charlotte\, FL\, 33592\, United States
CATEGORIES:Group Events
GEO:26.9885083;-82.1093434
X-APPLE-STRUCTURED-LOCATION;VALUE=URI;X-ADDRESS=Another Chance Group 2811 Tamiami Trail Unit K Port Charlotte FL 33592 United States;X-APPLE-RADIUS=500;X-TITLE=2811 Tamiami Trail Unit K:geo:-82.1093434,26.9885083
END:VEVENT
BEGIN:VEVENT
DTSTART;TZID=America/New_York:20241231T173000
DTEND;TZID=America/New_York:20250101T173000
DTSTAMP:20260423T124532
CREATED:20241207T163803Z
LAST-MODIFIED:20241228T035046Z
UID:10000922-1735666200-1735752600@aanorthport.org
SUMMARY:New Year's Eve/Day Alcathon - Englewood
DESCRIPTION:Please join us for the New Year’s Eve & New Year’s Day Alcathon 2025!  Sponsored by Monkey off Your Back at The Englewood Alano Club starting at  5:30pm New Year’s Eve to 5:30pm New Year’s Day! \n\n\n\n“Perhaps the best way of treating you to a glimpse of your future will be to describe the growth of the fellowship among us.”- AA pg 153 \n\n\n\nPlease feel free to bring snacks to share for fellowship. \n\n\n\nView flyer
URL:https://aanorthport.org/event/new-years-eve-day-alcathon/
LOCATION:Englewood Alano Club\, 2936 S. McCall Rd\, Englewood\, FL\, 34224
CATEGORIES:Group Events
GEO:26.936159;-82.311336
X-APPLE-STRUCTURED-LOCATION;VALUE=URI;X-ADDRESS=Englewood Alano Club 2936 S. McCall Rd Englewood FL 34224;X-APPLE-RADIUS=500;X-TITLE=2936 S. McCall Rd:geo:-82.311336,26.936159
END:VEVENT
BEGIN:VEVENT
DTSTART;TZID=America/New_York:20241231T100000
DTEND;TZID=America/New_York:20241231T120000
DTSTAMP:20260423T124532
CREATED:20241005T161549Z
LAST-MODIFIED:20241005T161551Z
UID:10000849-1735639200-1735646400@aanorthport.org
SUMMARY:Annual Bookstore Inventory
DESCRIPTION:Currently scheduled for Tuesday December 31st\, the bookstore will be closed that day – we can use some help with the counting! Two people are needed for each item counted – that’s a lot\, so if you or someone you know can help that morning starting at 10:00 am\, let us know at 941-426-7655.
URL:https://aanorthport.org/event/annual-bookstore-inventory/
LOCATION:Intergroup Office of District 5 – SWFL\, 13325 Tamiami Trail\, Unit A\, North Port\, FL\, 34287\, United States
CATEGORIES:Group Events
GEO:27.046958;-82.252493
X-APPLE-STRUCTURED-LOCATION;VALUE=URI;X-ADDRESS=Intergroup Office of District 5 – SWFL 13325 Tamiami Trail Unit A North Port FL 34287 United States;X-APPLE-RADIUS=500;X-TITLE=13325 Tamiami Trail\, Unit A:geo:-82.252493,27.046958
END:VEVENT
BEGIN:VEVENT
DTSTART;TZID=America/New_York:20241224T173000
DTEND;TZID=America/New_York:20241225T173000
DTSTAMP:20260423T124532
CREATED:20241207T162859Z
LAST-MODIFIED:20241207T163047Z
UID:10000921-1735061400-1735147800@aanorthport.org
SUMMARY:Christmas Eve/Day Alcathon
DESCRIPTION:Tis The Season for Holiday Cheer!In the Spirit of AA we invite all who wish to join us for Christmas Eve/Day Alcathon! Sponsored by A Vision for You YPG at The Englewood Alano Club starting Alcathon is at 5:30pm Christmas Eve to 5:30pm Christmas Day. \n\n\n\nEach meeting is 50 minutes so that the next meeting can set up. Snacks and drinks are welcome to share for fellowshipPlease come join us and dress festive if you wish! \n\n\n\nView flyer
URL:https://aanorthport.org/event/christmas-eve-day-alcathon/
LOCATION:Englewood Alano Club\, 2936 S. McCall Rd\, Englewood\, FL\, 34224
CATEGORIES:Group Events
GEO:26.936159;-82.311336
X-APPLE-STRUCTURED-LOCATION;VALUE=URI;X-ADDRESS=Englewood Alano Club 2936 S. McCall Rd Englewood FL 34224;X-APPLE-RADIUS=500;X-TITLE=2936 S. McCall Rd:geo:-82.311336,26.936159
END:VEVENT
END:VCALENDAR