BEGIN:VCALENDAR
VERSION:2.0
PRODID:-//Intergroup - District 5 Florida - ECPv6.15.20//NONSGML v1.0//EN
CALSCALE:GREGORIAN
METHOD:PUBLISH
X-WR-CALNAME:Intergroup - District 5 Florida
X-ORIGINAL-URL:https://aanorthport.org
X-WR-CALDESC:Events for Intergroup - District 5 Florida
REFRESH-INTERVAL;VALUE=DURATION:PT1H
X-Robots-Tag:noindex
X-PUBLISHED-TTL:PT1H
BEGIN:VTIMEZONE
TZID:America/New_York
BEGIN:DAYLIGHT
TZOFFSETFROM:-0500
TZOFFSETTO:-0400
TZNAME:EDT
DTSTART:20230312T070000
END:DAYLIGHT
BEGIN:STANDARD
TZOFFSETFROM:-0400
TZOFFSETTO:-0500
TZNAME:EST
DTSTART:20231105T060000
END:STANDARD
BEGIN:DAYLIGHT
TZOFFSETFROM:-0500
TZOFFSETTO:-0400
TZNAME:EDT
DTSTART:20240310T070000
END:DAYLIGHT
BEGIN:STANDARD
TZOFFSETFROM:-0400
TZOFFSETTO:-0500
TZNAME:EST
DTSTART:20241103T060000
END:STANDARD
BEGIN:DAYLIGHT
TZOFFSETFROM:-0500
TZOFFSETTO:-0400
TZNAME:EDT
DTSTART:20250309T070000
END:DAYLIGHT
BEGIN:STANDARD
TZOFFSETFROM:-0400
TZOFFSETTO:-0500
TZNAME:EST
DTSTART:20251102T060000
END:STANDARD
END:VTIMEZONE
BEGIN:VEVENT
DTSTART;TZID=America/New_York:20240503T170000
DTEND;TZID=America/New_York:20240505T120000
DTSTAMP:20260425T070606
CREATED:20240216T192908Z
LAST-MODIFIED:20240417T131835Z
UID:10000554-1714755600-1714910400@aanorthport.org
SUMMARY:23rd Spring Into Sobriety (SIS) Women's Conference
DESCRIPTION:$40 registration is required to attend\, Friday night\, Saturday lunch and Saturday night Banquet are extra.  \n\n\n\nThe conference has grown\, and the Hotel Venezia may not be able to accommodate everyone – check out the Fairfield Inn and the Townplace Suites nearby. Download or print flyer.
URL:https://aanorthport.org/event/23rd-spring-into-sobriety-sis-womens-conference/
LOCATION:Hotel Venezia\, Venice\, FL\, 425 US 41 Bypass North\, Venice\, Florida\, 34285\, United States
CATEGORIES:Group Events
GEO:27.1053401;-82.4371371
X-APPLE-STRUCTURED-LOCATION;VALUE=URI;X-ADDRESS=Hotel Venezia Venice FL 425 US 41 Bypass North Venice Florida 34285 United States;X-APPLE-RADIUS=500;X-TITLE=425 US 41 Bypass North:geo:-82.4371371,27.1053401
END:VEVENT
BEGIN:VEVENT
DTSTART;TZID=America/New_York:20240504T170000
DTEND;TZID=America/New_York:20240504T200000
DTSTAMP:20260425T070606
CREATED:20240425T210006Z
LAST-MODIFIED:20240425T210855Z
UID:10000736-1714842000-1714852800@aanorthport.org
SUMMARY:Can Do Speaker Mtg - Anniversary Dinner
DESCRIPTION:Come celebrate with the Can Do speaker meeting!Doors open at 5:00pm\, dinner is at 6:00pm and the meeting starts at 7:00pm. \n\n\n\nCan Do Speaker Mtg  Anniv.Download
URL:https://aanorthport.org/event/can-do-speaker-mtg-anniversary-dinner/
LOCATION:Trinity Presbitarian Church\, 4365 State Road 776\, Venice\, Florida\, 34293
CATEGORIES:Group Events
GEO:27.0453142;-82.4023882
X-APPLE-STRUCTURED-LOCATION;VALUE=URI;X-ADDRESS=Trinity Presbitarian Church 4365 State Road 776 Venice Florida 34293;X-APPLE-RADIUS=500;X-TITLE=4365 State Road 776:geo:-82.4023882,27.0453142
END:VEVENT
BEGIN:VEVENT
DTSTART;TZID=America/New_York:20240509T180000
DTEND;TZID=America/New_York:20240509T180000
DTSTAMP:20260425T070606
CREATED:20240417T125823Z
LAST-MODIFIED:20240417T125829Z
UID:10000569-1715277600-1715277600@aanorthport.org
SUMMARY:No Events Committee Meeting tonight
DESCRIPTION:
URL:https://aanorthport.org/event/no-events-committee-meeting-tonight-2/
LOCATION:Florida
CATEGORIES:Service Meetings
END:VEVENT
BEGIN:VEVENT
DTSTART;TZID=America/New_York:20240521T190000
DTEND;TZID=America/New_York:20240521T200000
DTSTAMP:20260425T070606
CREATED:20240417T131019Z
LAST-MODIFIED:20240417T131021Z
UID:10000674-1716318000-1716321600@aanorthport.org
SUMMARY:District 5 Business Meeting
DESCRIPTION:GSR Sharing 6:00pmDistrict 5 Business Meeting 7:00pm\n\n\n\nGSR sharing is at 6:00pm \n\n\n\nDistrict 5 Business meeting starts at 7:00pm
URL:https://aanorthport.org/event/district-5-business-meeting/2024-05-21/
LOCATION:St. Nathaniel’s Episcopal Church\, 4200 S. Biscayne Dr.\, North Port\, FL\, 34287\, United States
CATEGORIES:Service Meetings
GEO:27.0546961;-82.2454699
X-APPLE-STRUCTURED-LOCATION;VALUE=URI;X-ADDRESS=St. Nathaniel’s Episcopal Church 4200 S. Biscayne Dr. North Port FL 34287 United States;X-APPLE-RADIUS=500;X-TITLE=4200 S. Biscayne Dr.:geo:-82.2454699,27.0546961
END:VEVENT
BEGIN:VEVENT
DTSTART;TZID=America/New_York:20240527T130000
DTEND;TZID=America/New_York:20240527T150000
DTSTAMP:20260425T070606
CREATED:20240508T155007Z
LAST-MODIFIED:20240509T124019Z
UID:10000742-1716814800-1716822000@aanorthport.org
SUMMARY:Memorial Day Picnic
DESCRIPTION:Food\, Fun and Fellowship! Sponsored by the groups that meet at the Easy Does It club. \n\n\n\nWe furnish hamburgers\, hotdogs and drinks and ask you to bring a dish to share.
URL:https://aanorthport.org/event/memorial-day-picnic-2/
LOCATION:Easy Does It Club\, 23312 Harper Avenue\, Port Charlotte\, FL\, 33980\, United States
CATEGORIES:Group Events
GEO:26.9620639;-82.0638244
X-APPLE-STRUCTURED-LOCATION;VALUE=URI;X-ADDRESS=Easy Does It Club 23312 Harper Avenue Port Charlotte FL 33980 United States;X-APPLE-RADIUS=500;X-TITLE=23312 Harper Avenue:geo:-82.0638244,26.9620639
END:VEVENT
BEGIN:VEVENT
DTSTART;TZID=America/New_York:20240530T170000
DTEND;TZID=America/New_York:20240530T190000
DTSTAMP:20260425T070606
CREATED:20240509T123727Z
LAST-MODIFIED:20240509T123729Z
UID:10000744-1717088400-1717095600@aanorthport.org
SUMMARY:Alanon/AA Speaker Meeting
DESCRIPTION:The Light In Recovery Group Thursdays 5:30 PM is hosting our quarterly Al-Anon/AA Speaker Meeting  \n\n\n\nMay 30th\, 2024 5:00 Food & Fellowship 5:30-6:30 Speakers 50/50 Raffle  \n\n\n\nOpen meeting all are welcome!  \n\n\n\nPlease bring an appetizer\, dessert\, or beverage for the food table if you can…  \n\n\n\nWe can always use extra hands for clean up!
URL:https://aanorthport.org/event/alanon-aa-speaker-meeting/
LOCATION:South Venice Baptist Church\, 3167 Englewood Rd\, Venice\, Florida\, 34293\, United States
CATEGORIES:Group Events
GEO:27.059777;-82.4135345
X-APPLE-STRUCTURED-LOCATION;VALUE=URI;X-ADDRESS=South Venice Baptist Church 3167 Englewood Rd Venice Florida 34293 United States;X-APPLE-RADIUS=500;X-TITLE=3167 Englewood Rd:geo:-82.4135345,27.059777
END:VEVENT
BEGIN:VEVENT
DTSTART;TZID=America/New_York:20240531T083000
DTEND;TZID=America/New_York:20240531T090000
DTSTAMP:20260425T070606
CREATED:20240524T163500Z
LAST-MODIFIED:20240524T163503Z
UID:10000806-1717144200-1717146000@aanorthport.org
SUMMARY:39th Anniversary - I Am Responsible Group
DESCRIPTION:View flyer.
URL:https://aanorthport.org/event/39th-anniversary-i-am-responsible-group/
LOCATION:Living Waters Lutheran Church\, 12475 Chancellor Blvd\, North Port\, FL\, United States
CATEGORIES:Group Events
GEO:27.0329661;-82.2406311
X-APPLE-STRUCTURED-LOCATION;VALUE=URI;X-ADDRESS=Living Waters Lutheran Church 12475 Chancellor Blvd North Port FL United States;X-APPLE-RADIUS=500;X-TITLE=12475 Chancellor Blvd:geo:-82.2406311,27.0329661
END:VEVENT
END:VCALENDAR