BEGIN:VCALENDAR
VERSION:2.0
PRODID:-//Intergroup - District 5 Florida - ECPv6.15.20//NONSGML v1.0//EN
CALSCALE:GREGORIAN
METHOD:PUBLISH
X-ORIGINAL-URL:https://aanorthport.org
X-WR-CALDESC:Events for Intergroup - District 5 Florida
REFRESH-INTERVAL;VALUE=DURATION:PT1H
X-Robots-Tag:noindex
X-PUBLISHED-TTL:PT1H
BEGIN:VTIMEZONE
TZID:America/New_York
BEGIN:DAYLIGHT
TZOFFSETFROM:-0500
TZOFFSETTO:-0400
TZNAME:EDT
DTSTART:20230312T070000
END:DAYLIGHT
BEGIN:STANDARD
TZOFFSETFROM:-0400
TZOFFSETTO:-0500
TZNAME:EST
DTSTART:20231105T060000
END:STANDARD
BEGIN:DAYLIGHT
TZOFFSETFROM:-0500
TZOFFSETTO:-0400
TZNAME:EDT
DTSTART:20240310T070000
END:DAYLIGHT
BEGIN:STANDARD
TZOFFSETFROM:-0400
TZOFFSETTO:-0500
TZNAME:EST
DTSTART:20241103T060000
END:STANDARD
BEGIN:DAYLIGHT
TZOFFSETFROM:-0500
TZOFFSETTO:-0400
TZNAME:EDT
DTSTART:20250309T070000
END:DAYLIGHT
BEGIN:STANDARD
TZOFFSETFROM:-0400
TZOFFSETTO:-0500
TZNAME:EST
DTSTART:20251102T060000
END:STANDARD
END:VTIMEZONE
BEGIN:VEVENT
DTSTART;VALUE=DATE:20240801
DTEND;VALUE=DATE:20240805
DTSTAMP:20260424T233245
CREATED:20240104T205929Z
LAST-MODIFIED:20240719T021603Z
UID:10000375-1722470400-1722815999@aanorthport.org
SUMMARY:67th Florida State Convention
DESCRIPTION:Held at the Hyatt Regency Jacksonville – RiverfrontAug 1-4\, 2024 \n \nFlyer/registration        \n67ava Convención Estatal de la Florida  \nFoletto/registracion
URL:https://aanorthport.org/event/67th-florida-state-convention/
LOCATION:Hyatt Regency Jacksonville\, 225 East Coastline Dr.\, Jacksonville\, FL\, 32202
CATEGORIES:Group Events
GEO:30.3241746;-81.655438
X-APPLE-STRUCTURED-LOCATION;VALUE=URI;X-ADDRESS=Hyatt Regency Jacksonville 225 East Coastline Dr. Jacksonville FL 32202;X-APPLE-RADIUS=500;X-TITLE=225 East Coastline Dr.:geo:-81.655438,30.3241746
END:VEVENT
BEGIN:VEVENT
DTSTART;TZID=America/New_York:20240801T180000
DTEND;TZID=America/New_York:20240801T190000
DTSTAMP:20260424T233245
CREATED:20240719T013124Z
LAST-MODIFIED:20240719T013126Z
UID:10000317-1722535200-1722538800@aanorthport.org
SUMMARY:Steering Committee Meeting (hybrid)
DESCRIPTION:The Intergroup Steering Committee meets every 1st Thursday of the month – in person and online. \nJoin Zoom Meeting\nhttps://us02web.zoom.us/j/86123447161?pwd=RUJqazlRS0c1MjA1dW1pZkI5UEVsZz09 \nMeeting ID: 861 2344 7161\nPasscode: 123456
URL:https://aanorthport.org/event/steering-committee-meeting-hybrid-3/2024-08-01/
LOCATION:Intergroup Office of District 5 – SWFL\, 13325 Tamiami Trail\, Unit A\, North Port\, FL\, 34287\, United States
CATEGORIES:Service Meetings
GEO:27.046958;-82.252493
X-APPLE-STRUCTURED-LOCATION;VALUE=URI;X-ADDRESS=Intergroup Office of District 5 – SWFL 13325 Tamiami Trail Unit A North Port FL 34287 United States;X-APPLE-RADIUS=500;X-TITLE=13325 Tamiami Trail\, Unit A:geo:-82.252493,27.046958
END:VEVENT
BEGIN:VEVENT
DTSTART;TZID=America/New_York:20240808T180000
DTEND;TZID=America/New_York:20240808T190000
DTSTAMP:20260424T233245
CREATED:20240426T111140Z
LAST-MODIFIED:20240426T111142Z
UID:10000572-1723140000-1723143600@aanorthport.org
SUMMARY:Events Committee Meeting (hybrid)
DESCRIPTION:Intergroup Events Committee hybrid meeting (in person at Intergroup office and online via Zoom) – every 2nd Thursday of the month at 6:00 pm \n\n\n\nJoin meeting onlinehttps://us02web.zoom.us/j/85833512842pwd=MEdYQ2tYKzg2dU9hWkg0cWV1RkM4QT09 \n\n\n\nZoom ID:  858 3351 2842Passcode:  417873 \n\n\n\nWe are always looking for volunteers!
URL:https://aanorthport.org/event/events-committee-meeting-3/2024-08-08/
LOCATION:Intergroup Office of District 5 – SWFL\, 13325 Tamiami Trail\, Unit A\, North Port\, FL\, 34287\, United States
CATEGORIES:Service Meetings
GEO:27.046958;-82.252493
X-APPLE-STRUCTURED-LOCATION;VALUE=URI;X-ADDRESS=Intergroup Office of District 5 – SWFL 13325 Tamiami Trail Unit A North Port FL 34287 United States;X-APPLE-RADIUS=500;X-TITLE=13325 Tamiami Trail\, Unit A:geo:-82.252493,27.046958
END:VEVENT
BEGIN:VEVENT
DTSTART;TZID=America/New_York:20240815T180000
DTEND;TZID=America/New_York:20240815T190000
DTSTAMP:20260424T233245
CREATED:20240517T005039Z
LAST-MODIFIED:20240607T000449Z
UID:10000748-1723744800-1723748400@aanorthport.org
SUMMARY:IGR Meeting (hybrid)
DESCRIPTION:Intergroup Representative (IGR) Meeting\, in person  and online – NOTICE MEETING TIME CHANGE \n\n\n\nMeeting ID: 894 7593 7488Passcode: 246810 \n\n\n\nJoin Zoom Meetinghttps://us02web.zoom.us/j/89475937488?pwd=SGhSNHl6L1N3aExFb0h4UTFtdnNrUT09
URL:https://aanorthport.org/event/49558/2024-08-15/
LOCATION:Intergroup Office of District 5 – SWFL\, 13325 Tamiami Trail\, Unit A\, North Port\, FL\, 34287\, United States
CATEGORIES:Service Meetings
GEO:27.046958;-82.252493
X-APPLE-STRUCTURED-LOCATION;VALUE=URI;X-ADDRESS=Intergroup Office of District 5 – SWFL 13325 Tamiami Trail Unit A North Port FL 34287 United States;X-APPLE-RADIUS=500;X-TITLE=13325 Tamiami Trail\, Unit A:geo:-82.252493,27.046958
END:VEVENT
BEGIN:VEVENT
DTSTART;TZID=America/New_York:20240816T100000
DTEND;TZID=America/New_York:20240818T120000
DTSTAMP:20260424T233245
CREATED:20240228T122916Z
LAST-MODIFIED:20240417T132043Z
UID:10000556-1723802400-1723982400@aanorthport.org
SUMMARY:Woman to Woman Conference
DESCRIPTION:28th Annual Southeast Woman to Woman Conference at the Hilton Charlotte University Place\, in Charlotte\, NC. \n\n\n\nTheme: Our Common Bond – view registration form.
URL:https://aanorthport.org/event/woman-to-woman-conference/
LOCATION:Hilton Charlotte University Place\, 8629 JM Keynes Drive\, Charlotte\, North Carolina\, 28262
CATEGORIES:Group Events
GEO:35.3088457;-80.7506283
X-APPLE-STRUCTURED-LOCATION;VALUE=URI;X-ADDRESS=Hilton Charlotte University Place 8629 JM Keynes Drive Charlotte North Carolina 28262;X-APPLE-RADIUS=500;X-TITLE=8629 JM Keynes Drive:geo:-80.7506283,35.3088457
END:VEVENT
BEGIN:VEVENT
DTSTART;TZID=America/New_York:20240827T180000
DTEND;TZID=America/New_York:20240827T200000
DTSTAMP:20260424T233245
CREATED:20240814T112319Z
LAST-MODIFIED:20240827T132829Z
UID:10000677-1724781600-1724788800@aanorthport.org
SUMMARY:District 5 Business Meeting
DESCRIPTION:GSR Sharing/District 5 Business Meeting rescheduled to August 27th\n\n\n\nPLEASE SPREAD THE WORD!!!  Due to a scheduling conflict\, this month’s GSR sharing session and District 5 business meeting will take place on August 27th instead of August 20th.  As usual\, it will be held at St Nathaniel’s Episcopal Church in North Port.  \n\n\n\nThe GSR sharing begins at 6:00 p.m. and the business meeting begins at 7:00 p.m. This change was necessary since our normal meeting Day falls on Election Day and Saint Nathaniel’s is the polling place for two precincts. \n\n\n\nThank you for the understanding.
URL:https://aanorthport.org/event/district-5-business-meeting-2/
LOCATION:St. Nathaniel’s Episcopal Church\, 4200 S. Biscayne Dr.\, North Port\, FL\, 34287\, United States
CATEGORIES:Service Meetings
GEO:27.0546961;-82.2454699
X-APPLE-STRUCTURED-LOCATION;VALUE=URI;X-ADDRESS=St. Nathaniel’s Episcopal Church 4200 S. Biscayne Dr. North Port FL 34287 United States;X-APPLE-RADIUS=500;X-TITLE=4200 S. Biscayne Dr.:geo:-82.2454699,27.0546961
END:VEVENT
END:VCALENDAR