BEGIN:VCALENDAR
VERSION:2.0
PRODID:-//Intergroup - District 5 Florida - ECPv6.15.20//NONSGML v1.0//EN
CALSCALE:GREGORIAN
METHOD:PUBLISH
X-WR-CALNAME:Intergroup - District 5 Florida
X-ORIGINAL-URL:https://aanorthport.org
X-WR-CALDESC:Events for Intergroup - District 5 Florida
REFRESH-INTERVAL;VALUE=DURATION:PT1H
X-Robots-Tag:noindex
X-PUBLISHED-TTL:PT1H
BEGIN:VTIMEZONE
TZID:America/New_York
BEGIN:DAYLIGHT
TZOFFSETFROM:-0500
TZOFFSETTO:-0400
TZNAME:EDT
DTSTART:20230312T070000
END:DAYLIGHT
BEGIN:STANDARD
TZOFFSETFROM:-0400
TZOFFSETTO:-0500
TZNAME:EST
DTSTART:20231105T060000
END:STANDARD
BEGIN:DAYLIGHT
TZOFFSETFROM:-0500
TZOFFSETTO:-0400
TZNAME:EDT
DTSTART:20240310T070000
END:DAYLIGHT
BEGIN:STANDARD
TZOFFSETFROM:-0400
TZOFFSETTO:-0500
TZNAME:EST
DTSTART:20241103T060000
END:STANDARD
BEGIN:DAYLIGHT
TZOFFSETFROM:-0500
TZOFFSETTO:-0400
TZNAME:EDT
DTSTART:20250309T070000
END:DAYLIGHT
BEGIN:STANDARD
TZOFFSETFROM:-0400
TZOFFSETTO:-0500
TZNAME:EST
DTSTART:20251102T060000
END:STANDARD
END:VTIMEZONE
BEGIN:VEVENT
DTSTART;TZID=America/New_York:20240902T130000
DTEND;TZID=America/New_York:20240902T150000
DTSTAMP:20260424T214604
CREATED:20240816T224616Z
LAST-MODIFIED:20240820T223733Z
UID:10000835-1725282000-1725289200@aanorthport.org
SUMMARY:Annual Labor Day Luau
DESCRIPTION:Annual Labor Day Luau sponsored by the groups of the Easy Does It Club. Bring a dish to share and join us for some food\, fun\, and fellowship! \n\n\n\nView Flyer
URL:https://aanorthport.org/event/50213/
LOCATION:Easy Does It Club\, 23312 Harper Avenue\, Port Charlotte\, FL\, 33980\, United States
CATEGORIES:Group Events
GEO:26.9620639;-82.0638244
X-APPLE-STRUCTURED-LOCATION;VALUE=URI;X-ADDRESS=Easy Does It Club 23312 Harper Avenue Port Charlotte FL 33980 United States;X-APPLE-RADIUS=500;X-TITLE=23312 Harper Avenue:geo:-82.0638244,26.9620639
END:VEVENT
BEGIN:VEVENT
DTSTART;TZID=America/New_York:20240905T180000
DTEND;TZID=America/New_York:20240905T190000
DTSTAMP:20260424T214604
CREATED:20240719T013124Z
LAST-MODIFIED:20240719T013126Z
UID:10000318-1725559200-1725562800@aanorthport.org
SUMMARY:Steering Committee Meeting (hybrid)
DESCRIPTION:The Intergroup Steering Committee meets every 1st Thursday of the month – in person and online. \nJoin Zoom Meeting\nhttps://us02web.zoom.us/j/86123447161?pwd=RUJqazlRS0c1MjA1dW1pZkI5UEVsZz09 \nMeeting ID: 861 2344 7161\nPasscode: 123456
URL:https://aanorthport.org/event/steering-committee-meeting-hybrid-3/2024-09-05/
LOCATION:Intergroup Office of District 5 – SWFL\, 13325 Tamiami Trail\, Unit A\, North Port\, FL\, 34287\, United States
CATEGORIES:Service Meetings
GEO:27.046958;-82.252493
X-APPLE-STRUCTURED-LOCATION;VALUE=URI;X-ADDRESS=Intergroup Office of District 5 – SWFL 13325 Tamiami Trail Unit A North Port FL 34287 United States;X-APPLE-RADIUS=500;X-TITLE=13325 Tamiami Trail\, Unit A:geo:-82.252493,27.046958
END:VEVENT
BEGIN:VEVENT
DTSTART;TZID=America/New_York:20240912T180000
DTEND;TZID=America/New_York:20240912T190000
DTSTAMP:20260424T214604
CREATED:20240818T205809Z
LAST-MODIFIED:20240818T210153Z
UID:10000573-1726164000-1726167600@aanorthport.org
SUMMARY:Events Committee Meeting (hybrid)
DESCRIPTION:Tonight we pack the “goody” bags to be distributed at the Golf Tournament on September 14th. Come by and help us! \n\n\n\nIntergroup Events Committee hybrid meeting (in person at Intergroup office and online via Zoom) – every 2nd Thursday of the month at 6:00 pm \n\n\n\nJoin meeting onlinehttps://us02web.zoom.us/j/85833512842pwd=MEdYQ2tYKzg2dU9hWkg0cWV1RkM4QT09 \n\n\n\nZoom ID:  858 3351 2842Passcode:  417873 \n\n\n\nWe are always looking for volunteers!
URL:https://aanorthport.org/event/events-committee-meeting-hybrid/
LOCATION:Intergroup Office of District 5 – SWFL\, 13325 Tamiami Trail\, Unit A\, North Port\, FL\, 34287\, United States
CATEGORIES:Service Meetings
GEO:27.046958;-82.252493
X-APPLE-STRUCTURED-LOCATION;VALUE=URI;X-ADDRESS=Intergroup Office of District 5 – SWFL 13325 Tamiami Trail Unit A North Port FL 34287 United States;X-APPLE-RADIUS=500;X-TITLE=13325 Tamiami Trail\, Unit A:geo:-82.252493,27.046958
END:VEVENT
BEGIN:VEVENT
DTSTART;TZID=America/New_York:20240914T070000
DTEND;TZID=America/New_York:20240914T170000
DTSTAMP:20260424T214604
CREATED:20240621T163229Z
LAST-MODIFIED:20240621T163651Z
UID:10000811-1726297200-1726333200@aanorthport.org
SUMMARY:Friends of Bill W. Annual Golf Tournament
DESCRIPTION:Teams and Single Players WelcomeCheck in 7:00 AM / Coffee & Doughnuts Shotgun start 8:00 AM– $95 registration per player includes chef-prepared luncheon– “Meal Only” tickets available $35
URL:https://aanorthport.org/event/golf-tournament/
LOCATION:Pelican Pointe Golf and Country Club\, 499 Derbyshire Drive\, Venice\, FL\, 34285\, United States
CATEGORIES:Group Events
GEO:27.0861381;-82.4041936
X-APPLE-STRUCTURED-LOCATION;VALUE=URI;X-ADDRESS=Pelican Pointe Golf and Country Club 499 Derbyshire Drive Venice FL 34285 United States;X-APPLE-RADIUS=500;X-TITLE=499 Derbyshire Drive:geo:-82.4041936,27.0861381
END:VEVENT
BEGIN:VEVENT
DTSTART;TZID=America/New_York:20240917T190000
DTEND;TZID=America/New_York:20240917T200000
DTSTAMP:20260424T214604
CREATED:20240827T133019Z
LAST-MODIFIED:20240827T133023Z
UID:10000840-1726599600-1726603200@aanorthport.org
SUMMARY:District 5 Business Meeting
DESCRIPTION:GSR Sharing 6:00pmDistrict 5 Business Meeting 7:00pm\n\n\n\nGSR sharing is at 6:00pm \n\n\n\nDistrict 5 Business meeting starts at 7:00pm
URL:https://aanorthport.org/event/district-5-business-meeting-3/2024-09-17/
LOCATION:St. Nathaniel’s Episcopal Church\, 4200 S. Biscayne Dr.\, North Port\, FL\, 34287\, United States
CATEGORIES:Service Meetings
GEO:27.0546961;-82.2454699
X-APPLE-STRUCTURED-LOCATION;VALUE=URI;X-ADDRESS=St. Nathaniel’s Episcopal Church 4200 S. Biscayne Dr. North Port FL 34287 United States;X-APPLE-RADIUS=500;X-TITLE=4200 S. Biscayne Dr.:geo:-82.2454699,27.0546961
END:VEVENT
BEGIN:VEVENT
DTSTART;TZID=America/New_York:20240919T180000
DTEND;TZID=America/New_York:20240919T190000
DTSTAMP:20260424T214604
CREATED:20240517T005039Z
LAST-MODIFIED:20240607T000449Z
UID:10000749-1726768800-1726772400@aanorthport.org
SUMMARY:IGR Meeting (hybrid)
DESCRIPTION:Intergroup Representative (IGR) Meeting\, in person  and online – NOTICE MEETING TIME CHANGE \n\n\n\nMeeting ID: 894 7593 7488Passcode: 246810 \n\n\n\nJoin Zoom Meetinghttps://us02web.zoom.us/j/89475937488?pwd=SGhSNHl6L1N3aExFb0h4UTFtdnNrUT09
URL:https://aanorthport.org/event/49558/2024-09-19/
LOCATION:Intergroup Office of District 5 – SWFL\, 13325 Tamiami Trail\, Unit A\, North Port\, FL\, 34287\, United States
CATEGORIES:Service Meetings
GEO:27.046958;-82.252493
X-APPLE-STRUCTURED-LOCATION;VALUE=URI;X-ADDRESS=Intergroup Office of District 5 – SWFL 13325 Tamiami Trail Unit A North Port FL 34287 United States;X-APPLE-RADIUS=500;X-TITLE=13325 Tamiami Trail\, Unit A:geo:-82.252493,27.046958
END:VEVENT
BEGIN:VEVENT
DTSTART;TZID=America/New_York:20240920T173000
DTEND;TZID=America/New_York:20240920T193000
DTSTAMP:20260424T214604
CREATED:20240812T133650Z
LAST-MODIFIED:20240812T133724Z
UID:10000831-1726853400-1726860600@aanorthport.org
SUMMARY:It's in the Book - 16th Anniversary
DESCRIPTION:Potluck at 5:30 – Speaker Carol R at 6:30pm \n\n\n\nAll are welcome! See flyer
URL:https://aanorthport.org/event/its-in-the-book-16th-anniversary/
LOCATION:Edgewater Church\, 19190 Cochran Blvd\, Port Charlotte\, FL\, 33948\, United States
CATEGORIES:Group Events
GEO:27.0061654;-82.1357475
X-APPLE-STRUCTURED-LOCATION;VALUE=URI;X-ADDRESS=Edgewater Church 19190 Cochran Blvd Port Charlotte FL 33948 United States;X-APPLE-RADIUS=500;X-TITLE=19190 Cochran Blvd:geo:-82.1357475,27.0061654
END:VEVENT
BEGIN:VEVENT
DTSTART;TZID=America/New_York:20240921T100000
DTEND;TZID=America/New_York:20240921T113000
DTSTAMP:20260424T214604
CREATED:20240718T164826Z
LAST-MODIFIED:20240919T201123Z
UID:10000814-1726912800-1726918200@aanorthport.org
SUMMARY:Virtual "Service" Sponsorship Workshop
DESCRIPTION:Take your service to the next level! \n\n\n\nTopics include: –  The importance of rotation–  Understanding our service structure–  Service sponsorship–  Honoring all 36 principles \n\n\n\nJoin on ZoomMtg ID: 858 6626 7787Pswd: District5 \n\n\n\nVirtual workshopDownload
URL:https://aanorthport.org/event/virtual-service-sponsorship-workshop/
LOCATION:Online Meeting via Zoom
CATEGORIES:Service Meetings
END:VEVENT
BEGIN:VEVENT
DTSTART;TZID=America/New_York:20240922T140000
DTEND;TZID=America/New_York:20240922T170000
DTSTAMP:20260424T214604
CREATED:20240919T200211Z
LAST-MODIFIED:20240919T201055Z
UID:10000846-1727013600-1727024400@aanorthport.org
SUMMARY:Corrections Workshop (hybrid)
DESCRIPTION:Area 14 and Area 15 present a hybrid and in-person Corrections Workshop. Joins us for panels of speakers on their work in Corrections within Alcoholics Anonymous. Refreshments and snacks provided – View flyer. \n\n\n\nAt least 30 minutes of our workshop will be dedicated to orientation for those willing to serve. \n\n\n\nZoom ID 635 056 5844 – Passcode 121415
URL:https://aanorthport.org/event/corrections-workshop-hybrid/
LOCATION:The Triangle Club\, 1369 Old Okeechobee Rd\, West Palm Beach\, Florida
CATEGORIES:Service Meetings
END:VEVENT
END:VCALENDAR