BEGIN:VCALENDAR
VERSION:2.0
PRODID:-//Intergroup - District 5 Florida - ECPv6.15.20//NONSGML v1.0//EN
CALSCALE:GREGORIAN
METHOD:PUBLISH
X-ORIGINAL-URL:https://aanorthport.org
X-WR-CALDESC:Events for Intergroup - District 5 Florida
REFRESH-INTERVAL;VALUE=DURATION:PT1H
X-Robots-Tag:noindex
X-PUBLISHED-TTL:PT1H
BEGIN:VTIMEZONE
TZID:America/New_York
BEGIN:DAYLIGHT
TZOFFSETFROM:-0500
TZOFFSETTO:-0400
TZNAME:EDT
DTSTART:20250309T070000
END:DAYLIGHT
BEGIN:STANDARD
TZOFFSETFROM:-0400
TZOFFSETTO:-0500
TZNAME:EST
DTSTART:20251102T060000
END:STANDARD
BEGIN:DAYLIGHT
TZOFFSETFROM:-0500
TZOFFSETTO:-0400
TZNAME:EDT
DTSTART:20260308T070000
END:DAYLIGHT
BEGIN:STANDARD
TZOFFSETFROM:-0400
TZOFFSETTO:-0500
TZNAME:EST
DTSTART:20261101T060000
END:STANDARD
BEGIN:DAYLIGHT
TZOFFSETFROM:-0500
TZOFFSETTO:-0400
TZNAME:EDT
DTSTART:20270314T070000
END:DAYLIGHT
BEGIN:STANDARD
TZOFFSETFROM:-0400
TZOFFSETTO:-0500
TZNAME:EST
DTSTART:20271107T060000
END:STANDARD
END:VTIMEZONE
BEGIN:VEVENT
DTSTART;TZID=America/New_York:20260101T180000
DTEND;TZID=America/New_York:20260101T190000
DTSTAMP:20260423T193744
CREATED:20240719T013124Z
LAST-MODIFIED:20240719T013126Z
UID:10000334-1767290400-1767294000@aanorthport.org
SUMMARY:Steering Committee Meeting (hybrid)
DESCRIPTION:The Intergroup Steering Committee meets every 1st Thursday of the month – in person and online. \nJoin Zoom Meeting\nhttps://us02web.zoom.us/j/86123447161?pwd=RUJqazlRS0c1MjA1dW1pZkI5UEVsZz09 \nMeeting ID: 861 2344 7161\nPasscode: 123456
URL:https://aanorthport.org/event/steering-committee-meeting-hybrid-3/2026-01-01/
LOCATION:Intergroup Office of District 5 – SWFL\, 13325 Tamiami Trail\, Unit A\, North Port\, FL\, 34287\, United States
CATEGORIES:Service Meetings
GEO:27.046958;-82.252493
X-APPLE-STRUCTURED-LOCATION;VALUE=URI;X-ADDRESS=Intergroup Office of District 5 – SWFL 13325 Tamiami Trail Unit A North Port FL 34287 United States;X-APPLE-RADIUS=500;X-TITLE=13325 Tamiami Trail\, Unit A:geo:-82.252493,27.046958
END:VEVENT
BEGIN:VEVENT
DTSTART;TZID=America/New_York:20260108T180000
DTEND;TZID=America/New_York:20260108T190000
DTSTAMP:20260423T193744
CREATED:20240426T111140Z
LAST-MODIFIED:20240426T111142Z
UID:10000589-1767895200-1767898800@aanorthport.org
SUMMARY:Events Committee Meeting (hybrid)
DESCRIPTION:Intergroup Events Committee hybrid meeting (in person at Intergroup office and online via Zoom) – every 2nd Thursday of the month at 6:00 pm \n\n\n\nJoin meeting onlinehttps://us02web.zoom.us/j/85833512842pwd=MEdYQ2tYKzg2dU9hWkg0cWV1RkM4QT09 \n\n\n\nZoom ID:  858 3351 2842Passcode:  417873 \n\n\n\nWe are always looking for volunteers!
URL:https://aanorthport.org/event/events-committee-meeting-3/2026-01-08/
LOCATION:Intergroup Office of District 5 – SWFL\, 13325 Tamiami Trail\, Unit A\, North Port\, FL\, 34287\, United States
CATEGORIES:Service Meetings
GEO:27.046958;-82.252493
X-APPLE-STRUCTURED-LOCATION;VALUE=URI;X-ADDRESS=Intergroup Office of District 5 – SWFL 13325 Tamiami Trail Unit A North Port FL 34287 United States;X-APPLE-RADIUS=500;X-TITLE=13325 Tamiami Trail\, Unit A:geo:-82.252493,27.046958
END:VEVENT
BEGIN:VEVENT
DTSTART;TZID=America/New_York:20260109T160000
DTEND;TZID=America/New_York:20260111T130000
DTSTAMP:20260423T193744
CREATED:20240719T025303Z
LAST-MODIFIED:20240719T025616Z
UID:10000827-1767974400-1768136400@aanorthport.org
SUMMARY:Area 15 Quarterly Assembly
DESCRIPTION:AREA 15 SUR DE LA FLORIDAASAMBLEA DE SERVICIOS GENERALES
URL:https://aanorthport.org/event/area-15-quarterly-assembly-10/
LOCATION:Ft Lauderdale Marriott North\, North Andrews Avenue\, Fort Lauderdale\, Florida\, 33309\, United States
CATEGORIES:Service Meetings
GEO:26.2077476;-80.142963
X-APPLE-STRUCTURED-LOCATION;VALUE=URI;X-ADDRESS=Ft Lauderdale Marriott North North Andrews Avenue Fort Lauderdale Florida 33309 United States;X-APPLE-RADIUS=500;X-TITLE=North Andrews Avenue:geo:-80.142963,26.2077476
END:VEVENT
BEGIN:VEVENT
DTSTART;TZID=America/New_York:20260115T180000
DTEND;TZID=America/New_York:20260115T190000
DTSTAMP:20260423T193744
CREATED:20240517T005039Z
LAST-MODIFIED:20240607T000449Z
UID:10000765-1768500000-1768503600@aanorthport.org
SUMMARY:IGR Meeting (hybrid)
DESCRIPTION:Intergroup Representative (IGR) Meeting\, in person  and online – NOTICE MEETING TIME CHANGE \n\n\n\nMeeting ID: 894 7593 7488Passcode: 246810 \n\n\n\nJoin Zoom Meetinghttps://us02web.zoom.us/j/89475937488?pwd=SGhSNHl6L1N3aExFb0h4UTFtdnNrUT09
URL:https://aanorthport.org/event/49558/2026-01-15/
LOCATION:Intergroup Office of District 5 – SWFL\, 13325 Tamiami Trail\, Unit A\, North Port\, FL\, 34287\, United States
CATEGORIES:Service Meetings
GEO:27.046958;-82.252493
X-APPLE-STRUCTURED-LOCATION;VALUE=URI;X-ADDRESS=Intergroup Office of District 5 – SWFL 13325 Tamiami Trail Unit A North Port FL 34287 United States;X-APPLE-RADIUS=500;X-TITLE=13325 Tamiami Trail\, Unit A:geo:-82.252493,27.046958
END:VEVENT
BEGIN:VEVENT
DTSTART;TZID=America/New_York:20260120T190000
DTEND;TZID=America/New_York:20260120T200000
DTSTAMP:20260423T193744
CREATED:20241117T234444Z
LAST-MODIFIED:20241117T234448Z
UID:10000694-1768935600-1768939200@aanorthport.org
SUMMARY:District 5 Business Meeting
DESCRIPTION:GSR Sharing 6:00pmDistrict 5 Business Meeting 7:00pm\n\n\n\nGSR sharing is at 6:00pm \n\n\n\nDistrict 5 Business meeting starts at 7:00pm
URL:https://aanorthport.org/event/district-5-business-meeting-5/2026-01-20/
LOCATION:St. Nathaniel’s Episcopal Church\, 4200 S. Biscayne Dr.\, North Port\, FL\, 34287\, United States
CATEGORIES:Service Meetings
GEO:27.0546961;-82.2454699
X-APPLE-STRUCTURED-LOCATION;VALUE=URI;X-ADDRESS=St. Nathaniel’s Episcopal Church 4200 S. Biscayne Dr. North Port FL 34287 United States;X-APPLE-RADIUS=500;X-TITLE=4200 S. Biscayne Dr.:geo:-82.2454699,27.0546961
END:VEVENT
BEGIN:VEVENT
DTSTART;TZID=America/New_York:20260321T170000
DTEND;TZID=America/New_York:20260321T210000
DTSTAMP:20260423T193744
CREATED:20260128T220449Z
LAST-MODIFIED:20260128T221635Z
UID:10000951-1774112400-1774126800@aanorthport.org
SUMMARY:Old Timers Dinner
DESCRIPTION:Join us to celebrate those who have walked the path of recovery for a quarter century or more.  Their experience\, strength and hope will light the way for us all. \n\n\n\n5:00 pm~ Fellowship \n\n\n\n6:00 pm~ Meatloaf dinner\, mashed potatoes\, brown gravy\, green beans\, roll & dessert served \n\n\n\n7:30 pm~ Speaker:  Jim M.  \n\n\n\nTickets $25.00 \n\n\n\nAvailable after 2/2/26 at the Intergroup Office located at 13325 Tamiami Trail\, Unit A\, North Port\, Florida 34287 \n\n\n\n \n\n\n\n50/50 Raffle! \n\n\n\nGift Basket Raffles!! \n\n\n\nCall the office at 1-941-426-7655 with any questions. \n\n\n\nNote: Advance tickets required. Tickets will NOT be sold at the door.
URL:https://aanorthport.org/event/old-timers-dinner-5/
LOCATION:700 E. Dearborn St.\, Englewood\, FL  34223\, 700 E. Dearborn St.\, Englewood\, Florida\, 34223
END:VEVENT
BEGIN:VEVENT
DTSTART;TZID=America/New_York:20260410T160000
DTEND;TZID=America/New_York:20260412T130000
DTSTAMP:20260423T193744
CREATED:20240719T024537Z
LAST-MODIFIED:20240719T024539Z
UID:10000826-1775836800-1775998800@aanorthport.org
SUMMARY:Area 15 Quarterly Assembly
DESCRIPTION:AREA 15 SUR DE LA FLORIDAASAMBLEA DE SERVICIOS GENERALES
URL:https://aanorthport.org/event/area-15-quarterly-assembly-9/
LOCATION:Boca Raton Marriott\, Town Center Circle\, Boca Raton\, FL\, 33486\, United States
CATEGORIES:Service Meetings
GEO:26.3617206;-80.1227651
X-APPLE-STRUCTURED-LOCATION;VALUE=URI;X-ADDRESS=Boca Raton Marriott Town Center Circle Boca Raton FL 33486 United States;X-APPLE-RADIUS=500;X-TITLE=Town Center Circle:geo:-80.1227651,26.3617206
END:VEVENT
END:VCALENDAR