BEGIN:VCALENDAR
VERSION:2.0
PRODID:-//Intergroup - District 5 Florida - ECPv6.15.20//NONSGML v1.0//EN
CALSCALE:GREGORIAN
METHOD:PUBLISH
X-WR-CALNAME:Intergroup - District 5 Florida
X-ORIGINAL-URL:https://aanorthport.org
X-WR-CALDESC:Events for Intergroup - District 5 Florida
REFRESH-INTERVAL;VALUE=DURATION:PT1H
X-Robots-Tag:noindex
X-PUBLISHED-TTL:PT1H
BEGIN:VTIMEZONE
TZID:America/New_York
BEGIN:DAYLIGHT
TZOFFSETFROM:-0500
TZOFFSETTO:-0400
TZNAME:EDT
DTSTART:20210314T070000
END:DAYLIGHT
BEGIN:STANDARD
TZOFFSETFROM:-0400
TZOFFSETTO:-0500
TZNAME:EST
DTSTART:20211107T060000
END:STANDARD
BEGIN:DAYLIGHT
TZOFFSETFROM:-0500
TZOFFSETTO:-0400
TZNAME:EDT
DTSTART:20220313T070000
END:DAYLIGHT
BEGIN:STANDARD
TZOFFSETFROM:-0400
TZOFFSETTO:-0500
TZNAME:EST
DTSTART:20221106T060000
END:STANDARD
BEGIN:DAYLIGHT
TZOFFSETFROM:-0500
TZOFFSETTO:-0400
TZNAME:EDT
DTSTART:20230312T070000
END:DAYLIGHT
BEGIN:STANDARD
TZOFFSETFROM:-0400
TZOFFSETTO:-0500
TZNAME:EST
DTSTART:20231105T060000
END:STANDARD
BEGIN:DAYLIGHT
TZOFFSETFROM:-0500
TZOFFSETTO:-0400
TZNAME:EDT
DTSTART:20240310T070000
END:DAYLIGHT
BEGIN:STANDARD
TZOFFSETFROM:-0400
TZOFFSETTO:-0500
TZNAME:EST
DTSTART:20241103T060000
END:STANDARD
BEGIN:DAYLIGHT
TZOFFSETFROM:-0500
TZOFFSETTO:-0400
TZNAME:EDT
DTSTART:20250309T070000
END:DAYLIGHT
BEGIN:STANDARD
TZOFFSETFROM:-0400
TZOFFSETTO:-0500
TZNAME:EST
DTSTART:20251102T060000
END:STANDARD
END:VTIMEZONE
BEGIN:VEVENT
DTSTART;TZID=America/New_York:20240405T170000
DTEND;TZID=America/New_York:20240407T120000
DTSTAMP:20260424T062806
CREATED:20240328T133150Z
LAST-MODIFIED:20240328T135104Z
UID:10000560-1712336400-1712491200@aanorthport.org
SUMMARY:Area 15 Quarterly Assembly
DESCRIPTION:Business conference held at the Marriott in Boca Raton\, FL. View flyer and agenda. \n\n\n\nVer folletto y agenda en espanol
URL:https://aanorthport.org/event/49248/
LOCATION:FL
END:VEVENT
BEGIN:VEVENT
DTSTART;TZID=America/New_York:20240330T173000
DTEND;TZID=America/New_York:20240330T200000
DTSTAMP:20260424T062806
CREATED:20240307T001719Z
LAST-MODIFIED:20240307T213014Z
UID:10000557-1711819800-1711828800@aanorthport.org
SUMMARY:Pie Day Potluck Anniversary
DESCRIPTION:Celebrating the Saturday Open Speaker (SOS) meeting 8th Anniversary at the Alano Club in Englewood. Potluck starts at 5:30 pm followed by a speaker meeting at 7 pm \n\n\n\nPie-day-flyer-.pdfDownload
URL:https://aanorthport.org/event/pie-day-potluck-anniversary/
LOCATION:Englewood Alano Club\, 2936 S. McCall Rd\, Englewood\, FL\, 34224
GEO:26.936159;-82.311336
X-APPLE-STRUCTURED-LOCATION;VALUE=URI;X-ADDRESS=Englewood Alano Club 2936 S. McCall Rd Englewood FL 34224;X-APPLE-RADIUS=500;X-TITLE=2936 S. McCall Rd:geo:-82.311336,26.936159
END:VEVENT
BEGIN:VEVENT
DTSTART;TZID=America/New_York:20240322T170000
DTEND;TZID=America/New_York:20240322T210000
DTSTAMP:20260424T062806
CREATED:20240117T021830Z
LAST-MODIFIED:20240129T211136Z
UID:10000377-1711126800-1711141200@aanorthport.org
SUMMARY:2024 Old Timer's Diner
DESCRIPTION:Tickets go on sale at Intergroup on Feb 12th\, 2024. Doors open at 5pm\, Dinner starts at 6pm\,\nMeatloaf\, baked potato\, English peas\, salad\, & dessert\nSobriety countdown at 7:15pm followed by the Speaker – Connie Y.\nClick on the flyer to download or print it.
URL:https://aanorthport.org/event/2024-old-timers-diner/
LOCATION:Englewood Methodist Church\, 700 E Dearborn St\, Englewood\, FL\, 34223\, United States
CATEGORIES:Group Events
GEO:26.9632215;-82.338377
X-APPLE-STRUCTURED-LOCATION;VALUE=URI;X-ADDRESS=Englewood Methodist Church 700 E Dearborn St Englewood FL 34223 United States;X-APPLE-RADIUS=500;X-TITLE=700 E Dearborn St:geo:-82.338377,26.9632215
END:VEVENT
BEGIN:VEVENT
DTSTART;TZID=America/New_York:20240304T170000
DTEND;TZID=America/New_York:20240304T200000
DTSTAMP:20260424T062806
CREATED:20240223T120848Z
LAST-MODIFIED:20240223T120850Z
UID:10000555-1709571600-1709582400@aanorthport.org
SUMMARY:Al-Anon/AA Spring Speaker
DESCRIPTION:Spring Speaker Meeting – joint Al-Anon/AA open meeting\, all are welcome. Bring an appetizer to share – food and fellowship at 5:00 pm\, speaker at 5:30 pm followed by 50/50 raffle drawing. \n\n\n\nPark by playground or across from the chapel.
URL:https://aanorthport.org/event/al-anon-aa-spring-speaker/
LOCATION:South Venice Baptist Church\, 3167 Englewood Rd\, Venice\, Florida\, 34293\, United States
GEO:27.059777;-82.4135345
X-APPLE-STRUCTURED-LOCATION;VALUE=URI;X-ADDRESS=South Venice Baptist Church 3167 Englewood Rd Venice Florida 34293 United States;X-APPLE-RADIUS=500;X-TITLE=3167 Englewood Rd:geo:-82.4135345,27.059777
END:VEVENT
BEGIN:VEVENT
DTSTART;TZID=America/New_York:20240229T180000
DTEND;TZID=America/New_York:20240229T190000
DTSTAMP:20260424T062806
CREATED:20240208T235222Z
LAST-MODIFIED:20240208T235222Z
UID:10000553-1709229600-1709233200@aanorthport.org
SUMMARY:Extra Events Committee Mtg
DESCRIPTION:To get ready for the March 22nd\, 2024 Old Timer’s Dinner\, we are adding an extra meeting of the Events Committee. \nIn person at the Intergroup office in North Port or: \nJoin Online Meeting\nhttps://us02web.zoom.us/j/85833512842?pwd=MEdYQ2tYKzg2dU9hWkg0cWV1RkM4QT09 \nZoom ID: 858 3351 2842\nPassword: 417873
URL:https://aanorthport.org/event/extra-events-committee-mtg/
LOCATION:Intergroup Office of District 5 – SWFL\, 13325 Tamiami Trail\, Unit A\, North Port\, FL\, 34287\, United States
CATEGORIES:Service Meetings
GEO:27.046958;-82.252493
X-APPLE-STRUCTURED-LOCATION;VALUE=URI;X-ADDRESS=Intergroup Office of District 5 – SWFL 13325 Tamiami Trail Unit A North Port FL 34287 United States;X-APPLE-RADIUS=500;X-TITLE=13325 Tamiami Trail\, Unit A:geo:-82.252493,27.046958
END:VEVENT
BEGIN:VEVENT
DTSTART;TZID=America/New_York:20240225T140000
DTEND;TZID=America/New_York:20240225T160000
DTSTAMP:20260424T062806
CREATED:20240119T115628Z
LAST-MODIFIED:20240131T111719Z
UID:10000403-1708869600-1708876800@aanorthport.org
SUMMARY:Plain Language Big Book - Information Session
DESCRIPTION:The 13 Delegates of the Southeast Region have organized a special information session. \nZoom ID 867 2200 6265\nPasscode: 924686 \nClick on the flyer or the letter from the Area15 delegate below to download or print them. \n 
URL:https://aanorthport.org/event/plain-language-big-book-information-session/
LOCATION:Online Meeting via Zoom
CATEGORIES:General Service Messages
END:VEVENT
BEGIN:VEVENT
DTSTART;TZID=America/New_York:20240221T200000
DTEND;TZID=America/New_York:20240221T213000
DTSTAMP:20260424T062806
CREATED:20240124T131454Z
LAST-MODIFIED:20240131T111751Z
UID:10000404-1708545600-1708551000@aanorthport.org
SUMMARY:Sharing on Founder's Writings - Online Session
DESCRIPTION:Area 15 is hosted an online session to share information about our founder’s writings. Click on the flyer to download or print it\, \nZoom ID: 813 3469 1587\nPasscode: Area15
URL:https://aanorthport.org/event/changes-to-founders-writings-info-session/
LOCATION:Online Meeting via Zoom
CATEGORIES:General Service Messages
END:VEVENT
BEGIN:VEVENT
DTSTART;TZID=America/New_York:20240217T090000
DTEND;TZID=America/New_York:20240217T160000
DTSTAMP:20260424T062806
CREATED:20240104T205506Z
LAST-MODIFIED:20240129T045405Z
UID:10000374-1708160400-1708185600@aanorthport.org
SUMMARY:6th FL AA Archives Workshop
DESCRIPTION:Held at Redeemer Lutheran Church in\nWinter Park FL. Click on flyer to download or print it.
URL:https://aanorthport.org/event/6th-fl-aa-archives-workshop/
LOCATION:Redeemer Lutheran Church\, 3377 Aloma Ave\, Winter Park\, FL\, 32792
CATEGORIES:Group Events
GEO:28.6061571;-81.3039416
X-APPLE-STRUCTURED-LOCATION;VALUE=URI;X-ADDRESS=Redeemer Lutheran Church 3377 Aloma Ave Winter Park FL 32792;X-APPLE-RADIUS=500;X-TITLE=3377 Aloma Ave:geo:-81.3039416,28.6061571
END:VEVENT
BEGIN:VEVENT
DTSTART;TZID=America/New_York:20240120T130000
DTEND;TZID=America/New_York:20240120T160000
DTSTAMP:20260424T062806
CREATED:20240104T205010Z
LAST-MODIFIED:20240118T214830Z
UID:10000373-1705755600-1705766400@aanorthport.org
SUMMARY:4th Step Workshop
DESCRIPTION:Hosted by the Meat & Potatoes group at the Cape Coral First Methodist Church
URL:https://aanorthport.org/event/4th-step-workshop/
LOCATION:First Methodist Church Cape Coral\, 4118 Coronado Parkway\, Cape Coral\, FL\, 33904
GEO:26.5757457;-81.9469133
X-APPLE-STRUCTURED-LOCATION;VALUE=URI;X-ADDRESS=First Methodist Church Cape Coral 4118 Coronado Parkway Cape Coral FL 33904;X-APPLE-RADIUS=500;X-TITLE=4118 Coronado Parkway:geo:-81.9469133,26.5757457
END:VEVENT
BEGIN:VEVENT
DTSTART;TZID=America/New_York:20240120T093000
DTEND;TZID=America/New_York:20240120T163000
DTSTAMP:20260424T062806
CREATED:20240107T230211Z
LAST-MODIFIED:20240118T214240Z
UID:10000376-1705743000-1705768200@aanorthport.org
SUMMARY:Old Time AA - Benefit
DESCRIPTION:Benefit for Dr Bob’s home held in St. Petersburg\, FL
URL:https://aanorthport.org/event/old-time-aa-benefit/
LOCATION:St. Thomas Episcopal Church\, 1200 Snell Isle Blvd NE\, St. Petersburg\, FL\, 33704
GEO:27.796886;-82.6112617
X-APPLE-STRUCTURED-LOCATION;VALUE=URI;X-ADDRESS=St. Thomas Episcopal Church 1200 Snell Isle Blvd NE St. Petersburg FL 33704;X-APPLE-RADIUS=500;X-TITLE=1200 Snell Isle Blvd NE:geo:-82.6112617,27.796886
END:VEVENT
BEGIN:VEVENT
DTSTART;TZID=America/New_York:20240105T190000
DTEND;TZID=America/New_York:20240105T220000
DTSTAMP:20260424T062806
CREATED:20231211T200559Z
LAST-MODIFIED:20240104T011547Z
UID:10000345-1704481200-1704492000@aanorthport.org
SUMMARY:GIFTS YPG New Years Celebration
DESCRIPTION:View flyer
URL:https://aanorthport.org/event/gifts-ypg-new-years-celebration/
LOCATION:Englewood Alano Club\, 2936 S. McCall Rd\, Englewood\, FL\, 34224
GEO:26.936159;-82.311336
X-APPLE-STRUCTURED-LOCATION;VALUE=URI;X-ADDRESS=Englewood Alano Club 2936 S. McCall Rd Englewood FL 34224;X-APPLE-RADIUS=500;X-TITLE=2936 S. McCall Rd:geo:-82.311336,26.936159
END:VEVENT
BEGIN:VEVENT
DTSTART;VALUE=DATE:20240105
DTEND;VALUE=DATE:20240108
DTSTAMP:20260424T062806
CREATED:20240104T204514Z
LAST-MODIFIED:20240104T204514Z
UID:10000372-1704412800-1704671999@aanorthport.org
SUMMARY:Area 15 Quarterly Assembly
DESCRIPTION:This is a  service conference for SWFL Area 15\, held at the Hyatt Regency Hotel\, Sarasota FL – Jan 5-7\, 2024 \nView flyer in English\nView flyer in Spanish
URL:https://aanorthport.org/event/area-15-quarterly-assembly/
LOCATION:Hyatt Regency Hotel\, Sarasota\, FL\, 1000 Boulevard of the Arts\, Sarasota\,\, FL\, 34236
GEO:27.340901;-82.5489636
X-APPLE-STRUCTURED-LOCATION;VALUE=URI;X-ADDRESS=Hyatt Regency Hotel Sarasota FL 1000 Boulevard of the Arts Sarasota FL 34236;X-APPLE-RADIUS=500;X-TITLE=1000 Boulevard of the Arts:geo:-82.5489636,27.340901
END:VEVENT
BEGIN:VEVENT
DTSTART;TZID=America/New_York:20231231T173000
DTEND;TZID=America/New_York:20240101T130000
DTSTAMP:20260424T062806
CREATED:20231211T192851Z
LAST-MODIFIED:20231211T192851Z
UID:10000342-1704043800-1704114000@aanorthport.org
SUMMARY:Alano Club 2024 New Years Alcathon
DESCRIPTION:Flyer
URL:https://aanorthport.org/event/alano-club-2024-new-years-alcathon/
LOCATION:Englewood Alano Club\, 2936 S. McCall Rd\, Englewood\, FL\, 34224
GEO:26.936159;-82.311336
X-APPLE-STRUCTURED-LOCATION;VALUE=URI;X-ADDRESS=Englewood Alano Club 2936 S. McCall Rd Englewood FL 34224;X-APPLE-RADIUS=500;X-TITLE=2936 S. McCall Rd:geo:-82.311336,26.936159
END:VEVENT
BEGIN:VEVENT
DTSTART;TZID=America/New_York:20231224T173000
DTEND;TZID=America/New_York:20231225T200000
DTSTAMP:20260424T062806
CREATED:20231211T192716Z
LAST-MODIFIED:20231211T192716Z
UID:10000344-1703439000-1703534400@aanorthport.org
SUMMARY:Alano Club 2023 Christmas Alcathon
DESCRIPTION:Flyer
URL:https://aanorthport.org/event/alano-club-2023-christmas-alcathon/
LOCATION:Englewood Alano Club\, 2936 S. McCall Rd\, Englewood\, FL\, 34224
GEO:26.936159;-82.311336
X-APPLE-STRUCTURED-LOCATION;VALUE=URI;X-ADDRESS=Englewood Alano Club 2936 S. McCall Rd Englewood FL 34224;X-APPLE-RADIUS=500;X-TITLE=2936 S. McCall Rd:geo:-82.311336,26.936159
END:VEVENT
BEGIN:VEVENT
DTSTART;TZID=America/New_York:20231216T130000
DTEND;TZID=America/New_York:20231216T160000
DTSTAMP:20260424T062806
CREATED:20231118T192750Z
LAST-MODIFIED:20231118T192750Z
UID:10000343-1702731600-1702742400@aanorthport.org
SUMMARY:2023 Intergroup Holiday Open House
DESCRIPTION:Flyer
URL:https://aanorthport.org/event/2023-intergroup-holiday-open-house/
LOCATION:Intergroup Office of District 5 – SWFL\, 13325 Tamiami Trail\, Unit A\, North Port\, FL\, 34287\, United States
GEO:27.046958;-82.252493
X-APPLE-STRUCTURED-LOCATION;VALUE=URI;X-ADDRESS=Intergroup Office of District 5 – SWFL 13325 Tamiami Trail Unit A North Port FL 34287 United States;X-APPLE-RADIUS=500;X-TITLE=13325 Tamiami Trail\, Unit A:geo:-82.252493,27.046958
END:VEVENT
BEGIN:VEVENT
DTSTART;TZID=America/New_York:20231211T193000
DTEND;TZID=America/New_York:20231211T210000
DTSTAMP:20260424T062806
CREATED:20231031T202617Z
LAST-MODIFIED:20231031T202617Z
UID:10000341-1702323000-1702328400@aanorthport.org
SUMMARY:Living Sober Group Christmas Meeting
DESCRIPTION:Flyer
URL:https://aanorthport.org/event/living-sober-group-christmas-meeting/
LOCATION:Christ United Methodist Church\, 1475 Center Rd.\, Venice\, FL\, 34292\, United States
GEO:27.0796554;-82.3687883
X-APPLE-STRUCTURED-LOCATION;VALUE=URI;X-ADDRESS=Christ United Methodist Church 1475 Center Rd. Venice FL 34292 United States;X-APPLE-RADIUS=500;X-TITLE=1475 Center Rd.:geo:-82.3687883,27.0796554
END:VEVENT
BEGIN:VEVENT
DTSTART;TZID=America/New_York:20231207T190000
DTEND;TZID=America/New_York:20231207T200000
DTSTAMP:20260424T062806
CREATED:20230304T005122Z
LAST-MODIFIED:20230304T005257Z
UID:10000309-1701975600-1701979200@aanorthport.org
SUMMARY:Intergroup Steering Committee
DESCRIPTION:click here for Zoom Meeting Information
URL:https://aanorthport.org/event/intergroup-steering-committee-2/2023-12-07/
LOCATION:Intergroup Office of District 5 – SWFL\, 13325 Tamiami Trail\, Unit A\, North Port\, FL\, 34287\, United States
GEO:27.046958;-82.252493
X-APPLE-STRUCTURED-LOCATION;VALUE=URI;X-ADDRESS=Intergroup Office of District 5 – SWFL 13325 Tamiami Trail Unit A North Port FL 34287 United States;X-APPLE-RADIUS=500;X-TITLE=13325 Tamiami Trail\, Unit A:geo:-82.252493,27.046958
END:VEVENT
BEGIN:VEVENT
DTSTART;TZID=America/New_York:20231103T170000
DTEND;TZID=America/New_York:20231103T210000
DTSTAMP:20260424T062806
CREATED:20231006T182823Z
LAST-MODIFIED:20231006T182823Z
UID:10000337-1699030800-1699045200@aanorthport.org
SUMMARY:Gratitude Dinner
DESCRIPTION:Flyer
URL:https://aanorthport.org/event/gratitude-dinner-5/
LOCATION:Englewood Methodist Church\, 700 E Dearborn St\, Englewood\, FL\, 34223\, United States
GEO:26.9632215;-82.338377
X-APPLE-STRUCTURED-LOCATION;VALUE=URI;X-ADDRESS=Englewood Methodist Church 700 E Dearborn St Englewood FL 34223 United States;X-APPLE-RADIUS=500;X-TITLE=700 E Dearborn St:geo:-82.338377,26.9632215
END:VEVENT
BEGIN:VEVENT
DTSTART;TZID=America/New_York:20231012T190000
DTEND;TZID=America/New_York:20231012T200000
DTSTAMP:20260424T062806
CREATED:20231228T002102Z
LAST-MODIFIED:20240127T132907Z
UID:10000346-1697137200-1697140800@aanorthport.org
SUMMARY:Service Manual Study
DESCRIPTION:An online series (via Zoom) presented by the Area 15 Outreach Committee.  We will be studying a chapter at each meeting\, beginning with Chapter 1 and ending with Chapter 12. \nThe meetings will be held every other Thursday night at 7 pm\, beginning October 12th. \nZoom Log- in: 832 7056 41218\nPassword: service
URL:https://aanorthport.org/event/aera-15-service-manual-study/
LOCATION:Online Meeting via Zoom
CATEGORIES:Group Events
END:VEVENT
BEGIN:VEVENT
DTSTART;TZID=America/New_York:20230915T180000
DTEND;TZID=America/New_York:20230915T200000
DTSTAMP:20260424T062806
CREATED:20230827T184118Z
LAST-MODIFIED:20230827T184118Z
UID:10000338-1694800800-1694808000@aanorthport.org
SUMMARY:It's In The Book Group Anniversary
DESCRIPTION:Flyer
URL:https://aanorthport.org/event/its-in-the-book-group-anniversary/
LOCATION:Edgewater Church\, 19190 Cochran Blvd\, Port Charlotte\, FL\, 33948\, United States
GEO:27.0061654;-82.1357475
X-APPLE-STRUCTURED-LOCATION;VALUE=URI;X-ADDRESS=Edgewater Church 19190 Cochran Blvd Port Charlotte FL 33948 United States;X-APPLE-RADIUS=500;X-TITLE=19190 Cochran Blvd:geo:-82.1357475,27.0061654
END:VEVENT
BEGIN:VEVENT
DTSTART;TZID=America/New_York:20230909T070000
DTEND;TZID=America/New_York:20230909T120000
DTSTAMP:20260424T062806
CREATED:20230715T152835Z
LAST-MODIFIED:20230715T152835Z
UID:10000340-1694242800-1694260800@aanorthport.org
SUMMARY:Annual Golf Tournament
DESCRIPTION:Flyer
URL:https://aanorthport.org/event/annual-golf-tournament-2/
LOCATION:Pelican Point Golf Course\, 499 Derbyshire Dr.\, Venice\, FL\, 34285\, United States
GEO:27.0861381;-82.4041936
X-APPLE-STRUCTURED-LOCATION;VALUE=URI;X-ADDRESS=Pelican Point Golf Course 499 Derbyshire Dr. Venice FL 34285 United States;X-APPLE-RADIUS=500;X-TITLE=499 Derbyshire Dr.:geo:-82.4041936,27.0861381
END:VEVENT
BEGIN:VEVENT
DTSTART;TZID=America/New_York:20230729T120000
DTEND;TZID=America/New_York:20230729T143000
DTSTAMP:20260424T062806
CREATED:20230622T214929Z
LAST-MODIFIED:20230622T214929Z
UID:10000335-1690632000-1690641000@aanorthport.org
SUMMARY:Delegate's Report
DESCRIPTION:Flyer
URL:https://aanorthport.org/event/delegates-report/
LOCATION:St. Nathaniel’s Episcopal Church\, 4200 S. Biscayne Dr.\, North Port\, FL\, 34287\, United States
GEO:27.0546961;-82.2454699
X-APPLE-STRUCTURED-LOCATION;VALUE=URI;X-ADDRESS=St. Nathaniel’s Episcopal Church 4200 S. Biscayne Dr. North Port FL 34287 United States;X-APPLE-RADIUS=500;X-TITLE=4200 S. Biscayne Dr.:geo:-82.2454699,27.0546961
END:VEVENT
BEGIN:VEVENT
DTSTART;TZID=America/New_York:20230729T070000
DTEND;TZID=America/New_York:20230729T100000
DTSTAMP:20260424T062806
CREATED:20230708T165130Z
LAST-MODIFIED:20230708T165130Z
UID:10000339-1690614000-1690624800@aanorthport.org
SUMMARY:Eye Opener Group 20th Anniversary
DESCRIPTION:Flyer
URL:https://aanorthport.org/event/eye-opener-group-20th-anniversary/
LOCATION:Congregational United Church\, 1201 Aqui Esta Drive\, Punta Gorda\, FL\, 33950\, United States
GEO:26.9092924;-82.058207
X-APPLE-STRUCTURED-LOCATION;VALUE=URI;X-ADDRESS=Congregational United Church 1201 Aqui Esta Drive Punta Gorda FL 33950 United States;X-APPLE-RADIUS=500;X-TITLE=1201 Aqui Esta Drive:geo:-82.058207,26.9092924
END:VEVENT
BEGIN:VEVENT
DTSTART;TZID=America/New_York:20230413T120000
DTEND;TZID=America/New_York:20230413T140000
DTSTAMP:20260424T062806
CREATED:20230403T173301Z
LAST-MODIFIED:20230403T173301Z
UID:10000336-1681387200-1681394400@aanorthport.org
SUMMARY:Peanut Butter Lunch Bunch Anniversary
DESCRIPTION:Flyer
URL:https://aanorthport.org/event/peanut-butter-lunch-bunch-anniversary/
LOCATION:Burnt Store Presbyterian Church\, 11330 BURNT STORE ROAD\, PUNTA GORDA\, United States
GEO:26.8642182;-82.0239202
X-APPLE-STRUCTURED-LOCATION;VALUE=URI;X-ADDRESS=Burnt Store Presbyterian Church 11330 BURNT STORE ROAD PUNTA GORDA United States;X-APPLE-RADIUS=500;X-TITLE=11330 BURNT STORE ROAD:geo:-82.0239202,26.8642182
END:VEVENT
BEGIN:VEVENT
DTSTART;TZID=America/New_York:20230311T190000
DTEND;TZID=America/New_York:20230311T210000
DTSTAMP:20260424T062806
CREATED:20230220T192608Z
LAST-MODIFIED:20230225T160057Z
UID:10000300-1678561200-1678568400@aanorthport.org
SUMMARY:Englewood Alano Club SOS 7 Year Anniversary
DESCRIPTION:Flyer \n2nd Flyer \n 
URL:https://aanorthport.org/event/englewood-alano-club-sos-7-year-anniversary/
LOCATION:Englewood Alano Club\, 2936 S. McCall Rd\, Englewood\, FL\, 34224
GEO:26.936159;-82.311336
X-APPLE-STRUCTURED-LOCATION;VALUE=URI;X-ADDRESS=Englewood Alano Club 2936 S. McCall Rd Englewood FL 34224;X-APPLE-RADIUS=500;X-TITLE=2936 S. McCall Rd:geo:-82.311336,26.936159
END:VEVENT
BEGIN:VEVENT
DTSTART;TZID=America/New_York:20230310T170000
DTEND;TZID=America/New_York:20230310T210000
DTSTAMP:20260424T062806
CREATED:20230116T211301Z
LAST-MODIFIED:20230116T211301Z
UID:10000298-1678467600-1678482000@aanorthport.org
SUMMARY:Old Timers Dinner
DESCRIPTION:Flyer
URL:https://aanorthport.org/event/old-timers-dinner-4/
LOCATION:Englewood Methodist Church\, 700 E Dearborn St\, Englewood\, FL\, 34223\, United States
GEO:26.9632215;-82.338377
X-APPLE-STRUCTURED-LOCATION;VALUE=URI;X-ADDRESS=Englewood Methodist Church 700 E Dearborn St Englewood FL 34223 United States;X-APPLE-RADIUS=500;X-TITLE=700 E Dearborn St:geo:-82.338377,26.9632215
END:VEVENT
BEGIN:VEVENT
DTSTART;TZID=America/New_York:20230130T190000
DTEND;TZID=America/New_York:20230130T200000
DTSTAMP:20260424T062806
CREATED:20230126T232234Z
LAST-MODIFIED:20230126T232234Z
UID:10000299-1675105200-1675108800@aanorthport.org
SUMMARY:Ft Ogden Group 31st anniversary meeting
DESCRIPTION:Guest speaker\, Bea with 50 years\, is our guest speaker.  \nZoom meeting #634905878\,  Password #017907  \nPlease get the word out. Hope to  see  you there. \nMeeting Link: Link \nFt. Ogden Group
URL:https://aanorthport.org/event/ft-ogden-group-31st-anniversary-meeting/
LOCATION:Fort Ogden United Methodist Church\, 6923 SW River St\, Arcadia\, FLorida\, 34269
GEO:27.086049;-81.9567632
X-APPLE-STRUCTURED-LOCATION;VALUE=URI;X-ADDRESS=Fort Ogden United Methodist Church 6923 SW River St Arcadia FLorida 34269;X-APPLE-RADIUS=500;X-TITLE=6923 SW River St:geo:-81.9567632,27.086049
END:VEVENT
BEGIN:VEVENT
DTSTART;TZID=America/New_York:20221217T203000
DTEND;TZID=America/New_York:20221217T223000
DTSTAMP:20260424T062806
CREATED:20221212T203425Z
LAST-MODIFIED:20221212T203425Z
UID:10000297-1671309000-1671316200@aanorthport.org
SUMMARY:Christmas Party Dance
DESCRIPTION:Flyer
URL:https://aanorthport.org/event/christmas-party-dance/
LOCATION:Englewood Alano Club\, 2936 S. McCall Rd\, Englewood\, FL\, 34224
GEO:26.936159;-82.311336
X-APPLE-STRUCTURED-LOCATION;VALUE=URI;X-ADDRESS=Englewood Alano Club 2936 S. McCall Rd Englewood FL 34224;X-APPLE-RADIUS=500;X-TITLE=2936 S. McCall Rd:geo:-82.311336,26.936159
END:VEVENT
BEGIN:VEVENT
DTSTART;TZID=America/New_York:20221212T193000
DTEND;TZID=America/New_York:20221212T213000
DTSTAMP:20260424T062806
CREATED:20221124T181731Z
LAST-MODIFIED:20221124T181731Z
UID:10000296-1670873400-1670880600@aanorthport.org
SUMMARY:Living Sober Annual Christmas Party
DESCRIPTION:Flyer
URL:https://aanorthport.org/event/living-sober-annual-christmas-party/
LOCATION:Christ United Methodist Church\, 1475 Center Rd.\, Venice\, FL\, 34292\, United States
GEO:27.0796554;-82.3687883
X-APPLE-STRUCTURED-LOCATION;VALUE=URI;X-ADDRESS=Christ United Methodist Church 1475 Center Rd. Venice FL 34292 United States;X-APPLE-RADIUS=500;X-TITLE=1475 Center Rd.:geo:-82.3687883,27.0796554
END:VEVENT
BEGIN:VEVENT
DTSTART;TZID=America/New_York:20221203T140000
DTEND;TZID=America/New_York:20221203T160000
DTSTAMP:20260424T062806
CREATED:20221124T181636Z
LAST-MODIFIED:20221124T181636Z
UID:10000295-1670076000-1670083200@aanorthport.org
SUMMARY:Daily Reprieve 10-Year Anniversary
DESCRIPTION:Flyer
URL:https://aanorthport.org/event/daily-reprieve-10-year-anniversary/
LOCATION:Easy Does It Club\, 23312 Harper Avenue\, Port Charlotte\, FL\, 33980\, United States
GEO:26.9620639;-82.0638244
X-APPLE-STRUCTURED-LOCATION;VALUE=URI;X-ADDRESS=Easy Does It Club 23312 Harper Avenue Port Charlotte FL 33980 United States;X-APPLE-RADIUS=500;X-TITLE=23312 Harper Avenue:geo:-82.0638244,26.9620639
END:VEVENT
END:VCALENDAR