BEGIN:VCALENDAR
VERSION:2.0
PRODID:-//Intergroup - District 5 Florida - ECPv6.15.20//NONSGML v1.0//EN
CALSCALE:GREGORIAN
METHOD:PUBLISH
X-ORIGINAL-URL:https://aanorthport.org
X-WR-CALDESC:Events for Intergroup - District 5 Florida
REFRESH-INTERVAL;VALUE=DURATION:PT1H
X-Robots-Tag:noindex
X-PUBLISHED-TTL:PT1H
BEGIN:VTIMEZONE
TZID:America/New_York
BEGIN:DAYLIGHT
TZOFFSETFROM:-0500
TZOFFSETTO:-0400
TZNAME:EDT
DTSTART:20170312T070000
END:DAYLIGHT
BEGIN:STANDARD
TZOFFSETFROM:-0400
TZOFFSETTO:-0500
TZNAME:EST
DTSTART:20171105T060000
END:STANDARD
BEGIN:DAYLIGHT
TZOFFSETFROM:-0500
TZOFFSETTO:-0400
TZNAME:EDT
DTSTART:20180311T070000
END:DAYLIGHT
BEGIN:STANDARD
TZOFFSETFROM:-0400
TZOFFSETTO:-0500
TZNAME:EST
DTSTART:20181104T060000
END:STANDARD
BEGIN:DAYLIGHT
TZOFFSETFROM:-0500
TZOFFSETTO:-0400
TZNAME:EDT
DTSTART:20190310T070000
END:DAYLIGHT
BEGIN:STANDARD
TZOFFSETFROM:-0400
TZOFFSETTO:-0500
TZNAME:EST
DTSTART:20191103T060000
END:STANDARD
BEGIN:DAYLIGHT
TZOFFSETFROM:-0500
TZOFFSETTO:-0400
TZNAME:EDT
DTSTART:20200308T070000
END:DAYLIGHT
BEGIN:STANDARD
TZOFFSETFROM:-0400
TZOFFSETTO:-0500
TZNAME:EST
DTSTART:20201101T060000
END:STANDARD
BEGIN:DAYLIGHT
TZOFFSETFROM:-0500
TZOFFSETTO:-0400
TZNAME:EDT
DTSTART:20210314T070000
END:DAYLIGHT
BEGIN:STANDARD
TZOFFSETFROM:-0400
TZOFFSETTO:-0500
TZNAME:EST
DTSTART:20211107T060000
END:STANDARD
END:VTIMEZONE
BEGIN:VEVENT
DTSTART;TZID=America/New_York:20191231T180000
DTEND;TZID=America/New_York:20200101T180000
DTSTAMP:20260424T221330
CREATED:20191207T025209Z
LAST-MODIFIED:20191207T025624Z
UID:10000002-1577815200-1577901600@aanorthport.org
SUMMARY:New Year's Eve Alkathon
DESCRIPTION:Meetings hosted by our recovery community every hour for 24 hours! \nSnacks & nibbles are always welcomed.\nCoffee & tea are always on. \nWear your jammies!\nBring your noise makers!
URL:https://aanorthport.org/event/new-years-eve-alkathon-2/
LOCATION:Englewood Alano Club\, 2936 S. McCall Rd\, Englewood\, FL\, 34224
GEO:26.936159;-82.311336
X-APPLE-STRUCTURED-LOCATION;VALUE=URI;X-ADDRESS=Englewood Alano Club 2936 S. McCall Rd Englewood FL 34224;X-APPLE-RADIUS=500;X-TITLE=2936 S. McCall Rd:geo:-82.311336,26.936159
END:VEVENT
BEGIN:VEVENT
DTSTART;TZID=America/New_York:20191225T070000
DTEND;TZID=America/New_York:20191225T200000
DTSTAMP:20260424T221330
CREATED:20191203T221001Z
LAST-MODIFIED:20191203T221429Z
UID:10000110-1577257200-1577304000@aanorthport.org
SUMMARY:Christmas Day Open House
DESCRIPTION:Flyer
URL:https://aanorthport.org/event/christmas-day-open-house-2/
LOCATION:Englewood Alano Club\, 2936 S. McCall Rd\, Englewood\, FL\, 34224
GEO:26.936159;-82.311336
X-APPLE-STRUCTURED-LOCATION;VALUE=URI;X-ADDRESS=Englewood Alano Club 2936 S. McCall Rd Englewood FL 34224;X-APPLE-RADIUS=500;X-TITLE=2936 S. McCall Rd:geo:-82.311336,26.936159
END:VEVENT
BEGIN:VEVENT
DTSTART;TZID=America/New_York:20191224T193000
DTEND;TZID=America/New_York:20191224T220000
DTSTAMP:20260424T221330
CREATED:20191203T221129Z
LAST-MODIFIED:20191203T221404Z
UID:10000022-1577215800-1577224800@aanorthport.org
SUMMARY:Christmas Eve Pot Luck
DESCRIPTION:Flyer
URL:https://aanorthport.org/event/christmas-eve-pot-luck-2/
LOCATION:Englewood Alano Club\, 2936 S. McCall Rd\, Englewood\, FL\, 34224
GEO:26.936159;-82.311336
X-APPLE-STRUCTURED-LOCATION;VALUE=URI;X-ADDRESS=Englewood Alano Club 2936 S. McCall Rd Englewood FL 34224;X-APPLE-RADIUS=500;X-TITLE=2936 S. McCall Rd:geo:-82.311336,26.936159
END:VEVENT
BEGIN:VEVENT
DTSTART;TZID=America/New_York:20191224T193000
DTEND;TZID=America/New_York:20191224T220000
DTSTAMP:20260424T221330
CREATED:20191203T012613Z
LAST-MODIFIED:20191203T012613Z
UID:10000108-1577215800-1577224800@aanorthport.org
SUMMARY:Christmas Eve Pot Luck
DESCRIPTION:Pot Luck—7:30PM to 10:00PM\nBring your favorite dish to share\nLots of fun with Singing Christmas Carols & Contest for BEST  desserts \nDrinks are on the house! \nHosted by Live & Let Live Group
URL:https://aanorthport.org/event/christmas-eve-pot-luck/
LOCATION:Englewood Alano Club\, 2936 S. McCall Rd\, Englewood\, FL\, 34224
GEO:26.936159;-82.311336
X-APPLE-STRUCTURED-LOCATION;VALUE=URI;X-ADDRESS=Englewood Alano Club 2936 S. McCall Rd Englewood FL 34224;X-APPLE-RADIUS=500;X-TITLE=2936 S. McCall Rd:geo:-82.311336,26.936159
END:VEVENT
BEGIN:VEVENT
DTSTART;TZID=America/New_York:20190614T190000
DTEND;TZID=America/New_York:20190614T210000
DTSTAMP:20260424T221330
CREATED:20190512T000736Z
LAST-MODIFIED:20240127T233800Z
UID:10000073-1560538800-1560546000@aanorthport.org
SUMMARY:I Am Responsible Group Anniversary
DESCRIPTION:Flyer
URL:https://aanorthport.org/event/i-am-responsible-group-anniversary/
LOCATION:Living Waters Lutheran Church\, 12475 Chancellor Blvd\, North Port\, FL\, United States
GEO:27.0329661;-82.2406311
X-APPLE-STRUCTURED-LOCATION;VALUE=URI;X-ADDRESS=Living Waters Lutheran Church 12475 Chancellor Blvd North Port FL United States;X-APPLE-RADIUS=500;X-TITLE=12475 Chancellor Blvd:geo:-82.2406311,27.0329661
END:VEVENT
BEGIN:VEVENT
DTSTART;TZID=America/New_York:20190105T193000
DTEND;TZID=America/New_York:20190105T193000
DTSTAMP:20260424T221330
CREATED:20181218T111410Z
LAST-MODIFIED:20181218T111410Z
UID:10000220-1546716600-1546716600@aanorthport.org
SUMMARY:Easy Does it Club 5th Anniversary
DESCRIPTION:Saturady Night Speaker Meeting  5th Anniversary \n  \n  \nEmail  Lanie177m@gmail.com
URL:https://aanorthport.org/event/easy-does-it-club-5th-anniversary/
LOCATION:Easy Does It Club\, 23312 Harper Avenue\, Port Charlotte\, FL\, 33980\, United States
GEO:26.9620639;-82.0638244
X-APPLE-STRUCTURED-LOCATION;VALUE=URI;X-ADDRESS=Easy Does It Club 23312 Harper Avenue Port Charlotte FL 33980 United States;X-APPLE-RADIUS=500;X-TITLE=23312 Harper Avenue:geo:-82.0638244,26.9620639
END:VEVENT
BEGIN:VEVENT
DTSTART;TZID=America/New_York:20181231T213000
DTEND;TZID=America/New_York:20181231T213000
DTSTAMP:20260424T221330
CREATED:20181204T030158Z
LAST-MODIFIED:20181204T030158Z
UID:10000077-1546291800-1546291800@aanorthport.org
SUMMARY:New Years Eve Dance
DESCRIPTION:1980’s Theme  Dress in your best 1980’s costume \nDJ  Brandon \nCostume Contest \, 50/50 Raffle \nPresented by Morning Makers\, Phoenix and Daily Reprieve Groups  Suggested Donation $3.00 Bring a Dish to Share
URL:https://aanorthport.org/event/new-years-eve-dance/
LOCATION:Easy Does It Club\, 23312 Harper Avenue\, Port Charlotte\, FL\, 33980\, United States
GEO:26.9620639;-82.0638244
X-APPLE-STRUCTURED-LOCATION;VALUE=URI;X-ADDRESS=Easy Does It Club 23312 Harper Avenue Port Charlotte FL 33980 United States;X-APPLE-RADIUS=500;X-TITLE=23312 Harper Avenue:geo:-82.0638244,26.9620639
END:VEVENT
BEGIN:VEVENT
DTSTART;TZID=America/New_York:20181231T180000
DTEND;TZID=America/New_York:20190101T180000
DTSTAMP:20260424T221330
CREATED:20181213T210121Z
LAST-MODIFIED:20181213T210121Z
UID:10000078-1546279200-1546365600@aanorthport.org
SUMMARY:New Years Eve Alkathon
DESCRIPTION:Monday 12/31/18 to Tues 1/1/19 meetings every hour on the hour \nVolunteer Groups or indivivuals needed to fill hourly time slots !!  Call Pat S .  at 860-575-4670 for information or to volunteer
URL:https://aanorthport.org/event/new-years-eve-alkathon/
LOCATION:Englewood Alano Club\, 2936 S. McCall Rd\, Englewood\, FL\, 34224
GEO:26.936159;-82.311336
X-APPLE-STRUCTURED-LOCATION;VALUE=URI;X-ADDRESS=Englewood Alano Club 2936 S. McCall Rd Englewood FL 34224;X-APPLE-RADIUS=500;X-TITLE=2936 S. McCall Rd:geo:-82.311336,26.936159
END:VEVENT
BEGIN:VEVENT
DTSTART;TZID=America/New_York:20181116T080000
DTEND;TZID=America/New_York:20181118T170000
DTSTAMP:20260424T221330
CREATED:20180724T134309Z
LAST-MODIFIED:20180724T134322Z
UID:10000246-1542355200-1542560400@aanorthport.org
SUMMARY:Southeast Regional Forum
DESCRIPTION:Nov. 16th thru 18th\, GSO invites all AA’s to Sterling\, Virginia to share ideas and learn: \nClick HERE for informational brochure\, including registration information
URL:https://aanorthport.org/event/southeast-regional-forum/
LOCATION:FL
END:VEVENT
BEGIN:VEVENT
DTSTART;TZID=America/New_York:20181110T080000
DTEND;TZID=America/New_York:20181110T093000
DTSTAMP:20260424T221330
CREATED:20181026T172912Z
LAST-MODIFIED:20181026T172912Z
UID:10000076-1541836800-1541842200@aanorthport.org
SUMMARY:Banyan Breakfast and Meeting
DESCRIPTION:Gratitude Breakfast\n  \nFree:  All are welcome to the Gratitude Breakfast and Meeting Sat. Nov. 10 at 8:00 Am \nService\, food or donations    Blessing to All
URL:https://aanorthport.org/event/banyan-breakfast-and-meeting/
LOCATION:Reformed Community Church\, 1600 Banyan Dr\, Venice\, FL\, 34293\, United States
GEO:27.0776146;-82.424045
X-APPLE-STRUCTURED-LOCATION;VALUE=URI;X-ADDRESS=Reformed Community Church 1600 Banyan Dr Venice FL 34293 United States;X-APPLE-RADIUS=500;X-TITLE=1600 Banyan Dr:geo:-82.424045,27.0776146
END:VEVENT
BEGIN:VEVENT
DTSTART;TZID=America/New_York:20181110T053000
DTEND;TZID=America/New_York:20181110T200000
DTSTAMP:20260424T221330
CREATED:20181010T001835Z
LAST-MODIFIED:20181010T141529Z
UID:10000075-1541827800-1541880000@aanorthport.org
SUMMARY:An Evening with Our AA Ancestors
DESCRIPTION:Did I mention Beach Time from  2 pm to 5:30 pm?  Bring your lotion! \nFood\, Fellowship & Fun.  Bring food if you can. See y’all there! \nClick Here for Event Flyer
URL:https://aanorthport.org/event/an-evening-with-our-aa-ancestors/
LOCATION:Englewood Gardens Beach Club\, 2550 N Beach Road\, Englewood\, FL\, United States
GEO:26.9314255;-82.3650394
X-APPLE-STRUCTURED-LOCATION;VALUE=URI;X-ADDRESS=Englewood Gardens Beach Club 2550 N Beach Road Englewood FL United States;X-APPLE-RADIUS=500;X-TITLE=2550 N Beach Road:geo:-82.3650394,26.9314255
END:VEVENT
BEGIN:VEVENT
DTSTART;TZID=America/New_York:20181103T170000
DTEND;TZID=America/New_York:20181103T210000
DTSTAMP:20260424T221330
CREATED:20180724T143552Z
LAST-MODIFIED:20181010T003626Z
UID:10000047-1541264400-1541278800@aanorthport.org
SUMMARY:Gratitude Dinner
DESCRIPTION:Johnny P.  is Cooking  and  Great Speakers  and fellowship
URL:https://aanorthport.org/event/gratitude-dinner/
LOCATION:Englewood Methodist Church\, 700 E Dearborn St\, Englewood\, FL\, 34223\, United States
GEO:26.9632215;-82.338377
X-APPLE-STRUCTURED-LOCATION;VALUE=URI;X-ADDRESS=Englewood Methodist Church 700 E Dearborn St Englewood FL 34223 United States;X-APPLE-RADIUS=500;X-TITLE=700 E Dearborn St:geo:-82.338377,26.9632215
END:VEVENT
BEGIN:VEVENT
DTSTART;TZID=America/New_York:20180912T190000
DTEND;TZID=America/New_York:20180912T200000
DTSTAMP:20260424T221330
CREATED:20180909T220825Z
LAST-MODIFIED:20180909T221903Z
UID:10000074-1536778800-1536782400@aanorthport.org
SUMMARY:Current Practices Meeting
DESCRIPTION:
URL:https://aanorthport.org/event/current-practices-meeting/
LOCATION:Intergroup Office of District 5 – SWFL\, 13325 Tamiami Trail\, Unit A\, North Port\, FL\, 34287\, United States
GEO:27.046958;-82.252493
X-APPLE-STRUCTURED-LOCATION;VALUE=URI;X-ADDRESS=Intergroup Office of District 5 – SWFL 13325 Tamiami Trail Unit A North Port FL 34287 United States;X-APPLE-RADIUS=500;X-TITLE=13325 Tamiami Trail\, Unit A:geo:-82.252493,27.046958
END:VEVENT
BEGIN:VEVENT
DTSTART;TZID=America/New_York:20180912T170000
DTEND;TZID=America/New_York:20180912T180000
DTSTAMP:20260424T221330
CREATED:20180909T220515Z
LAST-MODIFIED:20180909T221616Z
UID:10000040-1536771600-1536775200@aanorthport.org
SUMMARY:By-Laws Committee
DESCRIPTION:
URL:https://aanorthport.org/event/by-laws-committee/
LOCATION:Intergroup Office of District 5 – SWFL\, 13325 Tamiami Trail\, Unit A\, North Port\, FL\, 34287\, United States
GEO:27.046958;-82.252493
X-APPLE-STRUCTURED-LOCATION;VALUE=URI;X-ADDRESS=Intergroup Office of District 5 – SWFL 13325 Tamiami Trail Unit A North Port FL 34287 United States;X-APPLE-RADIUS=500;X-TITLE=13325 Tamiami Trail\, Unit A:geo:-82.252493,27.046958
END:VEVENT
BEGIN:VEVENT
DTSTART;TZID=America/New_York:20180903T130000
DTEND;TZID=America/New_York:20180903T150000
DTSTAMP:20260424T221330
CREATED:20180820T174630Z
LAST-MODIFIED:20180820T174630Z
UID:10000143-1535979600-1535986800@aanorthport.org
SUMMARY:Labor Day Picnic -Easy Does it Club
DESCRIPTION:Click here for flyer–> 9-3-18 Labor Day Picnic EDIC \nHamburgers and Hot Dogs! \nPresented by Morning Makers\, Phoenix\, and Daily Reprieve groups.  Please bring a side dish to share. \n1pm to 3pm at Easy Does it Club\,
URL:https://aanorthport.org/event/labor-day-picnic-easy-does-it-club/
LOCATION:Easy Does It Club\, 23312 Harper Avenue\, Port Charlotte\, FL\, 33980\, United States
GEO:26.9620639;-82.0638244
X-APPLE-STRUCTURED-LOCATION;VALUE=URI;X-ADDRESS=Easy Does It Club 23312 Harper Avenue Port Charlotte FL 33980 United States;X-APPLE-RADIUS=500;X-TITLE=23312 Harper Avenue:geo:-82.0638244,26.9620639
END:VEVENT
BEGIN:VEVENT
DTSTART;TZID=America/New_York:20180827T190000
DTEND;TZID=America/New_York:20180827T210000
DTSTAMP:20260424T221330
CREATED:20180814T115328Z
LAST-MODIFIED:20180814T115328Z
UID:10000245-1535396400-1535403600@aanorthport.org
SUMMARY:Pamphlet Party w/Dessert- Borderline Big Book Grp.
DESCRIPTION:Pamplet Party Flyer <–click here \nDessert Meeting!
URL:https://aanorthport.org/event/pamphlet-party-w-dessert-borderline-big-book-grp/
LOCATION:First Alliance Church\, 20444 Midway Blvd\, Port Charlotte\, FL\, 33952\, United States
GEO:26.9977954;-82.1133217
X-APPLE-STRUCTURED-LOCATION;VALUE=URI;X-ADDRESS=First Alliance Church 20444 Midway Blvd Port Charlotte FL 33952 United States;X-APPLE-RADIUS=500;X-TITLE=20444 Midway Blvd:geo:-82.1133217,26.9977954
END:VEVENT
BEGIN:VEVENT
DTSTART;TZID=America/New_York:20180730T190000
DTEND;TZID=America/New_York:20180730T210000
DTSTAMP:20260424T221330
CREATED:20180717T140803Z
LAST-MODIFIED:20180717T140803Z
UID:10000169-1532977200-1532984400@aanorthport.org
SUMMARY:16th Anniv.: Borderline Big Book Pt. Charlotte
DESCRIPTION:It’s an eating meeting\,\nBring a dish if you wish. (is that a Haiku?) \nFood & Fellowship at 7-7:30 followed by speaker meeting with Jerry E. From Living Sober Group in Naples.  Bring a friend. All are welcome: \nJuly 30th – 16th Anniversary: Borderline Big Book in Pt. Charlotte – Food and Speaker Flyer
URL:https://aanorthport.org/event/16th-anniv-borderline-big-book-pt-charlotte/
LOCATION:First Alliance Church\, 20444 Midway Blvd\, Port Charlotte\, FL\, 33952\, United States
GEO:26.9977954;-82.1133217
X-APPLE-STRUCTURED-LOCATION;VALUE=URI;X-ADDRESS=First Alliance Church 20444 Midway Blvd Port Charlotte FL 33952 United States;X-APPLE-RADIUS=500;X-TITLE=20444 Midway Blvd:geo:-82.1133217,26.9977954
END:VEVENT
BEGIN:VEVENT
DTSTART;TZID=America/New_York:20180728T070000
DTEND;TZID=America/New_York:20180728T100000
DTSTAMP:20260424T221330
CREATED:20180703T145024Z
LAST-MODIFIED:20180703T145024Z
UID:10000114-1532761200-1532772000@aanorthport.org
SUMMARY:15th Anniv. Celebration - Eye Openers Group
DESCRIPTION:Eye Openers Group 15th Anniversary Celebration!! \nClick on Flyer
URL:https://aanorthport.org/event/15th-anniv-celebration-eye-openers-group/
LOCATION:Congressional United Church\, 1201 Aqui Esta Drive\, Punta Gorda\, FL\, United States
GEO:26.9092924;-82.058207
X-APPLE-STRUCTURED-LOCATION;VALUE=URI;X-ADDRESS=Congressional United Church 1201 Aqui Esta Drive Punta Gorda FL United States;X-APPLE-RADIUS=500;X-TITLE=1201 Aqui Esta Drive:geo:-82.058207,26.9092924
END:VEVENT
BEGIN:VEVENT
DTSTART;TZID=America/New_York:20180723T193000
DTEND;TZID=America/New_York:20180723T213000
DTSTAMP:20260424T221330
CREATED:20180626T151819Z
LAST-MODIFIED:20180626T151841Z
UID:10000036-1532374200-1532381400@aanorthport.org
SUMMARY:Ice Cream Social !!
DESCRIPTION:The one\, the only — Annual — Presented by the Living Sober Group in Venice \nIce Cream Social –flyer!
URL:https://aanorthport.org/event/ice-cream-social/
LOCATION:Christ United Methodist Church\, 1475 Center Rd.\, Venice\, FL\, 34292\, United States
GEO:27.0796554;-82.3687883
X-APPLE-STRUCTURED-LOCATION;VALUE=URI;X-ADDRESS=Christ United Methodist Church 1475 Center Rd. Venice FL 34292 United States;X-APPLE-RADIUS=500;X-TITLE=1475 Center Rd.:geo:-82.3687883,27.0796554
END:VEVENT
BEGIN:VEVENT
DTSTART;TZID=America/New_York:20180719T190000
DTEND;TZID=America/New_York:20180719T200000
DTSTAMP:20260424T221330
CREATED:20180501T162515Z
LAST-MODIFIED:20180716T192020Z
UID:10000033-1532026800-1532030400@aanorthport.org
SUMMARY:IGR Meeting - CANCELED
DESCRIPTION:CANCELLED
URL:https://aanorthport.org/event/intergroup-igr-meeting-2018-07-19/
LOCATION:Intergroup Office of District 5 – SWFL\, 13325 Tamiami Trail\, Unit A\, North Port\, FL\, 34287\, United States
GEO:27.046958;-82.252493
X-APPLE-STRUCTURED-LOCATION;VALUE=URI;X-ADDRESS=Intergroup Office of District 5 – SWFL 13325 Tamiami Trail Unit A North Port FL 34287 United States;X-APPLE-RADIUS=500;X-TITLE=13325 Tamiami Trail\, Unit A:geo:-82.252493,27.046958
END:VEVENT
BEGIN:VEVENT
DTSTART;TZID=America/New_York:20180704T180000
DTEND;TZID=America/New_York:20180704T190000
DTSTAMP:20260424T221330
CREATED:20180501T160836Z
LAST-MODIFIED:20180619T133158Z
UID:10000045-1530727200-1530730800@aanorthport.org
SUMMARY:CANCELED-- IG Steering Comm. Mtg.
DESCRIPTION:Canceled for ONE MONTH ONLY for Holiday!
URL:https://aanorthport.org/event/intergroup-steering-comm-mtg-2018-07-04/
LOCATION:Intergroup Office of District 5 – SWFL\, 13325 Tamiami Trail\, Unit A\, North Port\, FL\, 34287\, United States
GEO:27.046958;-82.252493
X-APPLE-STRUCTURED-LOCATION;VALUE=URI;X-ADDRESS=Intergroup Office of District 5 – SWFL 13325 Tamiami Trail Unit A North Port FL 34287 United States;X-APPLE-RADIUS=500;X-TITLE=13325 Tamiami Trail\, Unit A:geo:-82.252493,27.046958
END:VEVENT
BEGIN:VEVENT
DTSTART;TZID=America/New_York:20180629T190000
DTEND;TZID=America/New_York:20180629T210000
DTSTAMP:20260424T221330
CREATED:20180611T171213Z
LAST-MODIFIED:20180611T171213Z
UID:10000035-1530298800-1530306000@aanorthport.org
SUMMARY:33rd Anniversary Party - I am Responsible Group
DESCRIPTION:6/29 Click HERE for Flyer \nPlease bring a small dish or desert. \nOpen Speaker Meeting begins at 8 0’clock. \nContact Vic M. for details:  941-426-4717
URL:https://aanorthport.org/event/33rd-anniversary-party-i-am-responsible-group/
LOCATION:Living Waters Lutheran Church\, 12475 Chancellor Blvd\, North Port\, FL\, United States
GEO:27.0329661;-82.2406311
X-APPLE-STRUCTURED-LOCATION;VALUE=URI;X-ADDRESS=Living Waters Lutheran Church 12475 Chancellor Blvd North Port FL United States;X-APPLE-RADIUS=500;X-TITLE=12475 Chancellor Blvd:geo:-82.2406311,27.0329661
END:VEVENT
BEGIN:VEVENT
DTSTART;TZID=America/New_York:20180501T190000
DTEND;TZID=America/New_York:20180501T200000
DTSTAMP:20260424T221330
CREATED:20180501T162134Z
LAST-MODIFIED:20231228T000321Z
UID:10000247-1525201200-1525204800@aanorthport.org
SUMMARY:PI/CPC Commitee Mtg.
DESCRIPTION:Monthly meeting of the Public Information/Cooperation with the Professional Community committee. \nPlease send an email to PICPC@aadistrict5.org for more information.
URL:https://aanorthport.org/event/pi-cpc-comm-mtg/
LOCATION:Shannon Schaub Library\, 4675 Career Lane\, North Port\, FL\, 34289
GEO:27.0960279;-82.1577863
X-APPLE-STRUCTURED-LOCATION;VALUE=URI;X-ADDRESS=Shannon Schaub Library 4675 Career Lane North Port FL 34289;X-APPLE-RADIUS=500;X-TITLE=4675 Career Lane:geo:-82.1577863,27.0960279
END:VEVENT
BEGIN:VEVENT
DTSTART;TZID=America/New_York:20180501T190000
DTEND;TZID=America/New_York:20180501T200000
DTSTAMP:20260424T221330
CREATED:20180501T160643Z
LAST-MODIFIED:20231227T235802Z
UID:10000250-1525201200-1525204800@aanorthport.org
SUMMARY:District 5 - DCM Committee Mtg
DESCRIPTION:
URL:https://aanorthport.org/event/dcm-committee-mtg/
LOCATION:Intergroup Office of District 5 – SWFL\, 13325 Tamiami Trail\, Unit A\, North Port\, FL\, 34287\, United States
GEO:27.046958;-82.252493
X-APPLE-STRUCTURED-LOCATION;VALUE=URI;X-ADDRESS=Intergroup Office of District 5 – SWFL 13325 Tamiami Trail Unit A North Port FL 34287 United States;X-APPLE-RADIUS=500;X-TITLE=13325 Tamiami Trail\, Unit A:geo:-82.252493,27.046958
END:VEVENT
BEGIN:VEVENT
DTSTART;TZID=America/New_York:20180501T180000
DTEND;TZID=America/New_York:20180501T200000
DTSTAMP:20260424T221330
CREATED:20180501T162410Z
LAST-MODIFIED:20231227T235540Z
UID:10000115-1525197600-1525204800@aanorthport.org
SUMMARY:District 5 Business Mtg.
DESCRIPTION:GSR Sharing Session begins at 6:00 pm.  District 5 Business meeting begins at 7:00 pm.\nIf something else is scheduled at 7:00 pm\, it will be in the Events Calendar separately.
URL:https://aanorthport.org/event/district-5-business-mtg/
LOCATION:St. Nathaniel’s Episcopal Church\, 4200 S. Biscayne Dr.\, North Port\, FL\, 34287\, United States
GEO:27.0546961;-82.2454699
X-APPLE-STRUCTURED-LOCATION;VALUE=URI;X-ADDRESS=St. Nathaniel’s Episcopal Church 4200 S. Biscayne Dr. North Port FL 34287 United States;X-APPLE-RADIUS=500;X-TITLE=4200 S. Biscayne Dr.:geo:-82.2454699,27.0546961
END:VEVENT
BEGIN:VEVENT
DTSTART;TZID=America/New_York:20180501T180000
DTEND;TZID=America/New_York:20180501T190000
DTSTAMP:20260424T221330
CREATED:20180501T162739Z
LAST-MODIFIED:20240103T231705Z
UID:10000034-1525197600-1525201200@aanorthport.org
SUMMARY:Accessibility Comm. Mtg.
DESCRIPTION:District 5 – Accessibility Committee Meeting \nA recurring  monthly online meeting every 4th Wednesday of the Month at 6:00 pm \nZoom ID 867 4592 6436\nPassword  Access
URL:https://aanorthport.org/event/accessibility-comm-mtg/
LOCATION:Online Meeting via Zoom
END:VEVENT
BEGIN:VEVENT
DTSTART;TZID=America/New_York:20180501T180000
DTEND;TZID=America/New_York:20180501T190000
DTSTAMP:20260424T221330
CREATED:20180501T161910Z
LAST-MODIFIED:20231228T001113Z
UID:10000248-1525197600-1525201200@aanorthport.org
SUMMARY:District 5 - Treatment Facilities Comm. Mtg.
DESCRIPTION:Monthly meeting every 2nd Wednesday of the month. \nEmail treatment@aadistrict5.org for more information.
URL:https://aanorthport.org/event/treatment-comm-mtg/
LOCATION:Intergroup Office of District 5 – SWFL\, 13325 Tamiami Trail\, Unit A\, North Port\, FL\, 34287\, United States
GEO:27.046958;-82.252493
X-APPLE-STRUCTURED-LOCATION;VALUE=URI;X-ADDRESS=Intergroup Office of District 5 – SWFL 13325 Tamiami Trail Unit A North Port FL 34287 United States;X-APPLE-RADIUS=500;X-TITLE=13325 Tamiami Trail\, Unit A:geo:-82.252493,27.046958
END:VEVENT
BEGIN:VEVENT
DTSTART;TZID=America/New_York:20180501T180000
DTEND;TZID=America/New_York:20180501T190000
DTSTAMP:20260424T221330
CREATED:20180501T161559Z
LAST-MODIFIED:20240103T231520Z
UID:10000249-1525197600-1525201200@aanorthport.org
SUMMARY:Archives Committee Mtg.
DESCRIPTION:District 5 – Archives Committee meeting \nMeets every 1st Thursday of the month. \nPlease email Achives@aadistrict5.org for more details.
URL:https://aanorthport.org/event/archives-comm-mtg/
LOCATION:Extra Space Storage\, 17960 Paulson Dr.\, Port Charlotte\, FL\, 33981\, United States
GEO:27.016747;-82.152288
X-APPLE-STRUCTURED-LOCATION;VALUE=URI;X-ADDRESS=Extra Space Storage 17960 Paulson Dr. Port Charlotte FL 33981 United States;X-APPLE-RADIUS=500;X-TITLE=17960 Paulson Dr.:geo:-82.152288,27.016747
END:VEVENT
BEGIN:VEVENT
DTSTART;TZID=America/New_York:20180501T100000
DTEND;TZID=America/New_York:20180501T110000
DTSTAMP:20260424T221330
CREATED:20180501T162028Z
LAST-MODIFIED:20231228T002829Z
UID:10000043-1525168800-1525172400@aanorthport.org
SUMMARY:District 5 - Corrections Comm. Mtg.
DESCRIPTION:Meets in person and online every 2nd Saturday of the month at 10:00 AM   \nIn person: Intergroup Office at 13325 Tamiami Trail\, North Port\, FL 34287 \nZoom meeting information:\nhttps://zoom.us/j/98765112013?pwd=dldQNEpGN2pZaCsvb2t4NzhwV1AzZz09 \nMeeting ID: 987 6511 2013\nPasscode: 5qwPET
URL:https://aanorthport.org/event/corrections-comm-mtg/
LOCATION:Intergroup Office of District 5 – SWFL\, 13325 Tamiami Trail\, Unit A\, North Port\, FL\, 34287\, United States
GEO:27.046958;-82.252493
X-APPLE-STRUCTURED-LOCATION;VALUE=URI;X-ADDRESS=Intergroup Office of District 5 – SWFL 13325 Tamiami Trail Unit A North Port FL 34287 United States;X-APPLE-RADIUS=500;X-TITLE=13325 Tamiami Trail\, Unit A:geo:-82.252493,27.046958
END:VEVENT
END:VCALENDAR