BEGIN:VCALENDAR
VERSION:2.0
PRODID:-//Intergroup - District 5 Florida - ECPv6.15.20//NONSGML v1.0//EN
CALSCALE:GREGORIAN
METHOD:PUBLISH
X-WR-CALNAME:Intergroup - District 5 Florida
X-ORIGINAL-URL:https://aanorthport.org
X-WR-CALDESC:Events for Intergroup - District 5 Florida
REFRESH-INTERVAL;VALUE=DURATION:PT1H
X-Robots-Tag:noindex
X-PUBLISHED-TTL:PT1H
BEGIN:VTIMEZONE
TZID:America/New_York
BEGIN:DAYLIGHT
TZOFFSETFROM:-0500
TZOFFSETTO:-0400
TZNAME:EDT
DTSTART:20270314T070000
END:DAYLIGHT
BEGIN:STANDARD
TZOFFSETFROM:-0400
TZOFFSETTO:-0500
TZNAME:EST
DTSTART:20271107T060000
END:STANDARD
BEGIN:DAYLIGHT
TZOFFSETFROM:-0500
TZOFFSETTO:-0400
TZNAME:EDT
DTSTART:20280312T070000
END:DAYLIGHT
BEGIN:STANDARD
TZOFFSETFROM:-0400
TZOFFSETTO:-0500
TZNAME:EST
DTSTART:20281105T060000
END:STANDARD
BEGIN:DAYLIGHT
TZOFFSETFROM:-0500
TZOFFSETTO:-0400
TZNAME:EDT
DTSTART:20290311T070000
END:DAYLIGHT
BEGIN:STANDARD
TZOFFSETFROM:-0400
TZOFFSETTO:-0500
TZNAME:EST
DTSTART:20291104T060000
END:STANDARD
BEGIN:DAYLIGHT
TZOFFSETFROM:-0500
TZOFFSETTO:-0400
TZNAME:EDT
DTSTART:20300310T070000
END:DAYLIGHT
BEGIN:STANDARD
TZOFFSETFROM:-0400
TZOFFSETTO:-0500
TZNAME:EST
DTSTART:20301103T060000
END:STANDARD
END:VTIMEZONE
BEGIN:VEVENT
DTSTART;TZID=America/New_York:20280217T180000
DTEND;TZID=America/New_York:20280217T190000
DTSTAMP:20260423T164117
CREATED:20240517T005039Z
LAST-MODIFIED:20240607T000449Z
UID:10000790-1834423200-1834426800@aanorthport.org
SUMMARY:IGR Meeting (hybrid)
DESCRIPTION:Intergroup Representative (IGR) Meeting\, in person  and online – NOTICE MEETING TIME CHANGE \n\n\n\nMeeting ID: 894 7593 7488Passcode: 246810 \n\n\n\nJoin Zoom Meetinghttps://us02web.zoom.us/j/89475937488?pwd=SGhSNHl6L1N3aExFb0h4UTFtdnNrUT09
URL:https://aanorthport.org/event/49558/2028-02-17/
LOCATION:Intergroup Office of District 5 – SWFL\, 13325 Tamiami Trail\, Unit A\, North Port\, FL\, 34287\, United States
CATEGORIES:Service Meetings
GEO:27.046958;-82.252493
X-APPLE-STRUCTURED-LOCATION;VALUE=URI;X-ADDRESS=Intergroup Office of District 5 – SWFL 13325 Tamiami Trail Unit A North Port FL 34287 United States;X-APPLE-RADIUS=500;X-TITLE=13325 Tamiami Trail\, Unit A:geo:-82.252493,27.046958
END:VEVENT
BEGIN:VEVENT
DTSTART;TZID=America/New_York:20280316T180000
DTEND;TZID=America/New_York:20280316T190000
DTSTAMP:20260423T164117
CREATED:20240517T005039Z
LAST-MODIFIED:20240607T000449Z
UID:10000791-1836842400-1836846000@aanorthport.org
SUMMARY:IGR Meeting (hybrid)
DESCRIPTION:Intergroup Representative (IGR) Meeting\, in person  and online – NOTICE MEETING TIME CHANGE \n\n\n\nMeeting ID: 894 7593 7488Passcode: 246810 \n\n\n\nJoin Zoom Meetinghttps://us02web.zoom.us/j/89475937488?pwd=SGhSNHl6L1N3aExFb0h4UTFtdnNrUT09
URL:https://aanorthport.org/event/49558/2028-03-16/
LOCATION:Intergroup Office of District 5 – SWFL\, 13325 Tamiami Trail\, Unit A\, North Port\, FL\, 34287\, United States
CATEGORIES:Service Meetings
GEO:27.046958;-82.252493
X-APPLE-STRUCTURED-LOCATION;VALUE=URI;X-ADDRESS=Intergroup Office of District 5 – SWFL 13325 Tamiami Trail Unit A North Port FL 34287 United States;X-APPLE-RADIUS=500;X-TITLE=13325 Tamiami Trail\, Unit A:geo:-82.252493,27.046958
END:VEVENT
BEGIN:VEVENT
DTSTART;TZID=America/New_York:20280420T180000
DTEND;TZID=America/New_York:20280420T190000
DTSTAMP:20260423T164117
CREATED:20240517T005039Z
LAST-MODIFIED:20240607T000449Z
UID:10000792-1839866400-1839870000@aanorthport.org
SUMMARY:IGR Meeting (hybrid)
DESCRIPTION:Intergroup Representative (IGR) Meeting\, in person  and online – NOTICE MEETING TIME CHANGE \n\n\n\nMeeting ID: 894 7593 7488Passcode: 246810 \n\n\n\nJoin Zoom Meetinghttps://us02web.zoom.us/j/89475937488?pwd=SGhSNHl6L1N3aExFb0h4UTFtdnNrUT09
URL:https://aanorthport.org/event/49558/2028-04-20/
LOCATION:Intergroup Office of District 5 – SWFL\, 13325 Tamiami Trail\, Unit A\, North Port\, FL\, 34287\, United States
CATEGORIES:Service Meetings
GEO:27.046958;-82.252493
X-APPLE-STRUCTURED-LOCATION;VALUE=URI;X-ADDRESS=Intergroup Office of District 5 – SWFL 13325 Tamiami Trail Unit A North Port FL 34287 United States;X-APPLE-RADIUS=500;X-TITLE=13325 Tamiami Trail\, Unit A:geo:-82.252493,27.046958
END:VEVENT
BEGIN:VEVENT
DTSTART;TZID=America/New_York:20280518T180000
DTEND;TZID=America/New_York:20280518T190000
DTSTAMP:20260423T164117
CREATED:20240517T005039Z
LAST-MODIFIED:20240607T000449Z
UID:10000793-1842285600-1842289200@aanorthport.org
SUMMARY:IGR Meeting (hybrid)
DESCRIPTION:Intergroup Representative (IGR) Meeting\, in person  and online – NOTICE MEETING TIME CHANGE \n\n\n\nMeeting ID: 894 7593 7488Passcode: 246810 \n\n\n\nJoin Zoom Meetinghttps://us02web.zoom.us/j/89475937488?pwd=SGhSNHl6L1N3aExFb0h4UTFtdnNrUT09
URL:https://aanorthport.org/event/49558/2028-05-18/
LOCATION:Intergroup Office of District 5 – SWFL\, 13325 Tamiami Trail\, Unit A\, North Port\, FL\, 34287\, United States
CATEGORIES:Service Meetings
GEO:27.046958;-82.252493
X-APPLE-STRUCTURED-LOCATION;VALUE=URI;X-ADDRESS=Intergroup Office of District 5 – SWFL 13325 Tamiami Trail Unit A North Port FL 34287 United States;X-APPLE-RADIUS=500;X-TITLE=13325 Tamiami Trail\, Unit A:geo:-82.252493,27.046958
END:VEVENT
BEGIN:VEVENT
DTSTART;TZID=America/New_York:20280615T180000
DTEND;TZID=America/New_York:20280615T190000
DTSTAMP:20260423T164117
CREATED:20240517T005039Z
LAST-MODIFIED:20240607T000449Z
UID:10000794-1844704800-1844708400@aanorthport.org
SUMMARY:IGR Meeting (hybrid)
DESCRIPTION:Intergroup Representative (IGR) Meeting\, in person  and online – NOTICE MEETING TIME CHANGE \n\n\n\nMeeting ID: 894 7593 7488Passcode: 246810 \n\n\n\nJoin Zoom Meetinghttps://us02web.zoom.us/j/89475937488?pwd=SGhSNHl6L1N3aExFb0h4UTFtdnNrUT09
URL:https://aanorthport.org/event/49558/2028-06-15/
LOCATION:Intergroup Office of District 5 – SWFL\, 13325 Tamiami Trail\, Unit A\, North Port\, FL\, 34287\, United States
CATEGORIES:Service Meetings
GEO:27.046958;-82.252493
X-APPLE-STRUCTURED-LOCATION;VALUE=URI;X-ADDRESS=Intergroup Office of District 5 – SWFL 13325 Tamiami Trail Unit A North Port FL 34287 United States;X-APPLE-RADIUS=500;X-TITLE=13325 Tamiami Trail\, Unit A:geo:-82.252493,27.046958
END:VEVENT
BEGIN:VEVENT
DTSTART;TZID=America/New_York:20280720T180000
DTEND;TZID=America/New_York:20280720T190000
DTSTAMP:20260423T164117
CREATED:20240517T005039Z
LAST-MODIFIED:20240607T000449Z
UID:10000795-1847728800-1847732400@aanorthport.org
SUMMARY:IGR Meeting (hybrid)
DESCRIPTION:Intergroup Representative (IGR) Meeting\, in person  and online – NOTICE MEETING TIME CHANGE \n\n\n\nMeeting ID: 894 7593 7488Passcode: 246810 \n\n\n\nJoin Zoom Meetinghttps://us02web.zoom.us/j/89475937488?pwd=SGhSNHl6L1N3aExFb0h4UTFtdnNrUT09
URL:https://aanorthport.org/event/49558/2028-07-20/
LOCATION:Intergroup Office of District 5 – SWFL\, 13325 Tamiami Trail\, Unit A\, North Port\, FL\, 34287\, United States
CATEGORIES:Service Meetings
GEO:27.046958;-82.252493
X-APPLE-STRUCTURED-LOCATION;VALUE=URI;X-ADDRESS=Intergroup Office of District 5 – SWFL 13325 Tamiami Trail Unit A North Port FL 34287 United States;X-APPLE-RADIUS=500;X-TITLE=13325 Tamiami Trail\, Unit A:geo:-82.252493,27.046958
END:VEVENT
BEGIN:VEVENT
DTSTART;TZID=America/New_York:20280817T180000
DTEND;TZID=America/New_York:20280817T190000
DTSTAMP:20260423T164117
CREATED:20240517T005039Z
LAST-MODIFIED:20240607T000449Z
UID:10000796-1850148000-1850151600@aanorthport.org
SUMMARY:IGR Meeting (hybrid)
DESCRIPTION:Intergroup Representative (IGR) Meeting\, in person  and online – NOTICE MEETING TIME CHANGE \n\n\n\nMeeting ID: 894 7593 7488Passcode: 246810 \n\n\n\nJoin Zoom Meetinghttps://us02web.zoom.us/j/89475937488?pwd=SGhSNHl6L1N3aExFb0h4UTFtdnNrUT09
URL:https://aanorthport.org/event/49558/2028-08-17/
LOCATION:Intergroup Office of District 5 – SWFL\, 13325 Tamiami Trail\, Unit A\, North Port\, FL\, 34287\, United States
CATEGORIES:Service Meetings
GEO:27.046958;-82.252493
X-APPLE-STRUCTURED-LOCATION;VALUE=URI;X-ADDRESS=Intergroup Office of District 5 – SWFL 13325 Tamiami Trail Unit A North Port FL 34287 United States;X-APPLE-RADIUS=500;X-TITLE=13325 Tamiami Trail\, Unit A:geo:-82.252493,27.046958
END:VEVENT
BEGIN:VEVENT
DTSTART;TZID=America/New_York:20280921T180000
DTEND;TZID=America/New_York:20280921T190000
DTSTAMP:20260423T164117
CREATED:20240517T005039Z
LAST-MODIFIED:20240607T000449Z
UID:10000797-1853172000-1853175600@aanorthport.org
SUMMARY:IGR Meeting (hybrid)
DESCRIPTION:Intergroup Representative (IGR) Meeting\, in person  and online – NOTICE MEETING TIME CHANGE \n\n\n\nMeeting ID: 894 7593 7488Passcode: 246810 \n\n\n\nJoin Zoom Meetinghttps://us02web.zoom.us/j/89475937488?pwd=SGhSNHl6L1N3aExFb0h4UTFtdnNrUT09
URL:https://aanorthport.org/event/49558/2028-09-21/
LOCATION:Intergroup Office of District 5 – SWFL\, 13325 Tamiami Trail\, Unit A\, North Port\, FL\, 34287\, United States
CATEGORIES:Service Meetings
GEO:27.046958;-82.252493
X-APPLE-STRUCTURED-LOCATION;VALUE=URI;X-ADDRESS=Intergroup Office of District 5 – SWFL 13325 Tamiami Trail Unit A North Port FL 34287 United States;X-APPLE-RADIUS=500;X-TITLE=13325 Tamiami Trail\, Unit A:geo:-82.252493,27.046958
END:VEVENT
BEGIN:VEVENT
DTSTART;TZID=America/New_York:20281019T180000
DTEND;TZID=America/New_York:20281019T190000
DTSTAMP:20260423T164117
CREATED:20240517T005039Z
LAST-MODIFIED:20240607T000449Z
UID:10000798-1855591200-1855594800@aanorthport.org
SUMMARY:IGR Meeting (hybrid)
DESCRIPTION:Intergroup Representative (IGR) Meeting\, in person  and online – NOTICE MEETING TIME CHANGE \n\n\n\nMeeting ID: 894 7593 7488Passcode: 246810 \n\n\n\nJoin Zoom Meetinghttps://us02web.zoom.us/j/89475937488?pwd=SGhSNHl6L1N3aExFb0h4UTFtdnNrUT09
URL:https://aanorthport.org/event/49558/2028-10-19/
LOCATION:Intergroup Office of District 5 – SWFL\, 13325 Tamiami Trail\, Unit A\, North Port\, FL\, 34287\, United States
CATEGORIES:Service Meetings
GEO:27.046958;-82.252493
X-APPLE-STRUCTURED-LOCATION;VALUE=URI;X-ADDRESS=Intergroup Office of District 5 – SWFL 13325 Tamiami Trail Unit A North Port FL 34287 United States;X-APPLE-RADIUS=500;X-TITLE=13325 Tamiami Trail\, Unit A:geo:-82.252493,27.046958
END:VEVENT
BEGIN:VEVENT
DTSTART;TZID=America/New_York:20281116T180000
DTEND;TZID=America/New_York:20281116T190000
DTSTAMP:20260423T164117
CREATED:20240517T005039Z
LAST-MODIFIED:20240607T000449Z
UID:10000799-1858010400-1858014000@aanorthport.org
SUMMARY:IGR Meeting (hybrid)
DESCRIPTION:Intergroup Representative (IGR) Meeting\, in person  and online – NOTICE MEETING TIME CHANGE \n\n\n\nMeeting ID: 894 7593 7488Passcode: 246810 \n\n\n\nJoin Zoom Meetinghttps://us02web.zoom.us/j/89475937488?pwd=SGhSNHl6L1N3aExFb0h4UTFtdnNrUT09
URL:https://aanorthport.org/event/49558/2028-11-16/
LOCATION:Intergroup Office of District 5 – SWFL\, 13325 Tamiami Trail\, Unit A\, North Port\, FL\, 34287\, United States
CATEGORIES:Service Meetings
GEO:27.046958;-82.252493
X-APPLE-STRUCTURED-LOCATION;VALUE=URI;X-ADDRESS=Intergroup Office of District 5 – SWFL 13325 Tamiami Trail Unit A North Port FL 34287 United States;X-APPLE-RADIUS=500;X-TITLE=13325 Tamiami Trail\, Unit A:geo:-82.252493,27.046958
END:VEVENT
BEGIN:VEVENT
DTSTART;TZID=America/New_York:20281221T180000
DTEND;TZID=America/New_York:20281221T190000
DTSTAMP:20260423T164117
CREATED:20240517T005039Z
LAST-MODIFIED:20240607T000449Z
UID:10000800-1861034400-1861038000@aanorthport.org
SUMMARY:IGR Meeting (hybrid)
DESCRIPTION:Intergroup Representative (IGR) Meeting\, in person  and online – NOTICE MEETING TIME CHANGE \n\n\n\nMeeting ID: 894 7593 7488Passcode: 246810 \n\n\n\nJoin Zoom Meetinghttps://us02web.zoom.us/j/89475937488?pwd=SGhSNHl6L1N3aExFb0h4UTFtdnNrUT09
URL:https://aanorthport.org/event/49558/2028-12-21/
LOCATION:Intergroup Office of District 5 – SWFL\, 13325 Tamiami Trail\, Unit A\, North Port\, FL\, 34287\, United States
CATEGORIES:Service Meetings
GEO:27.046958;-82.252493
X-APPLE-STRUCTURED-LOCATION;VALUE=URI;X-ADDRESS=Intergroup Office of District 5 – SWFL 13325 Tamiami Trail Unit A North Port FL 34287 United States;X-APPLE-RADIUS=500;X-TITLE=13325 Tamiami Trail\, Unit A:geo:-82.252493,27.046958
END:VEVENT
BEGIN:VEVENT
DTSTART;TZID=America/New_York:20290118T180000
DTEND;TZID=America/New_York:20290118T190000
DTSTAMP:20260423T164117
CREATED:20240517T005039Z
LAST-MODIFIED:20240607T000449Z
UID:10000801-1863453600-1863457200@aanorthport.org
SUMMARY:IGR Meeting (hybrid)
DESCRIPTION:Intergroup Representative (IGR) Meeting\, in person  and online – NOTICE MEETING TIME CHANGE \n\n\n\nMeeting ID: 894 7593 7488Passcode: 246810 \n\n\n\nJoin Zoom Meetinghttps://us02web.zoom.us/j/89475937488?pwd=SGhSNHl6L1N3aExFb0h4UTFtdnNrUT09
URL:https://aanorthport.org/event/49558/2029-01-18/
LOCATION:Intergroup Office of District 5 – SWFL\, 13325 Tamiami Trail\, Unit A\, North Port\, FL\, 34287\, United States
CATEGORIES:Service Meetings
GEO:27.046958;-82.252493
X-APPLE-STRUCTURED-LOCATION;VALUE=URI;X-ADDRESS=Intergroup Office of District 5 – SWFL 13325 Tamiami Trail Unit A North Port FL 34287 United States;X-APPLE-RADIUS=500;X-TITLE=13325 Tamiami Trail\, Unit A:geo:-82.252493,27.046958
END:VEVENT
BEGIN:VEVENT
DTSTART;TZID=America/New_York:20290215T180000
DTEND;TZID=America/New_York:20290215T190000
DTSTAMP:20260423T164117
CREATED:20240517T005039Z
LAST-MODIFIED:20240607T000449Z
UID:10000802-1865872800-1865876400@aanorthport.org
SUMMARY:IGR Meeting (hybrid)
DESCRIPTION:Intergroup Representative (IGR) Meeting\, in person  and online – NOTICE MEETING TIME CHANGE \n\n\n\nMeeting ID: 894 7593 7488Passcode: 246810 \n\n\n\nJoin Zoom Meetinghttps://us02web.zoom.us/j/89475937488?pwd=SGhSNHl6L1N3aExFb0h4UTFtdnNrUT09
URL:https://aanorthport.org/event/49558/2029-02-15/
LOCATION:Intergroup Office of District 5 – SWFL\, 13325 Tamiami Trail\, Unit A\, North Port\, FL\, 34287\, United States
CATEGORIES:Service Meetings
GEO:27.046958;-82.252493
X-APPLE-STRUCTURED-LOCATION;VALUE=URI;X-ADDRESS=Intergroup Office of District 5 – SWFL 13325 Tamiami Trail Unit A North Port FL 34287 United States;X-APPLE-RADIUS=500;X-TITLE=13325 Tamiami Trail\, Unit A:geo:-82.252493,27.046958
END:VEVENT
BEGIN:VEVENT
DTSTART;TZID=America/New_York:20290315T180000
DTEND;TZID=America/New_York:20290315T190000
DTSTAMP:20260423T164117
CREATED:20240517T005039Z
LAST-MODIFIED:20240607T000449Z
UID:10000803-1868292000-1868295600@aanorthport.org
SUMMARY:IGR Meeting (hybrid)
DESCRIPTION:Intergroup Representative (IGR) Meeting\, in person  and online – NOTICE MEETING TIME CHANGE \n\n\n\nMeeting ID: 894 7593 7488Passcode: 246810 \n\n\n\nJoin Zoom Meetinghttps://us02web.zoom.us/j/89475937488?pwd=SGhSNHl6L1N3aExFb0h4UTFtdnNrUT09
URL:https://aanorthport.org/event/49558/2029-03-15/
LOCATION:Intergroup Office of District 5 – SWFL\, 13325 Tamiami Trail\, Unit A\, North Port\, FL\, 34287\, United States
CATEGORIES:Service Meetings
GEO:27.046958;-82.252493
X-APPLE-STRUCTURED-LOCATION;VALUE=URI;X-ADDRESS=Intergroup Office of District 5 – SWFL 13325 Tamiami Trail Unit A North Port FL 34287 United States;X-APPLE-RADIUS=500;X-TITLE=13325 Tamiami Trail\, Unit A:geo:-82.252493,27.046958
END:VEVENT
BEGIN:VEVENT
DTSTART;TZID=America/New_York:20290419T180000
DTEND;TZID=America/New_York:20290419T190000
DTSTAMP:20260423T164117
CREATED:20240517T005039Z
LAST-MODIFIED:20240607T000449Z
UID:10000804-1871316000-1871319600@aanorthport.org
SUMMARY:IGR Meeting (hybrid)
DESCRIPTION:Intergroup Representative (IGR) Meeting\, in person  and online – NOTICE MEETING TIME CHANGE \n\n\n\nMeeting ID: 894 7593 7488Passcode: 246810 \n\n\n\nJoin Zoom Meetinghttps://us02web.zoom.us/j/89475937488?pwd=SGhSNHl6L1N3aExFb0h4UTFtdnNrUT09
URL:https://aanorthport.org/event/49558/2029-04-19/
LOCATION:Intergroup Office of District 5 – SWFL\, 13325 Tamiami Trail\, Unit A\, North Port\, FL\, 34287\, United States
CATEGORIES:Service Meetings
GEO:27.046958;-82.252493
X-APPLE-STRUCTURED-LOCATION;VALUE=URI;X-ADDRESS=Intergroup Office of District 5 – SWFL 13325 Tamiami Trail Unit A North Port FL 34287 United States;X-APPLE-RADIUS=500;X-TITLE=13325 Tamiami Trail\, Unit A:geo:-82.252493,27.046958
END:VEVENT
BEGIN:VEVENT
DTSTART;TZID=America/New_York:20290517T180000
DTEND;TZID=America/New_York:20290517T190000
DTSTAMP:20260423T164117
CREATED:20240517T005039Z
LAST-MODIFIED:20240607T000449Z
UID:10000809-1873735200-1873738800@aanorthport.org
SUMMARY:IGR Meeting (hybrid)
DESCRIPTION:Intergroup Representative (IGR) Meeting\, in person  and online – NOTICE MEETING TIME CHANGE \n\n\n\nMeeting ID: 894 7593 7488Passcode: 246810 \n\n\n\nJoin Zoom Meetinghttps://us02web.zoom.us/j/89475937488?pwd=SGhSNHl6L1N3aExFb0h4UTFtdnNrUT09
URL:https://aanorthport.org/event/49558/2029-05-17/
LOCATION:Intergroup Office of District 5 – SWFL\, 13325 Tamiami Trail\, Unit A\, North Port\, FL\, 34287\, United States
CATEGORIES:Service Meetings
GEO:27.046958;-82.252493
X-APPLE-STRUCTURED-LOCATION;VALUE=URI;X-ADDRESS=Intergroup Office of District 5 – SWFL 13325 Tamiami Trail Unit A North Port FL 34287 United States;X-APPLE-RADIUS=500;X-TITLE=13325 Tamiami Trail\, Unit A:geo:-82.252493,27.046958
END:VEVENT
END:VCALENDAR