BEGIN:VCALENDAR
VERSION:2.0
PRODID:-//Intergroup - District 5 Florida - ECPv6.15.20//NONSGML v1.0//EN
CALSCALE:GREGORIAN
METHOD:PUBLISH
X-WR-CALNAME:Intergroup - District 5 Florida
X-ORIGINAL-URL:https://aanorthport.org
X-WR-CALDESC:Events for Intergroup - District 5 Florida
REFRESH-INTERVAL;VALUE=DURATION:PT1H
X-Robots-Tag:noindex
X-PUBLISHED-TTL:PT1H
BEGIN:VTIMEZONE
TZID:America/New_York
BEGIN:DAYLIGHT
TZOFFSETFROM:-0500
TZOFFSETTO:-0400
TZNAME:EDT
DTSTART:20270314T070000
END:DAYLIGHT
BEGIN:STANDARD
TZOFFSETFROM:-0400
TZOFFSETTO:-0500
TZNAME:EST
DTSTART:20271107T060000
END:STANDARD
BEGIN:DAYLIGHT
TZOFFSETFROM:-0500
TZOFFSETTO:-0400
TZNAME:EDT
DTSTART:20280312T070000
END:DAYLIGHT
BEGIN:STANDARD
TZOFFSETFROM:-0400
TZOFFSETTO:-0500
TZNAME:EST
DTSTART:20281105T060000
END:STANDARD
BEGIN:DAYLIGHT
TZOFFSETFROM:-0500
TZOFFSETTO:-0400
TZNAME:EDT
DTSTART:20290311T070000
END:DAYLIGHT
BEGIN:STANDARD
TZOFFSETFROM:-0400
TZOFFSETTO:-0500
TZNAME:EST
DTSTART:20291104T060000
END:STANDARD
BEGIN:DAYLIGHT
TZOFFSETFROM:-0500
TZOFFSETTO:-0400
TZNAME:EDT
DTSTART:20300310T070000
END:DAYLIGHT
BEGIN:STANDARD
TZOFFSETFROM:-0400
TZOFFSETTO:-0500
TZNAME:EST
DTSTART:20301103T060000
END:STANDARD
END:VTIMEZONE
BEGIN:VEVENT
DTSTART;TZID=America/New_York:20280215T190000
DTEND;TZID=America/New_York:20280215T200000
DTSTAMP:20260423T181443
CREATED:20241117T234444Z
LAST-MODIFIED:20241117T234448Z
UID:10000719-1834254000-1834257600@aanorthport.org
SUMMARY:District 5 Business Meeting
DESCRIPTION:GSR Sharing 6:00pmDistrict 5 Business Meeting 7:00pm\n\n\n\nGSR sharing is at 6:00pm \n\n\n\nDistrict 5 Business meeting starts at 7:00pm
URL:https://aanorthport.org/event/district-5-business-meeting-5/2028-02-15/
LOCATION:St. Nathaniel’s Episcopal Church\, 4200 S. Biscayne Dr.\, North Port\, FL\, 34287\, United States
CATEGORIES:Service Meetings
GEO:27.0546961;-82.2454699
X-APPLE-STRUCTURED-LOCATION;VALUE=URI;X-ADDRESS=St. Nathaniel’s Episcopal Church 4200 S. Biscayne Dr. North Port FL 34287 United States;X-APPLE-RADIUS=500;X-TITLE=4200 S. Biscayne Dr.:geo:-82.2454699,27.0546961
END:VEVENT
BEGIN:VEVENT
DTSTART;TZID=America/New_York:20280321T190000
DTEND;TZID=America/New_York:20280321T200000
DTSTAMP:20260423T181443
CREATED:20241117T234444Z
LAST-MODIFIED:20241117T234448Z
UID:10000720-1837278000-1837281600@aanorthport.org
SUMMARY:District 5 Business Meeting
DESCRIPTION:GSR Sharing 6:00pmDistrict 5 Business Meeting 7:00pm\n\n\n\nGSR sharing is at 6:00pm \n\n\n\nDistrict 5 Business meeting starts at 7:00pm
URL:https://aanorthport.org/event/district-5-business-meeting-5/2028-03-21/
LOCATION:St. Nathaniel’s Episcopal Church\, 4200 S. Biscayne Dr.\, North Port\, FL\, 34287\, United States
CATEGORIES:Service Meetings
GEO:27.0546961;-82.2454699
X-APPLE-STRUCTURED-LOCATION;VALUE=URI;X-ADDRESS=St. Nathaniel’s Episcopal Church 4200 S. Biscayne Dr. North Port FL 34287 United States;X-APPLE-RADIUS=500;X-TITLE=4200 S. Biscayne Dr.:geo:-82.2454699,27.0546961
END:VEVENT
BEGIN:VEVENT
DTSTART;TZID=America/New_York:20280418T190000
DTEND;TZID=America/New_York:20280418T200000
DTSTAMP:20260423T181443
CREATED:20241117T234444Z
LAST-MODIFIED:20241117T234448Z
UID:10000721-1839697200-1839700800@aanorthport.org
SUMMARY:District 5 Business Meeting
DESCRIPTION:GSR Sharing 6:00pmDistrict 5 Business Meeting 7:00pm\n\n\n\nGSR sharing is at 6:00pm \n\n\n\nDistrict 5 Business meeting starts at 7:00pm
URL:https://aanorthport.org/event/district-5-business-meeting-5/2028-04-18/
LOCATION:St. Nathaniel’s Episcopal Church\, 4200 S. Biscayne Dr.\, North Port\, FL\, 34287\, United States
CATEGORIES:Service Meetings
GEO:27.0546961;-82.2454699
X-APPLE-STRUCTURED-LOCATION;VALUE=URI;X-ADDRESS=St. Nathaniel’s Episcopal Church 4200 S. Biscayne Dr. North Port FL 34287 United States;X-APPLE-RADIUS=500;X-TITLE=4200 S. Biscayne Dr.:geo:-82.2454699,27.0546961
END:VEVENT
BEGIN:VEVENT
DTSTART;TZID=America/New_York:20280516T190000
DTEND;TZID=America/New_York:20280516T200000
DTSTAMP:20260423T181443
CREATED:20241117T234444Z
LAST-MODIFIED:20241117T234448Z
UID:10000722-1842116400-1842120000@aanorthport.org
SUMMARY:District 5 Business Meeting
DESCRIPTION:GSR Sharing 6:00pmDistrict 5 Business Meeting 7:00pm\n\n\n\nGSR sharing is at 6:00pm \n\n\n\nDistrict 5 Business meeting starts at 7:00pm
URL:https://aanorthport.org/event/district-5-business-meeting-5/2028-05-16/
LOCATION:St. Nathaniel’s Episcopal Church\, 4200 S. Biscayne Dr.\, North Port\, FL\, 34287\, United States
CATEGORIES:Service Meetings
GEO:27.0546961;-82.2454699
X-APPLE-STRUCTURED-LOCATION;VALUE=URI;X-ADDRESS=St. Nathaniel’s Episcopal Church 4200 S. Biscayne Dr. North Port FL 34287 United States;X-APPLE-RADIUS=500;X-TITLE=4200 S. Biscayne Dr.:geo:-82.2454699,27.0546961
END:VEVENT
BEGIN:VEVENT
DTSTART;TZID=America/New_York:20280620T190000
DTEND;TZID=America/New_York:20280620T200000
DTSTAMP:20260423T181443
CREATED:20241117T234444Z
LAST-MODIFIED:20241117T234448Z
UID:10000723-1845140400-1845144000@aanorthport.org
SUMMARY:District 5 Business Meeting
DESCRIPTION:GSR Sharing 6:00pmDistrict 5 Business Meeting 7:00pm\n\n\n\nGSR sharing is at 6:00pm \n\n\n\nDistrict 5 Business meeting starts at 7:00pm
URL:https://aanorthport.org/event/district-5-business-meeting-5/2028-06-20/
LOCATION:St. Nathaniel’s Episcopal Church\, 4200 S. Biscayne Dr.\, North Port\, FL\, 34287\, United States
CATEGORIES:Service Meetings
GEO:27.0546961;-82.2454699
X-APPLE-STRUCTURED-LOCATION;VALUE=URI;X-ADDRESS=St. Nathaniel’s Episcopal Church 4200 S. Biscayne Dr. North Port FL 34287 United States;X-APPLE-RADIUS=500;X-TITLE=4200 S. Biscayne Dr.:geo:-82.2454699,27.0546961
END:VEVENT
BEGIN:VEVENT
DTSTART;TZID=America/New_York:20280718T190000
DTEND;TZID=America/New_York:20280718T200000
DTSTAMP:20260423T181443
CREATED:20241117T234444Z
LAST-MODIFIED:20241117T234448Z
UID:10000724-1847559600-1847563200@aanorthport.org
SUMMARY:District 5 Business Meeting
DESCRIPTION:GSR Sharing 6:00pmDistrict 5 Business Meeting 7:00pm\n\n\n\nGSR sharing is at 6:00pm \n\n\n\nDistrict 5 Business meeting starts at 7:00pm
URL:https://aanorthport.org/event/district-5-business-meeting-5/2028-07-18/
LOCATION:St. Nathaniel’s Episcopal Church\, 4200 S. Biscayne Dr.\, North Port\, FL\, 34287\, United States
CATEGORIES:Service Meetings
GEO:27.0546961;-82.2454699
X-APPLE-STRUCTURED-LOCATION;VALUE=URI;X-ADDRESS=St. Nathaniel’s Episcopal Church 4200 S. Biscayne Dr. North Port FL 34287 United States;X-APPLE-RADIUS=500;X-TITLE=4200 S. Biscayne Dr.:geo:-82.2454699,27.0546961
END:VEVENT
BEGIN:VEVENT
DTSTART;TZID=America/New_York:20280815T190000
DTEND;TZID=America/New_York:20280815T200000
DTSTAMP:20260423T181443
CREATED:20241117T234444Z
LAST-MODIFIED:20241117T234448Z
UID:10000725-1849978800-1849982400@aanorthport.org
SUMMARY:District 5 Business Meeting
DESCRIPTION:GSR Sharing 6:00pmDistrict 5 Business Meeting 7:00pm\n\n\n\nGSR sharing is at 6:00pm \n\n\n\nDistrict 5 Business meeting starts at 7:00pm
URL:https://aanorthport.org/event/district-5-business-meeting-5/2028-08-15/
LOCATION:St. Nathaniel’s Episcopal Church\, 4200 S. Biscayne Dr.\, North Port\, FL\, 34287\, United States
CATEGORIES:Service Meetings
GEO:27.0546961;-82.2454699
X-APPLE-STRUCTURED-LOCATION;VALUE=URI;X-ADDRESS=St. Nathaniel’s Episcopal Church 4200 S. Biscayne Dr. North Port FL 34287 United States;X-APPLE-RADIUS=500;X-TITLE=4200 S. Biscayne Dr.:geo:-82.2454699,27.0546961
END:VEVENT
BEGIN:VEVENT
DTSTART;TZID=America/New_York:20280919T190000
DTEND;TZID=America/New_York:20280919T200000
DTSTAMP:20260423T181443
CREATED:20241117T234444Z
LAST-MODIFIED:20241117T234448Z
UID:10000726-1853002800-1853006400@aanorthport.org
SUMMARY:District 5 Business Meeting
DESCRIPTION:GSR Sharing 6:00pmDistrict 5 Business Meeting 7:00pm\n\n\n\nGSR sharing is at 6:00pm \n\n\n\nDistrict 5 Business meeting starts at 7:00pm
URL:https://aanorthport.org/event/district-5-business-meeting-5/2028-09-19/
LOCATION:St. Nathaniel’s Episcopal Church\, 4200 S. Biscayne Dr.\, North Port\, FL\, 34287\, United States
CATEGORIES:Service Meetings
GEO:27.0546961;-82.2454699
X-APPLE-STRUCTURED-LOCATION;VALUE=URI;X-ADDRESS=St. Nathaniel’s Episcopal Church 4200 S. Biscayne Dr. North Port FL 34287 United States;X-APPLE-RADIUS=500;X-TITLE=4200 S. Biscayne Dr.:geo:-82.2454699,27.0546961
END:VEVENT
BEGIN:VEVENT
DTSTART;TZID=America/New_York:20281017T190000
DTEND;TZID=America/New_York:20281017T200000
DTSTAMP:20260423T181443
CREATED:20241117T234444Z
LAST-MODIFIED:20241117T234448Z
UID:10000727-1855422000-1855425600@aanorthport.org
SUMMARY:District 5 Business Meeting
DESCRIPTION:GSR Sharing 6:00pmDistrict 5 Business Meeting 7:00pm\n\n\n\nGSR sharing is at 6:00pm \n\n\n\nDistrict 5 Business meeting starts at 7:00pm
URL:https://aanorthport.org/event/district-5-business-meeting-5/2028-10-17/
LOCATION:St. Nathaniel’s Episcopal Church\, 4200 S. Biscayne Dr.\, North Port\, FL\, 34287\, United States
CATEGORIES:Service Meetings
GEO:27.0546961;-82.2454699
X-APPLE-STRUCTURED-LOCATION;VALUE=URI;X-ADDRESS=St. Nathaniel’s Episcopal Church 4200 S. Biscayne Dr. North Port FL 34287 United States;X-APPLE-RADIUS=500;X-TITLE=4200 S. Biscayne Dr.:geo:-82.2454699,27.0546961
END:VEVENT
BEGIN:VEVENT
DTSTART;TZID=America/New_York:20281121T190000
DTEND;TZID=America/New_York:20281121T200000
DTSTAMP:20260423T181443
CREATED:20241117T234444Z
LAST-MODIFIED:20241117T234448Z
UID:10000728-1858446000-1858449600@aanorthport.org
SUMMARY:District 5 Business Meeting
DESCRIPTION:GSR Sharing 6:00pmDistrict 5 Business Meeting 7:00pm\n\n\n\nGSR sharing is at 6:00pm \n\n\n\nDistrict 5 Business meeting starts at 7:00pm
URL:https://aanorthport.org/event/district-5-business-meeting-5/2028-11-21/
LOCATION:St. Nathaniel’s Episcopal Church\, 4200 S. Biscayne Dr.\, North Port\, FL\, 34287\, United States
CATEGORIES:Service Meetings
GEO:27.0546961;-82.2454699
X-APPLE-STRUCTURED-LOCATION;VALUE=URI;X-ADDRESS=St. Nathaniel’s Episcopal Church 4200 S. Biscayne Dr. North Port FL 34287 United States;X-APPLE-RADIUS=500;X-TITLE=4200 S. Biscayne Dr.:geo:-82.2454699,27.0546961
END:VEVENT
BEGIN:VEVENT
DTSTART;TZID=America/New_York:20281219T190000
DTEND;TZID=America/New_York:20281219T200000
DTSTAMP:20260423T181443
CREATED:20241117T234444Z
LAST-MODIFIED:20241117T234448Z
UID:10000729-1860865200-1860868800@aanorthport.org
SUMMARY:District 5 Business Meeting
DESCRIPTION:GSR Sharing 6:00pmDistrict 5 Business Meeting 7:00pm\n\n\n\nGSR sharing is at 6:00pm \n\n\n\nDistrict 5 Business meeting starts at 7:00pm
URL:https://aanorthport.org/event/district-5-business-meeting-5/2028-12-19/
LOCATION:St. Nathaniel’s Episcopal Church\, 4200 S. Biscayne Dr.\, North Port\, FL\, 34287\, United States
CATEGORIES:Service Meetings
GEO:27.0546961;-82.2454699
X-APPLE-STRUCTURED-LOCATION;VALUE=URI;X-ADDRESS=St. Nathaniel’s Episcopal Church 4200 S. Biscayne Dr. North Port FL 34287 United States;X-APPLE-RADIUS=500;X-TITLE=4200 S. Biscayne Dr.:geo:-82.2454699,27.0546961
END:VEVENT
BEGIN:VEVENT
DTSTART;TZID=America/New_York:20290116T190000
DTEND;TZID=America/New_York:20290116T200000
DTSTAMP:20260423T181443
CREATED:20241117T234444Z
LAST-MODIFIED:20241117T234448Z
UID:10000730-1863284400-1863288000@aanorthport.org
SUMMARY:District 5 Business Meeting
DESCRIPTION:GSR Sharing 6:00pmDistrict 5 Business Meeting 7:00pm\n\n\n\nGSR sharing is at 6:00pm \n\n\n\nDistrict 5 Business meeting starts at 7:00pm
URL:https://aanorthport.org/event/district-5-business-meeting-5/2029-01-16/
LOCATION:St. Nathaniel’s Episcopal Church\, 4200 S. Biscayne Dr.\, North Port\, FL\, 34287\, United States
CATEGORIES:Service Meetings
GEO:27.0546961;-82.2454699
X-APPLE-STRUCTURED-LOCATION;VALUE=URI;X-ADDRESS=St. Nathaniel’s Episcopal Church 4200 S. Biscayne Dr. North Port FL 34287 United States;X-APPLE-RADIUS=500;X-TITLE=4200 S. Biscayne Dr.:geo:-82.2454699,27.0546961
END:VEVENT
BEGIN:VEVENT
DTSTART;TZID=America/New_York:20290220T190000
DTEND;TZID=America/New_York:20290220T200000
DTSTAMP:20260423T181443
CREATED:20241117T234444Z
LAST-MODIFIED:20241117T234448Z
UID:10000731-1866308400-1866312000@aanorthport.org
SUMMARY:District 5 Business Meeting
DESCRIPTION:GSR Sharing 6:00pmDistrict 5 Business Meeting 7:00pm\n\n\n\nGSR sharing is at 6:00pm \n\n\n\nDistrict 5 Business meeting starts at 7:00pm
URL:https://aanorthport.org/event/district-5-business-meeting-5/2029-02-20/
LOCATION:St. Nathaniel’s Episcopal Church\, 4200 S. Biscayne Dr.\, North Port\, FL\, 34287\, United States
CATEGORIES:Service Meetings
GEO:27.0546961;-82.2454699
X-APPLE-STRUCTURED-LOCATION;VALUE=URI;X-ADDRESS=St. Nathaniel’s Episcopal Church 4200 S. Biscayne Dr. North Port FL 34287 United States;X-APPLE-RADIUS=500;X-TITLE=4200 S. Biscayne Dr.:geo:-82.2454699,27.0546961
END:VEVENT
BEGIN:VEVENT
DTSTART;TZID=America/New_York:20290320T190000
DTEND;TZID=America/New_York:20290320T200000
DTSTAMP:20260423T181443
CREATED:20241117T234444Z
LAST-MODIFIED:20241117T234448Z
UID:10000732-1868727600-1868731200@aanorthport.org
SUMMARY:District 5 Business Meeting
DESCRIPTION:GSR Sharing 6:00pmDistrict 5 Business Meeting 7:00pm\n\n\n\nGSR sharing is at 6:00pm \n\n\n\nDistrict 5 Business meeting starts at 7:00pm
URL:https://aanorthport.org/event/district-5-business-meeting-5/2029-03-20/
LOCATION:St. Nathaniel’s Episcopal Church\, 4200 S. Biscayne Dr.\, North Port\, FL\, 34287\, United States
CATEGORIES:Service Meetings
GEO:27.0546961;-82.2454699
X-APPLE-STRUCTURED-LOCATION;VALUE=URI;X-ADDRESS=St. Nathaniel’s Episcopal Church 4200 S. Biscayne Dr. North Port FL 34287 United States;X-APPLE-RADIUS=500;X-TITLE=4200 S. Biscayne Dr.:geo:-82.2454699,27.0546961
END:VEVENT
BEGIN:VEVENT
DTSTART;TZID=America/New_York:20290417T190000
DTEND;TZID=America/New_York:20290417T200000
DTSTAMP:20260423T181443
CREATED:20241117T234444Z
LAST-MODIFIED:20241117T234448Z
UID:10000733-1871146800-1871150400@aanorthport.org
SUMMARY:District 5 Business Meeting
DESCRIPTION:GSR Sharing 6:00pmDistrict 5 Business Meeting 7:00pm\n\n\n\nGSR sharing is at 6:00pm \n\n\n\nDistrict 5 Business meeting starts at 7:00pm
URL:https://aanorthport.org/event/district-5-business-meeting-5/2029-04-17/
LOCATION:St. Nathaniel’s Episcopal Church\, 4200 S. Biscayne Dr.\, North Port\, FL\, 34287\, United States
CATEGORIES:Service Meetings
GEO:27.0546961;-82.2454699
X-APPLE-STRUCTURED-LOCATION;VALUE=URI;X-ADDRESS=St. Nathaniel’s Episcopal Church 4200 S. Biscayne Dr. North Port FL 34287 United States;X-APPLE-RADIUS=500;X-TITLE=4200 S. Biscayne Dr.:geo:-82.2454699,27.0546961
END:VEVENT
BEGIN:VEVENT
DTSTART;TZID=America/New_York:20290515T190000
DTEND;TZID=America/New_York:20290515T200000
DTSTAMP:20260423T181443
CREATED:20241117T234444Z
LAST-MODIFIED:20241117T234448Z
UID:10000832-1873566000-1873569600@aanorthport.org
SUMMARY:District 5 Business Meeting
DESCRIPTION:GSR Sharing 6:00pmDistrict 5 Business Meeting 7:00pm\n\n\n\nGSR sharing is at 6:00pm \n\n\n\nDistrict 5 Business meeting starts at 7:00pm
URL:https://aanorthport.org/event/district-5-business-meeting-5/2029-05-15/
LOCATION:St. Nathaniel’s Episcopal Church\, 4200 S. Biscayne Dr.\, North Port\, FL\, 34287\, United States
CATEGORIES:Service Meetings
GEO:27.0546961;-82.2454699
X-APPLE-STRUCTURED-LOCATION;VALUE=URI;X-ADDRESS=St. Nathaniel’s Episcopal Church 4200 S. Biscayne Dr. North Port FL 34287 United States;X-APPLE-RADIUS=500;X-TITLE=4200 S. Biscayne Dr.:geo:-82.2454699,27.0546961
END:VEVENT
BEGIN:VEVENT
DTSTART;TZID=America/New_York:20290619T190000
DTEND;TZID=America/New_York:20290619T200000
DTSTAMP:20260423T181443
CREATED:20241117T234444Z
LAST-MODIFIED:20241117T234448Z
UID:10000833-1876590000-1876593600@aanorthport.org
SUMMARY:District 5 Business Meeting
DESCRIPTION:GSR Sharing 6:00pmDistrict 5 Business Meeting 7:00pm\n\n\n\nGSR sharing is at 6:00pm \n\n\n\nDistrict 5 Business meeting starts at 7:00pm
URL:https://aanorthport.org/event/district-5-business-meeting-5/2029-06-19/
LOCATION:St. Nathaniel’s Episcopal Church\, 4200 S. Biscayne Dr.\, North Port\, FL\, 34287\, United States
CATEGORIES:Service Meetings
GEO:27.0546961;-82.2454699
X-APPLE-STRUCTURED-LOCATION;VALUE=URI;X-ADDRESS=St. Nathaniel’s Episcopal Church 4200 S. Biscayne Dr. North Port FL 34287 United States;X-APPLE-RADIUS=500;X-TITLE=4200 S. Biscayne Dr.:geo:-82.2454699,27.0546961
END:VEVENT
BEGIN:VEVENT
DTSTART;TZID=America/New_York:20290717T190000
DTEND;TZID=America/New_York:20290717T200000
DTSTAMP:20260423T181443
CREATED:20241117T234444Z
LAST-MODIFIED:20241117T234448Z
UID:10000834-1879009200-1879012800@aanorthport.org
SUMMARY:District 5 Business Meeting
DESCRIPTION:GSR Sharing 6:00pmDistrict 5 Business Meeting 7:00pm\n\n\n\nGSR sharing is at 6:00pm \n\n\n\nDistrict 5 Business meeting starts at 7:00pm
URL:https://aanorthport.org/event/district-5-business-meeting-5/2029-07-17/
LOCATION:St. Nathaniel’s Episcopal Church\, 4200 S. Biscayne Dr.\, North Port\, FL\, 34287\, United States
CATEGORIES:Service Meetings
GEO:27.0546961;-82.2454699
X-APPLE-STRUCTURED-LOCATION;VALUE=URI;X-ADDRESS=St. Nathaniel’s Episcopal Church 4200 S. Biscayne Dr. North Port FL 34287 United States;X-APPLE-RADIUS=500;X-TITLE=4200 S. Biscayne Dr.:geo:-82.2454699,27.0546961
END:VEVENT
BEGIN:VEVENT
DTSTART;TZID=America/New_York:20290821T190000
DTEND;TZID=America/New_York:20290821T200000
DTSTAMP:20260423T181443
CREATED:20241117T234444Z
LAST-MODIFIED:20241117T234448Z
UID:10000841-1882033200-1882036800@aanorthport.org
SUMMARY:District 5 Business Meeting
DESCRIPTION:GSR Sharing 6:00pmDistrict 5 Business Meeting 7:00pm\n\n\n\nGSR sharing is at 6:00pm \n\n\n\nDistrict 5 Business meeting starts at 7:00pm
URL:https://aanorthport.org/event/district-5-business-meeting-5/2029-08-21/
LOCATION:St. Nathaniel’s Episcopal Church\, 4200 S. Biscayne Dr.\, North Port\, FL\, 34287\, United States
CATEGORIES:Service Meetings
GEO:27.0546961;-82.2454699
X-APPLE-STRUCTURED-LOCATION;VALUE=URI;X-ADDRESS=St. Nathaniel’s Episcopal Church 4200 S. Biscayne Dr. North Port FL 34287 United States;X-APPLE-RADIUS=500;X-TITLE=4200 S. Biscayne Dr.:geo:-82.2454699,27.0546961
END:VEVENT
BEGIN:VEVENT
DTSTART;TZID=America/New_York:20290918T190000
DTEND;TZID=America/New_York:20290918T200000
DTSTAMP:20260423T181443
CREATED:20241117T234444Z
LAST-MODIFIED:20241117T234448Z
UID:10000918-1884452400-1884456000@aanorthport.org
SUMMARY:District 5 Business Meeting
DESCRIPTION:GSR Sharing 6:00pmDistrict 5 Business Meeting 7:00pm\n\n\n\nGSR sharing is at 6:00pm \n\n\n\nDistrict 5 Business meeting starts at 7:00pm
URL:https://aanorthport.org/event/district-5-business-meeting-5/2029-09-18/
LOCATION:St. Nathaniel’s Episcopal Church\, 4200 S. Biscayne Dr.\, North Port\, FL\, 34287\, United States
CATEGORIES:Service Meetings
GEO:27.0546961;-82.2454699
X-APPLE-STRUCTURED-LOCATION;VALUE=URI;X-ADDRESS=St. Nathaniel’s Episcopal Church 4200 S. Biscayne Dr. North Port FL 34287 United States;X-APPLE-RADIUS=500;X-TITLE=4200 S. Biscayne Dr.:geo:-82.2454699,27.0546961
END:VEVENT
BEGIN:VEVENT
DTSTART;TZID=America/New_York:20291016T190000
DTEND;TZID=America/New_York:20291016T200000
DTSTAMP:20260423T181443
CREATED:20241117T234444Z
LAST-MODIFIED:20241117T234448Z
UID:10000919-1886871600-1886875200@aanorthport.org
SUMMARY:District 5 Business Meeting
DESCRIPTION:GSR Sharing 6:00pmDistrict 5 Business Meeting 7:00pm\n\n\n\nGSR sharing is at 6:00pm \n\n\n\nDistrict 5 Business meeting starts at 7:00pm
URL:https://aanorthport.org/event/district-5-business-meeting-5/2029-10-16/
LOCATION:St. Nathaniel’s Episcopal Church\, 4200 S. Biscayne Dr.\, North Port\, FL\, 34287\, United States
CATEGORIES:Service Meetings
GEO:27.0546961;-82.2454699
X-APPLE-STRUCTURED-LOCATION;VALUE=URI;X-ADDRESS=St. Nathaniel’s Episcopal Church 4200 S. Biscayne Dr. North Port FL 34287 United States;X-APPLE-RADIUS=500;X-TITLE=4200 S. Biscayne Dr.:geo:-82.2454699,27.0546961
END:VEVENT
END:VCALENDAR