BEGIN:VCALENDAR
VERSION:2.0
PRODID:-//Intergroup - District 5 Florida - ECPv6.15.20//NONSGML v1.0//EN
CALSCALE:GREGORIAN
METHOD:PUBLISH
X-WR-CALNAME:Intergroup - District 5 Florida
X-ORIGINAL-URL:https://aanorthport.org
X-WR-CALDESC:Events for Intergroup - District 5 Florida
REFRESH-INTERVAL;VALUE=DURATION:PT1H
X-Robots-Tag:noindex
X-PUBLISHED-TTL:PT1H
BEGIN:VTIMEZONE
TZID:America/New_York
BEGIN:DAYLIGHT
TZOFFSETFROM:-0500
TZOFFSETTO:-0400
TZNAME:EDT
DTSTART:20270314T070000
END:DAYLIGHT
BEGIN:STANDARD
TZOFFSETFROM:-0400
TZOFFSETTO:-0500
TZNAME:EST
DTSTART:20271107T060000
END:STANDARD
BEGIN:DAYLIGHT
TZOFFSETFROM:-0500
TZOFFSETTO:-0400
TZNAME:EDT
DTSTART:20280312T070000
END:DAYLIGHT
BEGIN:STANDARD
TZOFFSETFROM:-0400
TZOFFSETTO:-0500
TZNAME:EST
DTSTART:20281105T060000
END:STANDARD
BEGIN:DAYLIGHT
TZOFFSETFROM:-0500
TZOFFSETTO:-0400
TZNAME:EDT
DTSTART:20290311T070000
END:DAYLIGHT
BEGIN:STANDARD
TZOFFSETFROM:-0400
TZOFFSETTO:-0500
TZNAME:EST
DTSTART:20291104T060000
END:STANDARD
BEGIN:DAYLIGHT
TZOFFSETFROM:-0500
TZOFFSETTO:-0400
TZNAME:EDT
DTSTART:20300310T070000
END:DAYLIGHT
BEGIN:STANDARD
TZOFFSETFROM:-0400
TZOFFSETTO:-0500
TZNAME:EST
DTSTART:20301103T060000
END:STANDARD
END:VTIMEZONE
BEGIN:VEVENT
DTSTART;TZID=America/New_York:20280907T180000
DTEND;TZID=America/New_York:20280907T190000
DTSTAMP:20260423T182304
CREATED:20240719T013124Z
LAST-MODIFIED:20240719T013126Z
UID:10000511-1851962400-1851966000@aanorthport.org
SUMMARY:Steering Committee Meeting (hybrid)
DESCRIPTION:The Intergroup Steering Committee meets every 1st Thursday of the month – in person and online. \nJoin Zoom Meeting\nhttps://us02web.zoom.us/j/86123447161?pwd=RUJqazlRS0c1MjA1dW1pZkI5UEVsZz09 \nMeeting ID: 861 2344 7161\nPasscode: 123456
URL:https://aanorthport.org/event/steering-committee-meeting-hybrid-3/2028-09-07/
LOCATION:Intergroup Office of District 5 – SWFL\, 13325 Tamiami Trail\, Unit A\, North Port\, FL\, 34287\, United States
CATEGORIES:Service Meetings
GEO:27.046958;-82.252493
X-APPLE-STRUCTURED-LOCATION;VALUE=URI;X-ADDRESS=Intergroup Office of District 5 – SWFL 13325 Tamiami Trail Unit A North Port FL 34287 United States;X-APPLE-RADIUS=500;X-TITLE=13325 Tamiami Trail\, Unit A:geo:-82.252493,27.046958
END:VEVENT
BEGIN:VEVENT
DTSTART;TZID=America/New_York:20281005T180000
DTEND;TZID=America/New_York:20281005T190000
DTSTAMP:20260423T182304
CREATED:20240719T013124Z
LAST-MODIFIED:20240719T013126Z
UID:10000512-1854381600-1854385200@aanorthport.org
SUMMARY:Steering Committee Meeting (hybrid)
DESCRIPTION:The Intergroup Steering Committee meets every 1st Thursday of the month – in person and online. \nJoin Zoom Meeting\nhttps://us02web.zoom.us/j/86123447161?pwd=RUJqazlRS0c1MjA1dW1pZkI5UEVsZz09 \nMeeting ID: 861 2344 7161\nPasscode: 123456
URL:https://aanorthport.org/event/steering-committee-meeting-hybrid-3/2028-10-05/
LOCATION:Intergroup Office of District 5 – SWFL\, 13325 Tamiami Trail\, Unit A\, North Port\, FL\, 34287\, United States
CATEGORIES:Service Meetings
GEO:27.046958;-82.252493
X-APPLE-STRUCTURED-LOCATION;VALUE=URI;X-ADDRESS=Intergroup Office of District 5 – SWFL 13325 Tamiami Trail Unit A North Port FL 34287 United States;X-APPLE-RADIUS=500;X-TITLE=13325 Tamiami Trail\, Unit A:geo:-82.252493,27.046958
END:VEVENT
BEGIN:VEVENT
DTSTART;TZID=America/New_York:20281102T180000
DTEND;TZID=America/New_York:20281102T190000
DTSTAMP:20260423T182304
CREATED:20240719T013124Z
LAST-MODIFIED:20240719T013126Z
UID:10000513-1856800800-1856804400@aanorthport.org
SUMMARY:Steering Committee Meeting (hybrid)
DESCRIPTION:The Intergroup Steering Committee meets every 1st Thursday of the month – in person and online. \nJoin Zoom Meeting\nhttps://us02web.zoom.us/j/86123447161?pwd=RUJqazlRS0c1MjA1dW1pZkI5UEVsZz09 \nMeeting ID: 861 2344 7161\nPasscode: 123456
URL:https://aanorthport.org/event/steering-committee-meeting-hybrid-3/2028-11-02/
LOCATION:Intergroup Office of District 5 – SWFL\, 13325 Tamiami Trail\, Unit A\, North Port\, FL\, 34287\, United States
CATEGORIES:Service Meetings
GEO:27.046958;-82.252493
X-APPLE-STRUCTURED-LOCATION;VALUE=URI;X-ADDRESS=Intergroup Office of District 5 – SWFL 13325 Tamiami Trail Unit A North Port FL 34287 United States;X-APPLE-RADIUS=500;X-TITLE=13325 Tamiami Trail\, Unit A:geo:-82.252493,27.046958
END:VEVENT
BEGIN:VEVENT
DTSTART;TZID=America/New_York:20281207T180000
DTEND;TZID=America/New_York:20281207T190000
DTSTAMP:20260423T182304
CREATED:20240719T013124Z
LAST-MODIFIED:20240719T013126Z
UID:10000514-1859824800-1859828400@aanorthport.org
SUMMARY:Steering Committee Meeting (hybrid)
DESCRIPTION:The Intergroup Steering Committee meets every 1st Thursday of the month – in person and online. \nJoin Zoom Meeting\nhttps://us02web.zoom.us/j/86123447161?pwd=RUJqazlRS0c1MjA1dW1pZkI5UEVsZz09 \nMeeting ID: 861 2344 7161\nPasscode: 123456
URL:https://aanorthport.org/event/steering-committee-meeting-hybrid-3/2028-12-07/
LOCATION:Intergroup Office of District 5 – SWFL\, 13325 Tamiami Trail\, Unit A\, North Port\, FL\, 34287\, United States
CATEGORIES:Service Meetings
GEO:27.046958;-82.252493
X-APPLE-STRUCTURED-LOCATION;VALUE=URI;X-ADDRESS=Intergroup Office of District 5 – SWFL 13325 Tamiami Trail Unit A North Port FL 34287 United States;X-APPLE-RADIUS=500;X-TITLE=13325 Tamiami Trail\, Unit A:geo:-82.252493,27.046958
END:VEVENT
BEGIN:VEVENT
DTSTART;TZID=America/New_York:20290104T180000
DTEND;TZID=America/New_York:20290104T190000
DTSTAMP:20260423T182304
CREATED:20240719T013124Z
LAST-MODIFIED:20240719T013126Z
UID:10000515-1862244000-1862247600@aanorthport.org
SUMMARY:Steering Committee Meeting (hybrid)
DESCRIPTION:The Intergroup Steering Committee meets every 1st Thursday of the month – in person and online. \nJoin Zoom Meeting\nhttps://us02web.zoom.us/j/86123447161?pwd=RUJqazlRS0c1MjA1dW1pZkI5UEVsZz09 \nMeeting ID: 861 2344 7161\nPasscode: 123456
URL:https://aanorthport.org/event/steering-committee-meeting-hybrid-3/2029-01-04/
LOCATION:Intergroup Office of District 5 – SWFL\, 13325 Tamiami Trail\, Unit A\, North Port\, FL\, 34287\, United States
CATEGORIES:Service Meetings
GEO:27.046958;-82.252493
X-APPLE-STRUCTURED-LOCATION;VALUE=URI;X-ADDRESS=Intergroup Office of District 5 – SWFL 13325 Tamiami Trail Unit A North Port FL 34287 United States;X-APPLE-RADIUS=500;X-TITLE=13325 Tamiami Trail\, Unit A:geo:-82.252493,27.046958
END:VEVENT
BEGIN:VEVENT
DTSTART;TZID=America/New_York:20290201T180000
DTEND;TZID=America/New_York:20290201T190000
DTSTAMP:20260423T182304
CREATED:20240719T013124Z
LAST-MODIFIED:20240719T013126Z
UID:10000738-1864663200-1864666800@aanorthport.org
SUMMARY:Steering Committee Meeting (hybrid)
DESCRIPTION:The Intergroup Steering Committee meets every 1st Thursday of the month – in person and online. \nJoin Zoom Meeting\nhttps://us02web.zoom.us/j/86123447161?pwd=RUJqazlRS0c1MjA1dW1pZkI5UEVsZz09 \nMeeting ID: 861 2344 7161\nPasscode: 123456
URL:https://aanorthport.org/event/steering-committee-meeting-hybrid-3/2029-02-01/
LOCATION:Intergroup Office of District 5 – SWFL\, 13325 Tamiami Trail\, Unit A\, North Port\, FL\, 34287\, United States
CATEGORIES:Service Meetings
GEO:27.046958;-82.252493
X-APPLE-STRUCTURED-LOCATION;VALUE=URI;X-ADDRESS=Intergroup Office of District 5 – SWFL 13325 Tamiami Trail Unit A North Port FL 34287 United States;X-APPLE-RADIUS=500;X-TITLE=13325 Tamiami Trail\, Unit A:geo:-82.252493,27.046958
END:VEVENT
BEGIN:VEVENT
DTSTART;TZID=America/New_York:20290301T180000
DTEND;TZID=America/New_York:20290301T190000
DTSTAMP:20260423T182304
CREATED:20240719T013124Z
LAST-MODIFIED:20240719T013126Z
UID:10000739-1867082400-1867086000@aanorthport.org
SUMMARY:Steering Committee Meeting (hybrid)
DESCRIPTION:The Intergroup Steering Committee meets every 1st Thursday of the month – in person and online. \nJoin Zoom Meeting\nhttps://us02web.zoom.us/j/86123447161?pwd=RUJqazlRS0c1MjA1dW1pZkI5UEVsZz09 \nMeeting ID: 861 2344 7161\nPasscode: 123456
URL:https://aanorthport.org/event/steering-committee-meeting-hybrid-3/2029-03-01/
LOCATION:Intergroup Office of District 5 – SWFL\, 13325 Tamiami Trail\, Unit A\, North Port\, FL\, 34287\, United States
CATEGORIES:Service Meetings
GEO:27.046958;-82.252493
X-APPLE-STRUCTURED-LOCATION;VALUE=URI;X-ADDRESS=Intergroup Office of District 5 – SWFL 13325 Tamiami Trail Unit A North Port FL 34287 United States;X-APPLE-RADIUS=500;X-TITLE=13325 Tamiami Trail\, Unit A:geo:-82.252493,27.046958
END:VEVENT
BEGIN:VEVENT
DTSTART;TZID=America/New_York:20290405T180000
DTEND;TZID=America/New_York:20290405T190000
DTSTAMP:20260423T182304
CREATED:20240719T013124Z
LAST-MODIFIED:20240719T013126Z
UID:10000740-1870106400-1870110000@aanorthport.org
SUMMARY:Steering Committee Meeting (hybrid)
DESCRIPTION:The Intergroup Steering Committee meets every 1st Thursday of the month – in person and online. \nJoin Zoom Meeting\nhttps://us02web.zoom.us/j/86123447161?pwd=RUJqazlRS0c1MjA1dW1pZkI5UEVsZz09 \nMeeting ID: 861 2344 7161\nPasscode: 123456
URL:https://aanorthport.org/event/steering-committee-meeting-hybrid-3/2029-04-05/
LOCATION:Intergroup Office of District 5 – SWFL\, 13325 Tamiami Trail\, Unit A\, North Port\, FL\, 34287\, United States
CATEGORIES:Service Meetings
GEO:27.046958;-82.252493
X-APPLE-STRUCTURED-LOCATION;VALUE=URI;X-ADDRESS=Intergroup Office of District 5 – SWFL 13325 Tamiami Trail Unit A North Port FL 34287 United States;X-APPLE-RADIUS=500;X-TITLE=13325 Tamiami Trail\, Unit A:geo:-82.252493,27.046958
END:VEVENT
BEGIN:VEVENT
DTSTART;TZID=America/New_York:20290503T180000
DTEND;TZID=America/New_York:20290503T190000
DTSTAMP:20260423T182304
CREATED:20240719T013124Z
LAST-MODIFIED:20240719T013126Z
UID:10000807-1872525600-1872529200@aanorthport.org
SUMMARY:Steering Committee Meeting (hybrid)
DESCRIPTION:The Intergroup Steering Committee meets every 1st Thursday of the month – in person and online. \nJoin Zoom Meeting\nhttps://us02web.zoom.us/j/86123447161?pwd=RUJqazlRS0c1MjA1dW1pZkI5UEVsZz09 \nMeeting ID: 861 2344 7161\nPasscode: 123456
URL:https://aanorthport.org/event/steering-committee-meeting-hybrid-3/2029-05-03/
LOCATION:Intergroup Office of District 5 – SWFL\, 13325 Tamiami Trail\, Unit A\, North Port\, FL\, 34287\, United States
CATEGORIES:Service Meetings
GEO:27.046958;-82.252493
X-APPLE-STRUCTURED-LOCATION;VALUE=URI;X-ADDRESS=Intergroup Office of District 5 – SWFL 13325 Tamiami Trail Unit A North Port FL 34287 United States;X-APPLE-RADIUS=500;X-TITLE=13325 Tamiami Trail\, Unit A:geo:-82.252493,27.046958
END:VEVENT
BEGIN:VEVENT
DTSTART;TZID=America/New_York:20290607T180000
DTEND;TZID=America/New_York:20290607T190000
DTSTAMP:20260423T182304
CREATED:20240719T013124Z
LAST-MODIFIED:20240719T013126Z
UID:10000817-1875549600-1875553200@aanorthport.org
SUMMARY:Steering Committee Meeting (hybrid)
DESCRIPTION:The Intergroup Steering Committee meets every 1st Thursday of the month – in person and online. \nJoin Zoom Meeting\nhttps://us02web.zoom.us/j/86123447161?pwd=RUJqazlRS0c1MjA1dW1pZkI5UEVsZz09 \nMeeting ID: 861 2344 7161\nPasscode: 123456
URL:https://aanorthport.org/event/steering-committee-meeting-hybrid-3/2029-06-07/
LOCATION:Intergroup Office of District 5 – SWFL\, 13325 Tamiami Trail\, Unit A\, North Port\, FL\, 34287\, United States
CATEGORIES:Service Meetings
GEO:27.046958;-82.252493
X-APPLE-STRUCTURED-LOCATION;VALUE=URI;X-ADDRESS=Intergroup Office of District 5 – SWFL 13325 Tamiami Trail Unit A North Port FL 34287 United States;X-APPLE-RADIUS=500;X-TITLE=13325 Tamiami Trail\, Unit A:geo:-82.252493,27.046958
END:VEVENT
BEGIN:VEVENT
DTSTART;TZID=America/New_York:20290705T180000
DTEND;TZID=America/New_York:20290705T190000
DTSTAMP:20260423T182304
CREATED:20240719T013124Z
LAST-MODIFIED:20240719T013126Z
UID:10000818-1877968800-1877972400@aanorthport.org
SUMMARY:Steering Committee Meeting (hybrid)
DESCRIPTION:The Intergroup Steering Committee meets every 1st Thursday of the month – in person and online. \nJoin Zoom Meeting\nhttps://us02web.zoom.us/j/86123447161?pwd=RUJqazlRS0c1MjA1dW1pZkI5UEVsZz09 \nMeeting ID: 861 2344 7161\nPasscode: 123456
URL:https://aanorthport.org/event/steering-committee-meeting-hybrid-3/2029-07-05/
LOCATION:Intergroup Office of District 5 – SWFL\, 13325 Tamiami Trail\, Unit A\, North Port\, FL\, 34287\, United States
CATEGORIES:Service Meetings
GEO:27.046958;-82.252493
X-APPLE-STRUCTURED-LOCATION;VALUE=URI;X-ADDRESS=Intergroup Office of District 5 – SWFL 13325 Tamiami Trail Unit A North Port FL 34287 United States;X-APPLE-RADIUS=500;X-TITLE=13325 Tamiami Trail\, Unit A:geo:-82.252493,27.046958
END:VEVENT
END:VCALENDAR