BEGIN:VCALENDAR
VERSION:2.0
PRODID:-//Intergroup - District 5 Florida - ECPv6.15.20//NONSGML v1.0//EN
CALSCALE:GREGORIAN
METHOD:PUBLISH
X-ORIGINAL-URL:https://aanorthport.org
X-WR-CALDESC:Events for Intergroup - District 5 Florida
REFRESH-INTERVAL;VALUE=DURATION:PT1H
X-Robots-Tag:noindex
X-PUBLISHED-TTL:PT1H
BEGIN:VTIMEZONE
TZID:America/New_York
BEGIN:DAYLIGHT
TZOFFSETFROM:-0500
TZOFFSETTO:-0400
TZNAME:EDT
DTSTART:20280312T070000
END:DAYLIGHT
BEGIN:STANDARD
TZOFFSETFROM:-0400
TZOFFSETTO:-0500
TZNAME:EST
DTSTART:20281105T060000
END:STANDARD
BEGIN:DAYLIGHT
TZOFFSETFROM:-0500
TZOFFSETTO:-0400
TZNAME:EDT
DTSTART:20290311T070000
END:DAYLIGHT
BEGIN:STANDARD
TZOFFSETFROM:-0400
TZOFFSETTO:-0500
TZNAME:EST
DTSTART:20291104T060000
END:STANDARD
BEGIN:DAYLIGHT
TZOFFSETFROM:-0500
TZOFFSETTO:-0400
TZNAME:EDT
DTSTART:20300310T070000
END:DAYLIGHT
BEGIN:STANDARD
TZOFFSETFROM:-0400
TZOFFSETTO:-0500
TZNAME:EST
DTSTART:20301103T060000
END:STANDARD
END:VTIMEZONE
BEGIN:VEVENT
DTSTART;TZID=America/New_York:20290419T180000
DTEND;TZID=America/New_York:20290419T190000
DTSTAMP:20260423T200949
CREATED:20240517T005039Z
LAST-MODIFIED:20240607T000449Z
UID:10000804-1871316000-1871319600@aanorthport.org
SUMMARY:IGR Meeting (hybrid)
DESCRIPTION:Intergroup Representative (IGR) Meeting\, in person  and online – NOTICE MEETING TIME CHANGE \n\n\n\nMeeting ID: 894 7593 7488Passcode: 246810 \n\n\n\nJoin Zoom Meetinghttps://us02web.zoom.us/j/89475937488?pwd=SGhSNHl6L1N3aExFb0h4UTFtdnNrUT09
URL:https://aanorthport.org/event/49558/2029-04-19/
LOCATION:Intergroup Office of District 5 – SWFL\, 13325 Tamiami Trail\, Unit A\, North Port\, FL\, 34287\, United States
CATEGORIES:Service Meetings
GEO:27.046958;-82.252493
X-APPLE-STRUCTURED-LOCATION;VALUE=URI;X-ADDRESS=Intergroup Office of District 5 – SWFL 13325 Tamiami Trail Unit A North Port FL 34287 United States;X-APPLE-RADIUS=500;X-TITLE=13325 Tamiami Trail\, Unit A:geo:-82.252493,27.046958
END:VEVENT
BEGIN:VEVENT
DTSTART;TZID=America/New_York:20290517T180000
DTEND;TZID=America/New_York:20290517T190000
DTSTAMP:20260423T200949
CREATED:20240517T005039Z
LAST-MODIFIED:20240607T000449Z
UID:10000809-1873735200-1873738800@aanorthport.org
SUMMARY:IGR Meeting (hybrid)
DESCRIPTION:Intergroup Representative (IGR) Meeting\, in person  and online – NOTICE MEETING TIME CHANGE \n\n\n\nMeeting ID: 894 7593 7488Passcode: 246810 \n\n\n\nJoin Zoom Meetinghttps://us02web.zoom.us/j/89475937488?pwd=SGhSNHl6L1N3aExFb0h4UTFtdnNrUT09
URL:https://aanorthport.org/event/49558/2029-05-17/
LOCATION:Intergroup Office of District 5 – SWFL\, 13325 Tamiami Trail\, Unit A\, North Port\, FL\, 34287\, United States
CATEGORIES:Service Meetings
GEO:27.046958;-82.252493
X-APPLE-STRUCTURED-LOCATION;VALUE=URI;X-ADDRESS=Intergroup Office of District 5 – SWFL 13325 Tamiami Trail Unit A North Port FL 34287 United States;X-APPLE-RADIUS=500;X-TITLE=13325 Tamiami Trail\, Unit A:geo:-82.252493,27.046958
END:VEVENT
END:VCALENDAR