BEGIN:VCALENDAR
VERSION:2.0
PRODID:-//Intergroup - District 5 Florida - ECPv6.15.20//NONSGML v1.0//EN
CALSCALE:GREGORIAN
METHOD:PUBLISH
X-ORIGINAL-URL:https://aanorthport.org
X-WR-CALDESC:Events for Intergroup - District 5 Florida
REFRESH-INTERVAL;VALUE=DURATION:PT1H
X-Robots-Tag:noindex
X-PUBLISHED-TTL:PT1H
BEGIN:VTIMEZONE
TZID:America/New_York
BEGIN:DAYLIGHT
TZOFFSETFROM:-0500
TZOFFSETTO:-0400
TZNAME:EDT
DTSTART:20280312T070000
END:DAYLIGHT
BEGIN:STANDARD
TZOFFSETFROM:-0400
TZOFFSETTO:-0500
TZNAME:EST
DTSTART:20281105T060000
END:STANDARD
BEGIN:DAYLIGHT
TZOFFSETFROM:-0500
TZOFFSETTO:-0400
TZNAME:EDT
DTSTART:20290311T070000
END:DAYLIGHT
BEGIN:STANDARD
TZOFFSETFROM:-0400
TZOFFSETTO:-0500
TZNAME:EST
DTSTART:20291104T060000
END:STANDARD
BEGIN:DAYLIGHT
TZOFFSETFROM:-0500
TZOFFSETTO:-0400
TZNAME:EDT
DTSTART:20300310T070000
END:DAYLIGHT
BEGIN:STANDARD
TZOFFSETFROM:-0400
TZOFFSETTO:-0500
TZNAME:EST
DTSTART:20301103T060000
END:STANDARD
END:VTIMEZONE
BEGIN:VEVENT
DTSTART;TZID=America/New_York:20290412T180000
DTEND;TZID=America/New_York:20290412T190000
DTSTAMP:20260423T200948
CREATED:20240426T111140Z
LAST-MODIFIED:20240426T111142Z
UID:10000628-1870711200-1870714800@aanorthport.org
SUMMARY:Events Committee Meeting (hybrid)
DESCRIPTION:Intergroup Events Committee hybrid meeting (in person at Intergroup office and online via Zoom) – every 2nd Thursday of the month at 6:00 pm \n\n\n\nJoin meeting onlinehttps://us02web.zoom.us/j/85833512842pwd=MEdYQ2tYKzg2dU9hWkg0cWV1RkM4QT09 \n\n\n\nZoom ID:  858 3351 2842Passcode:  417873 \n\n\n\nWe are always looking for volunteers!
URL:https://aanorthport.org/event/events-committee-meeting-3/2029-04-12/
LOCATION:Intergroup Office of District 5 – SWFL\, 13325 Tamiami Trail\, Unit A\, North Port\, FL\, 34287\, United States
CATEGORIES:Service Meetings
GEO:27.046958;-82.252493
X-APPLE-STRUCTURED-LOCATION;VALUE=URI;X-ADDRESS=Intergroup Office of District 5 – SWFL 13325 Tamiami Trail Unit A North Port FL 34287 United States;X-APPLE-RADIUS=500;X-TITLE=13325 Tamiami Trail\, Unit A:geo:-82.252493,27.046958
END:VEVENT
BEGIN:VEVENT
DTSTART;TZID=America/New_York:20290510T180000
DTEND;TZID=America/New_York:20290510T190000
DTSTAMP:20260423T200948
CREATED:20240426T111140Z
LAST-MODIFIED:20240426T111142Z
UID:10000836-1873130400-1873134000@aanorthport.org
SUMMARY:Events Committee Meeting (hybrid)
DESCRIPTION:Intergroup Events Committee hybrid meeting (in person at Intergroup office and online via Zoom) – every 2nd Thursday of the month at 6:00 pm \n\n\n\nJoin meeting onlinehttps://us02web.zoom.us/j/85833512842pwd=MEdYQ2tYKzg2dU9hWkg0cWV1RkM4QT09 \n\n\n\nZoom ID:  858 3351 2842Passcode:  417873 \n\n\n\nWe are always looking for volunteers!
URL:https://aanorthport.org/event/events-committee-meeting-3/2029-05-10/
LOCATION:Intergroup Office of District 5 – SWFL\, 13325 Tamiami Trail\, Unit A\, North Port\, FL\, 34287\, United States
CATEGORIES:Service Meetings
GEO:27.046958;-82.252493
X-APPLE-STRUCTURED-LOCATION;VALUE=URI;X-ADDRESS=Intergroup Office of District 5 – SWFL 13325 Tamiami Trail Unit A North Port FL 34287 United States;X-APPLE-RADIUS=500;X-TITLE=13325 Tamiami Trail\, Unit A:geo:-82.252493,27.046958
END:VEVENT
BEGIN:VEVENT
DTSTART;TZID=America/New_York:20290614T180000
DTEND;TZID=America/New_York:20290614T190000
DTSTAMP:20260423T200948
CREATED:20240426T111140Z
LAST-MODIFIED:20240426T111142Z
UID:10000837-1876154400-1876158000@aanorthport.org
SUMMARY:Events Committee Meeting (hybrid)
DESCRIPTION:Intergroup Events Committee hybrid meeting (in person at Intergroup office and online via Zoom) – every 2nd Thursday of the month at 6:00 pm \n\n\n\nJoin meeting onlinehttps://us02web.zoom.us/j/85833512842pwd=MEdYQ2tYKzg2dU9hWkg0cWV1RkM4QT09 \n\n\n\nZoom ID:  858 3351 2842Passcode:  417873 \n\n\n\nWe are always looking for volunteers!
URL:https://aanorthport.org/event/events-committee-meeting-3/2029-06-14/
LOCATION:Intergroup Office of District 5 – SWFL\, 13325 Tamiami Trail\, Unit A\, North Port\, FL\, 34287\, United States
CATEGORIES:Service Meetings
GEO:27.046958;-82.252493
X-APPLE-STRUCTURED-LOCATION;VALUE=URI;X-ADDRESS=Intergroup Office of District 5 – SWFL 13325 Tamiami Trail Unit A North Port FL 34287 United States;X-APPLE-RADIUS=500;X-TITLE=13325 Tamiami Trail\, Unit A:geo:-82.252493,27.046958
END:VEVENT
BEGIN:VEVENT
DTSTART;TZID=America/New_York:20290712T180000
DTEND;TZID=America/New_York:20290712T190000
DTSTAMP:20260423T200948
CREATED:20240426T111140Z
LAST-MODIFIED:20240426T111142Z
UID:10000838-1878573600-1878577200@aanorthport.org
SUMMARY:Events Committee Meeting (hybrid)
DESCRIPTION:Intergroup Events Committee hybrid meeting (in person at Intergroup office and online via Zoom) – every 2nd Thursday of the month at 6:00 pm \n\n\n\nJoin meeting onlinehttps://us02web.zoom.us/j/85833512842pwd=MEdYQ2tYKzg2dU9hWkg0cWV1RkM4QT09 \n\n\n\nZoom ID:  858 3351 2842Passcode:  417873 \n\n\n\nWe are always looking for volunteers!
URL:https://aanorthport.org/event/events-committee-meeting-3/2029-07-12/
LOCATION:Intergroup Office of District 5 – SWFL\, 13325 Tamiami Trail\, Unit A\, North Port\, FL\, 34287\, United States
CATEGORIES:Service Meetings
GEO:27.046958;-82.252493
X-APPLE-STRUCTURED-LOCATION;VALUE=URI;X-ADDRESS=Intergroup Office of District 5 – SWFL 13325 Tamiami Trail Unit A North Port FL 34287 United States;X-APPLE-RADIUS=500;X-TITLE=13325 Tamiami Trail\, Unit A:geo:-82.252493,27.046958
END:VEVENT
BEGIN:VEVENT
DTSTART;TZID=America/New_York:20290809T180000
DTEND;TZID=America/New_York:20290809T190000
DTSTAMP:20260423T200948
CREATED:20240426T111140Z
LAST-MODIFIED:20240426T111142Z
UID:10000839-1880992800-1880996400@aanorthport.org
SUMMARY:Events Committee Meeting (hybrid)
DESCRIPTION:Intergroup Events Committee hybrid meeting (in person at Intergroup office and online via Zoom) – every 2nd Thursday of the month at 6:00 pm \n\n\n\nJoin meeting onlinehttps://us02web.zoom.us/j/85833512842pwd=MEdYQ2tYKzg2dU9hWkg0cWV1RkM4QT09 \n\n\n\nZoom ID:  858 3351 2842Passcode:  417873 \n\n\n\nWe are always looking for volunteers!
URL:https://aanorthport.org/event/events-committee-meeting-3/2029-08-09/
LOCATION:Intergroup Office of District 5 – SWFL\, 13325 Tamiami Trail\, Unit A\, North Port\, FL\, 34287\, United States
CATEGORIES:Service Meetings
GEO:27.046958;-82.252493
X-APPLE-STRUCTURED-LOCATION;VALUE=URI;X-ADDRESS=Intergroup Office of District 5 – SWFL 13325 Tamiami Trail Unit A North Port FL 34287 United States;X-APPLE-RADIUS=500;X-TITLE=13325 Tamiami Trail\, Unit A:geo:-82.252493,27.046958
END:VEVENT
BEGIN:VEVENT
DTSTART;TZID=America/New_York:20290913T180000
DTEND;TZID=America/New_York:20290913T190000
DTSTAMP:20260423T200948
CREATED:20240426T111140Z
LAST-MODIFIED:20240426T111142Z
UID:10000851-1884016800-1884020400@aanorthport.org
SUMMARY:Events Committee Meeting (hybrid)
DESCRIPTION:Intergroup Events Committee hybrid meeting (in person at Intergroup office and online via Zoom) – every 2nd Thursday of the month at 6:00 pm \n\n\n\nJoin meeting onlinehttps://us02web.zoom.us/j/85833512842pwd=MEdYQ2tYKzg2dU9hWkg0cWV1RkM4QT09 \n\n\n\nZoom ID:  858 3351 2842Passcode:  417873 \n\n\n\nWe are always looking for volunteers!
URL:https://aanorthport.org/event/events-committee-meeting-3/2029-09-13/
LOCATION:Intergroup Office of District 5 – SWFL\, 13325 Tamiami Trail\, Unit A\, North Port\, FL\, 34287\, United States
CATEGORIES:Service Meetings
GEO:27.046958;-82.252493
X-APPLE-STRUCTURED-LOCATION;VALUE=URI;X-ADDRESS=Intergroup Office of District 5 – SWFL 13325 Tamiami Trail Unit A North Port FL 34287 United States;X-APPLE-RADIUS=500;X-TITLE=13325 Tamiami Trail\, Unit A:geo:-82.252493,27.046958
END:VEVENT
BEGIN:VEVENT
DTSTART;TZID=America/New_York:20291011T180000
DTEND;TZID=America/New_York:20291011T190000
DTSTAMP:20260423T200948
CREATED:20240426T111140Z
LAST-MODIFIED:20240426T111142Z
UID:10000852-1886436000-1886439600@aanorthport.org
SUMMARY:Events Committee Meeting (hybrid)
DESCRIPTION:Intergroup Events Committee hybrid meeting (in person at Intergroup office and online via Zoom) – every 2nd Thursday of the month at 6:00 pm \n\n\n\nJoin meeting onlinehttps://us02web.zoom.us/j/85833512842pwd=MEdYQ2tYKzg2dU9hWkg0cWV1RkM4QT09 \n\n\n\nZoom ID:  858 3351 2842Passcode:  417873 \n\n\n\nWe are always looking for volunteers!
URL:https://aanorthport.org/event/events-committee-meeting-3/2029-10-11/
LOCATION:Intergroup Office of District 5 – SWFL\, 13325 Tamiami Trail\, Unit A\, North Port\, FL\, 34287\, United States
CATEGORIES:Service Meetings
GEO:27.046958;-82.252493
X-APPLE-STRUCTURED-LOCATION;VALUE=URI;X-ADDRESS=Intergroup Office of District 5 – SWFL 13325 Tamiami Trail Unit A North Port FL 34287 United States;X-APPLE-RADIUS=500;X-TITLE=13325 Tamiami Trail\, Unit A:geo:-82.252493,27.046958
END:VEVENT
END:VCALENDAR