BEGIN:VCALENDAR
VERSION:2.0
PRODID:-//Intergroup - District 5 Florida - ECPv6.15.20//NONSGML v1.0//EN
CALSCALE:GREGORIAN
METHOD:PUBLISH
X-WR-CALNAME:Intergroup - District 5 Florida
X-ORIGINAL-URL:https://aanorthport.org
X-WR-CALDESC:Events for Intergroup - District 5 Florida
REFRESH-INTERVAL;VALUE=DURATION:PT1H
X-Robots-Tag:noindex
X-PUBLISHED-TTL:PT1H
BEGIN:VTIMEZONE
TZID:America/New_York
BEGIN:DAYLIGHT
TZOFFSETFROM:-0500
TZOFFSETTO:-0400
TZNAME:EDT
DTSTART:20230312T070000
END:DAYLIGHT
BEGIN:STANDARD
TZOFFSETFROM:-0400
TZOFFSETTO:-0500
TZNAME:EST
DTSTART:20231105T060000
END:STANDARD
BEGIN:DAYLIGHT
TZOFFSETFROM:-0500
TZOFFSETTO:-0400
TZNAME:EDT
DTSTART:20240310T070000
END:DAYLIGHT
BEGIN:STANDARD
TZOFFSETFROM:-0400
TZOFFSETTO:-0500
TZNAME:EST
DTSTART:20241103T060000
END:STANDARD
BEGIN:DAYLIGHT
TZOFFSETFROM:-0500
TZOFFSETTO:-0400
TZNAME:EDT
DTSTART:20250309T070000
END:DAYLIGHT
BEGIN:STANDARD
TZOFFSETFROM:-0400
TZOFFSETTO:-0500
TZNAME:EST
DTSTART:20251102T060000
END:STANDARD
END:VTIMEZONE
BEGIN:VEVENT
DTSTART;TZID=America/New_York:20241026T133000
DTEND;TZID=America/New_York:20241026T163000
DTSTAMP:20260423T212145
CREATED:20241003T031953Z
LAST-MODIFIED:20241003T031956Z
UID:10000848-1729949400-1729960200@aanorthport.org
SUMMARY:New Beginnings - Picnic in the Park
DESCRIPTION:Hamburgers and hotdogs served\, water provided. Bring your own favorite beverage and a dish to share. \n\n\n\nView flyer
URL:https://aanorthport.org/event/new-beginnings-picnic-in-the-park/
LOCATION:Dallas White Park\, 5900 Greenwood Ave\, North Port\, FL\, 34287\, United States
CATEGORIES:Group Events
GEO:27.0465371;-82.2317704
X-APPLE-STRUCTURED-LOCATION;VALUE=URI;X-ADDRESS=Dallas White Park 5900 Greenwood Ave North Port FL 34287 United States;X-APPLE-RADIUS=500;X-TITLE=5900 Greenwood Ave:geo:-82.2317704,27.0465371
END:VEVENT
BEGIN:VEVENT
DTSTART;TZID=America/New_York:20240720T100000
DTEND;TZID=America/New_York:20240720T130000
DTSTAMP:20260423T212145
CREATED:20240719T010036Z
LAST-MODIFIED:20240719T010039Z
UID:10000816-1721469600-1721480400@aanorthport.org
SUMMARY:Thursday Step Meeting Anniversary Picnic
DESCRIPTION:The Thursday Step meeting that meets at St. Nathaniel’s is hosting a picnic to celebrate their anniversary. Sandwich platters are on the menu. \n\n\n\nSpeaker at noon.
URL:https://aanorthport.org/event/thursday-step-meeting-anniversary-picnic/
LOCATION:Dallas White Park\, 5900 Greenwood Ave\, North Port\, FL\, 34287\, United States
CATEGORIES:Group Events
GEO:27.0465371;-82.2317704
X-APPLE-STRUCTURED-LOCATION;VALUE=URI;X-ADDRESS=Dallas White Park 5900 Greenwood Ave North Port FL 34287 United States;X-APPLE-RADIUS=500;X-TITLE=5900 Greenwood Ave:geo:-82.2317704,27.0465371
END:VEVENT
BEGIN:VEVENT
DTSTART;TZID=America/New_York:20240406T120000
DTEND;TZID=America/New_York:20240406T160000
DTSTAMP:20260423T212145
CREATED:20240307T002319Z
LAST-MODIFIED:20240307T002321Z
UID:10000558-1712404800-1712419200@aanorthport.org
SUMMARY:Spring Picnic
DESCRIPTION:Hosted by the Over the Hump Wednesday Night Big Book Meeting – Hot dogs and hamburgers\, bring a dish to share if you want to – join us for some fellowship in the park! \n\n\n\nSpring Picnic 04-06-24Download
URL:https://aanorthport.org/event/spring-picnic/
LOCATION:Dallas White Park\, 5900 Greenwood Ave\, North Port\, FL\, 34287\, United States
GEO:27.0465371;-82.2317704
X-APPLE-STRUCTURED-LOCATION;VALUE=URI;X-ADDRESS=Dallas White Park 5900 Greenwood Ave North Port FL 34287 United States;X-APPLE-RADIUS=500;X-TITLE=5900 Greenwood Ave:geo:-82.2317704,27.0465371
END:VEVENT
END:VCALENDAR