BEGIN:VCALENDAR
VERSION:2.0
PRODID:-//Intergroup - District 5 Florida - ECPv6.15.20//NONSGML v1.0//EN
CALSCALE:GREGORIAN
METHOD:PUBLISH
X-ORIGINAL-URL:https://aanorthport.org
X-WR-CALDESC:Events for Intergroup - District 5 Florida
REFRESH-INTERVAL;VALUE=DURATION:PT1H
X-Robots-Tag:noindex
X-PUBLISHED-TTL:PT1H
BEGIN:VTIMEZONE
TZID:America/New_York
BEGIN:DAYLIGHT
TZOFFSETFROM:-0500
TZOFFSETTO:-0400
TZNAME:EDT
DTSTART:20170312T070000
END:DAYLIGHT
BEGIN:STANDARD
TZOFFSETFROM:-0400
TZOFFSETTO:-0500
TZNAME:EST
DTSTART:20171105T060000
END:STANDARD
BEGIN:DAYLIGHT
TZOFFSETFROM:-0500
TZOFFSETTO:-0400
TZNAME:EDT
DTSTART:20180311T070000
END:DAYLIGHT
BEGIN:STANDARD
TZOFFSETFROM:-0400
TZOFFSETTO:-0500
TZNAME:EST
DTSTART:20181104T060000
END:STANDARD
BEGIN:DAYLIGHT
TZOFFSETFROM:-0500
TZOFFSETTO:-0400
TZNAME:EDT
DTSTART:20190310T070000
END:DAYLIGHT
BEGIN:STANDARD
TZOFFSETFROM:-0400
TZOFFSETTO:-0500
TZNAME:EST
DTSTART:20191103T060000
END:STANDARD
BEGIN:DAYLIGHT
TZOFFSETFROM:-0500
TZOFFSETTO:-0400
TZNAME:EDT
DTSTART:20200308T070000
END:DAYLIGHT
BEGIN:STANDARD
TZOFFSETFROM:-0400
TZOFFSETTO:-0500
TZNAME:EST
DTSTART:20201101T060000
END:STANDARD
BEGIN:DAYLIGHT
TZOFFSETFROM:-0500
TZOFFSETTO:-0400
TZNAME:EDT
DTSTART:20210314T070000
END:DAYLIGHT
BEGIN:STANDARD
TZOFFSETFROM:-0400
TZOFFSETTO:-0500
TZNAME:EST
DTSTART:20211107T060000
END:STANDARD
BEGIN:DAYLIGHT
TZOFFSETFROM:-0500
TZOFFSETTO:-0400
TZNAME:EDT
DTSTART:20220313T070000
END:DAYLIGHT
BEGIN:STANDARD
TZOFFSETFROM:-0400
TZOFFSETTO:-0500
TZNAME:EST
DTSTART:20221106T060000
END:STANDARD
BEGIN:DAYLIGHT
TZOFFSETFROM:-0500
TZOFFSETTO:-0400
TZNAME:EDT
DTSTART:20230312T070000
END:DAYLIGHT
BEGIN:STANDARD
TZOFFSETFROM:-0400
TZOFFSETTO:-0500
TZNAME:EST
DTSTART:20231105T060000
END:STANDARD
BEGIN:DAYLIGHT
TZOFFSETFROM:-0500
TZOFFSETTO:-0400
TZNAME:EDT
DTSTART:20240310T070000
END:DAYLIGHT
BEGIN:STANDARD
TZOFFSETFROM:-0400
TZOFFSETTO:-0500
TZNAME:EST
DTSTART:20241103T060000
END:STANDARD
BEGIN:DAYLIGHT
TZOFFSETFROM:-0500
TZOFFSETTO:-0400
TZNAME:EDT
DTSTART:20250309T070000
END:DAYLIGHT
BEGIN:STANDARD
TZOFFSETFROM:-0400
TZOFFSETTO:-0500
TZNAME:EST
DTSTART:20251102T060000
END:STANDARD
END:VTIMEZONE
BEGIN:VEVENT
DTSTART;TZID=America/New_York:20240902T130000
DTEND;TZID=America/New_York:20240902T150000
DTSTAMP:20260424T010727
CREATED:20240816T224616Z
LAST-MODIFIED:20240820T223733Z
UID:10000835-1725282000-1725289200@aanorthport.org
SUMMARY:Annual Labor Day Luau
DESCRIPTION:Annual Labor Day Luau sponsored by the groups of the Easy Does It Club. Bring a dish to share and join us for some food\, fun\, and fellowship! \n\n\n\nView Flyer
URL:https://aanorthport.org/event/50213/
LOCATION:Easy Does It Club\, 23312 Harper Avenue\, Port Charlotte\, FL\, 33980\, United States
CATEGORIES:Group Events
GEO:26.9620639;-82.0638244
X-APPLE-STRUCTURED-LOCATION;VALUE=URI;X-ADDRESS=Easy Does It Club 23312 Harper Avenue Port Charlotte FL 33980 United States;X-APPLE-RADIUS=500;X-TITLE=23312 Harper Avenue:geo:-82.0638244,26.9620639
END:VEVENT
BEGIN:VEVENT
DTSTART;TZID=America/New_York:20240704T130000
DTEND;TZID=America/New_York:20240704T150000
DTSTAMP:20260424T010727
CREATED:20240629T135644Z
LAST-MODIFIED:20240629T142526Z
UID:10000812-1720098000-1720105200@aanorthport.org
SUMMARY:4th of July Extravaganza
DESCRIPTION:Easy Does It Club groups are sponsoring a 4th of July Extravaganza from 1-3 pm. Burgers\, hotdogs and drinks provided – bring a dish to share. \n\n\n\n4th-of-July-2024Download
URL:https://aanorthport.org/event/4th-of-july-extravaganza-2/
LOCATION:Easy Does It Club\, 23312 Harper Avenue\, Port Charlotte\, FL\, 33980\, United States
CATEGORIES:Group Events
GEO:26.9620639;-82.0638244
X-APPLE-STRUCTURED-LOCATION;VALUE=URI;X-ADDRESS=Easy Does It Club 23312 Harper Avenue Port Charlotte FL 33980 United States;X-APPLE-RADIUS=500;X-TITLE=23312 Harper Avenue:geo:-82.0638244,26.9620639
END:VEVENT
BEGIN:VEVENT
DTSTART;TZID=America/New_York:20240527T130000
DTEND;TZID=America/New_York:20240527T150000
DTSTAMP:20260424T010727
CREATED:20240508T155007Z
LAST-MODIFIED:20240509T124019Z
UID:10000742-1716814800-1716822000@aanorthport.org
SUMMARY:Memorial Day Picnic
DESCRIPTION:Food\, Fun and Fellowship! Sponsored by the groups that meet at the Easy Does It club. \n\n\n\nWe furnish hamburgers\, hotdogs and drinks and ask you to bring a dish to share.
URL:https://aanorthport.org/event/memorial-day-picnic-2/
LOCATION:Easy Does It Club\, 23312 Harper Avenue\, Port Charlotte\, FL\, 33980\, United States
CATEGORIES:Group Events
GEO:26.9620639;-82.0638244
X-APPLE-STRUCTURED-LOCATION;VALUE=URI;X-ADDRESS=Easy Does It Club 23312 Harper Avenue Port Charlotte FL 33980 United States;X-APPLE-RADIUS=500;X-TITLE=23312 Harper Avenue:geo:-82.0638244,26.9620639
END:VEVENT
BEGIN:VEVENT
DTSTART;TZID=America/New_York:20221203T140000
DTEND;TZID=America/New_York:20221203T160000
DTSTAMP:20260424T010727
CREATED:20221124T181636Z
LAST-MODIFIED:20221124T181636Z
UID:10000295-1670076000-1670083200@aanorthport.org
SUMMARY:Daily Reprieve 10-Year Anniversary
DESCRIPTION:Flyer
URL:https://aanorthport.org/event/daily-reprieve-10-year-anniversary/
LOCATION:Easy Does It Club\, 23312 Harper Avenue\, Port Charlotte\, FL\, 33980\, United States
GEO:26.9620639;-82.0638244
X-APPLE-STRUCTURED-LOCATION;VALUE=URI;X-ADDRESS=Easy Does It Club 23312 Harper Avenue Port Charlotte FL 33980 United States;X-APPLE-RADIUS=500;X-TITLE=23312 Harper Avenue:geo:-82.0638244,26.9620639
END:VEVENT
BEGIN:VEVENT
DTSTART;TZID=America/New_York:20221123T210000
DTEND;TZID=America/New_York:20221124T060000
DTSTAMP:20260424T010727
CREATED:20221118T230338Z
LAST-MODIFIED:20221118T230338Z
UID:10000294-1669237200-1669269600@aanorthport.org
SUMMARY:Thanksgiving Alkathon
DESCRIPTION:Flyer
URL:https://aanorthport.org/event/thanksgiving-alkathon/
LOCATION:Easy Does It Club\, 23312 Harper Avenue\, Port Charlotte\, FL\, 33980\, United States
GEO:26.9620639;-82.0638244
X-APPLE-STRUCTURED-LOCATION;VALUE=URI;X-ADDRESS=Easy Does It Club 23312 Harper Avenue Port Charlotte FL 33980 United States;X-APPLE-RADIUS=500;X-TITLE=23312 Harper Avenue:geo:-82.0638244,26.9620639
END:VEVENT
BEGIN:VEVENT
DTSTART;TZID=America/New_York:20220704T130000
DTEND;TZID=America/New_York:20220704T150000
DTSTAMP:20260424T010727
CREATED:20220610T000217Z
LAST-MODIFIED:20220610T000217Z
UID:10000291-1656939600-1656946800@aanorthport.org
SUMMARY:4th of July Extravaganza
DESCRIPTION:Click here for flyer
URL:https://aanorthport.org/event/4th-of-july-extravaganza/
LOCATION:Easy Does It Club\, 23312 Harper Avenue\, Port Charlotte\, FL\, 33980\, United States
GEO:26.9620639;-82.0638244
X-APPLE-STRUCTURED-LOCATION;VALUE=URI;X-ADDRESS=Easy Does It Club 23312 Harper Avenue Port Charlotte FL 33980 United States;X-APPLE-RADIUS=500;X-TITLE=23312 Harper Avenue:geo:-82.0638244,26.9620639
END:VEVENT
BEGIN:VEVENT
DTSTART;TZID=America/New_York:20201125T210000
DTEND;TZID=America/New_York:20201126T210000
DTSTAMP:20260424T010727
CREATED:20201115T195246Z
LAST-MODIFIED:20201115T195342Z
UID:10000285-1606338000-1606424400@aanorthport.org
SUMMARY:Alcothon - Easy Does It CLub
DESCRIPTION:
URL:https://aanorthport.org/event/alcothon/
LOCATION:Easy Does It Club\, 23312 Harper Avenue\, Port Charlotte\, FL\, 33980\, United States
GEO:26.9620639;-82.0638244
X-APPLE-STRUCTURED-LOCATION;VALUE=URI;X-ADDRESS=Easy Does It Club 23312 Harper Avenue Port Charlotte FL 33980 United States;X-APPLE-RADIUS=500;X-TITLE=23312 Harper Avenue:geo:-82.0638244,26.9620639
END:VEVENT
BEGIN:VEVENT
DTSTART;TZID=America/New_York:20200317T173000
DTEND;TZID=America/New_York:20200317T203000
DTSTAMP:20260424T010727
CREATED:20200210T024008Z
LAST-MODIFIED:20200210T024008Z
UID:10000280-1584466200-1584477000@aanorthport.org
SUMMARY:St. Patrick's Day Dinner
DESCRIPTION:Flyer
URL:https://aanorthport.org/event/st-patricks-day-dinner/
LOCATION:Easy Does It Club\, 23312 Harper Avenue\, Port Charlotte\, FL\, 33980\, United States
GEO:26.9620639;-82.0638244
X-APPLE-STRUCTURED-LOCATION;VALUE=URI;X-ADDRESS=Easy Does It Club 23312 Harper Avenue Port Charlotte FL 33980 United States;X-APPLE-RADIUS=500;X-TITLE=23312 Harper Avenue:geo:-82.0638244,26.9620639
END:VEVENT
BEGIN:VEVENT
DTSTART;TZID=America/New_York:20190105T193000
DTEND;TZID=America/New_York:20190105T193000
DTSTAMP:20260424T010727
CREATED:20181218T111410Z
LAST-MODIFIED:20181218T111410Z
UID:10000220-1546716600-1546716600@aanorthport.org
SUMMARY:Easy Does it Club 5th Anniversary
DESCRIPTION:Saturady Night Speaker Meeting  5th Anniversary \n  \n  \nEmail  Lanie177m@gmail.com
URL:https://aanorthport.org/event/easy-does-it-club-5th-anniversary/
LOCATION:Easy Does It Club\, 23312 Harper Avenue\, Port Charlotte\, FL\, 33980\, United States
GEO:26.9620639;-82.0638244
X-APPLE-STRUCTURED-LOCATION;VALUE=URI;X-ADDRESS=Easy Does It Club 23312 Harper Avenue Port Charlotte FL 33980 United States;X-APPLE-RADIUS=500;X-TITLE=23312 Harper Avenue:geo:-82.0638244,26.9620639
END:VEVENT
BEGIN:VEVENT
DTSTART;TZID=America/New_York:20181231T213000
DTEND;TZID=America/New_York:20181231T213000
DTSTAMP:20260424T010727
CREATED:20181204T030158Z
LAST-MODIFIED:20181204T030158Z
UID:10000077-1546291800-1546291800@aanorthport.org
SUMMARY:New Years Eve Dance
DESCRIPTION:1980’s Theme  Dress in your best 1980’s costume \nDJ  Brandon \nCostume Contest \, 50/50 Raffle \nPresented by Morning Makers\, Phoenix and Daily Reprieve Groups  Suggested Donation $3.00 Bring a Dish to Share
URL:https://aanorthport.org/event/new-years-eve-dance/
LOCATION:Easy Does It Club\, 23312 Harper Avenue\, Port Charlotte\, FL\, 33980\, United States
GEO:26.9620639;-82.0638244
X-APPLE-STRUCTURED-LOCATION;VALUE=URI;X-ADDRESS=Easy Does It Club 23312 Harper Avenue Port Charlotte FL 33980 United States;X-APPLE-RADIUS=500;X-TITLE=23312 Harper Avenue:geo:-82.0638244,26.9620639
END:VEVENT
BEGIN:VEVENT
DTSTART;TZID=America/New_York:20180903T130000
DTEND;TZID=America/New_York:20180903T150000
DTSTAMP:20260424T010727
CREATED:20180820T174630Z
LAST-MODIFIED:20180820T174630Z
UID:10000143-1535979600-1535986800@aanorthport.org
SUMMARY:Labor Day Picnic -Easy Does it Club
DESCRIPTION:Click here for flyer–> 9-3-18 Labor Day Picnic EDIC \nHamburgers and Hot Dogs! \nPresented by Morning Makers\, Phoenix\, and Daily Reprieve groups.  Please bring a side dish to share. \n1pm to 3pm at Easy Does it Club\,
URL:https://aanorthport.org/event/labor-day-picnic-easy-does-it-club/
LOCATION:Easy Does It Club\, 23312 Harper Avenue\, Port Charlotte\, FL\, 33980\, United States
GEO:26.9620639;-82.0638244
X-APPLE-STRUCTURED-LOCATION;VALUE=URI;X-ADDRESS=Easy Does It Club 23312 Harper Avenue Port Charlotte FL 33980 United States;X-APPLE-RADIUS=500;X-TITLE=23312 Harper Avenue:geo:-82.0638244,26.9620639
END:VEVENT
END:VCALENDAR