BEGIN:VCALENDAR
VERSION:2.0
PRODID:-//Intergroup - District 5 Florida - ECPv6.15.20//NONSGML v1.0//EN
CALSCALE:GREGORIAN
METHOD:PUBLISH
X-WR-CALNAME:Intergroup - District 5 Florida
X-ORIGINAL-URL:https://aanorthport.org
X-WR-CALDESC:Events for Intergroup - District 5 Florida
REFRESH-INTERVAL;VALUE=DURATION:PT1H
X-Robots-Tag:noindex
X-PUBLISHED-TTL:PT1H
BEGIN:VTIMEZONE
TZID:America/New_York
BEGIN:DAYLIGHT
TZOFFSETFROM:-0500
TZOFFSETTO:-0400
TZNAME:EDT
DTSTART:20200308T070000
END:DAYLIGHT
BEGIN:STANDARD
TZOFFSETFROM:-0400
TZOFFSETTO:-0500
TZNAME:EST
DTSTART:20201101T060000
END:STANDARD
BEGIN:DAYLIGHT
TZOFFSETFROM:-0500
TZOFFSETTO:-0400
TZNAME:EDT
DTSTART:20210314T070000
END:DAYLIGHT
BEGIN:STANDARD
TZOFFSETFROM:-0400
TZOFFSETTO:-0500
TZNAME:EST
DTSTART:20211107T060000
END:STANDARD
BEGIN:DAYLIGHT
TZOFFSETFROM:-0500
TZOFFSETTO:-0400
TZNAME:EDT
DTSTART:20220313T070000
END:DAYLIGHT
BEGIN:STANDARD
TZOFFSETFROM:-0400
TZOFFSETTO:-0500
TZNAME:EST
DTSTART:20221106T060000
END:STANDARD
END:VTIMEZONE
BEGIN:VEVENT
DTSTART;TZID=America/New_York:20210123T100000
DTEND;TZID=America/New_York:20210123T140000
DTSTAMP:20260424T005749
CREATED:20210123T220537Z
LAST-MODIFIED:20210124T204123Z
UID:10000026-1611396000-1611410400@aanorthport.org
SUMMARY:Eye Opener Group - Fourth Step Workshop By The Book
DESCRIPTION:Flyer \nWorksheets \n\nRecordings (Tracks 8 – 11)\n\nEye Opener Group Punta Gorda\nall are welcome – please attend\nFOURTH STEP WORKSHOP BY THE BOOK\nSaturday\, January 23\, 2021\n10a – 2p (Eastern Time)\nZoom ID: 643 769 1583  //  PW: Aqui\ngo to www.pgeyeopener.org\nfor more information and flyer\nand to download and print worksheets
URL:https://aanorthport.org/event/eye-opener-group-fourth-step-workshop-by-the-book/
LOCATION:Faith Lutheran Church\, 551 Rotonda Blvd W\, Rotonda West\, FL\, 33947\, United States
GEO:26.8882163;-82.3014759
X-APPLE-STRUCTURED-LOCATION;VALUE=URI;X-ADDRESS=Faith Lutheran Church 551 Rotonda Blvd W Rotonda West FL 33947 United States;X-APPLE-RADIUS=500;X-TITLE=551 Rotonda Blvd W:geo:-82.3014759,26.8882163
END:VEVENT
END:VCALENDAR