BEGIN:VCALENDAR
VERSION:2.0
PRODID:-//Intergroup - District 5 Florida - ECPv6.15.20//NONSGML v1.0//EN
CALSCALE:GREGORIAN
METHOD:PUBLISH
X-WR-CALNAME:Intergroup - District 5 Florida
X-ORIGINAL-URL:https://aanorthport.org
X-WR-CALDESC:Events for Intergroup - District 5 Florida
REFRESH-INTERVAL;VALUE=DURATION:PT1H
X-Robots-Tag:noindex
X-PUBLISHED-TTL:PT1H
BEGIN:VTIMEZONE
TZID:America/New_York
BEGIN:DAYLIGHT
TZOFFSETFROM:-0500
TZOFFSETTO:-0400
TZNAME:EDT
DTSTART:20190310T070000
END:DAYLIGHT
BEGIN:STANDARD
TZOFFSETFROM:-0400
TZOFFSETTO:-0500
TZNAME:EST
DTSTART:20191103T060000
END:STANDARD
BEGIN:DAYLIGHT
TZOFFSETFROM:-0500
TZOFFSETTO:-0400
TZNAME:EDT
DTSTART:20200308T070000
END:DAYLIGHT
BEGIN:STANDARD
TZOFFSETFROM:-0400
TZOFFSETTO:-0500
TZNAME:EST
DTSTART:20201101T060000
END:STANDARD
BEGIN:DAYLIGHT
TZOFFSETFROM:-0500
TZOFFSETTO:-0400
TZNAME:EDT
DTSTART:20210314T070000
END:DAYLIGHT
BEGIN:STANDARD
TZOFFSETFROM:-0400
TZOFFSETTO:-0500
TZNAME:EST
DTSTART:20211107T060000
END:STANDARD
END:VTIMEZONE
BEGIN:VEVENT
DTSTART;TZID=America/New_York:20200225T170000
DTEND;TZID=America/New_York:20200225T190000
DTSTAMP:20260424T162507
CREATED:20200121T185916Z
LAST-MODIFIED:20200121T190122Z
UID:10000001-1582650000-1582657200@aanorthport.org
SUMMARY:"Our Great Hope" group 5th Anniversary Celebration
DESCRIPTION:Flyer
URL:https://aanorthport.org/event/4900/
LOCATION:Liberty Community Church\, 2759 Wylam Drive\, Northt Port\, FL\, United States
GEO:27.03362;-82.085063
X-APPLE-STRUCTURED-LOCATION;VALUE=URI;X-ADDRESS=Liberty Community Church 2759 Wylam Drive Northt Port FL United States;X-APPLE-RADIUS=500;X-TITLE=2759 Wylam Drive:geo:-82.085063,27.03362
END:VEVENT
END:VCALENDAR