BEGIN:VCALENDAR
VERSION:2.0
PRODID:-//Intergroup - District 5 Florida - ECPv6.15.20//NONSGML v1.0//EN
CALSCALE:GREGORIAN
METHOD:PUBLISH
X-WR-CALNAME:Intergroup - District 5 Florida
X-ORIGINAL-URL:https://aanorthport.org
X-WR-CALDESC:Events for Intergroup - District 5 Florida
REFRESH-INTERVAL;VALUE=DURATION:PT1H
X-Robots-Tag:noindex
X-PUBLISHED-TTL:PT1H
BEGIN:VTIMEZONE
TZID:America/New_York
BEGIN:DAYLIGHT
TZOFFSETFROM:-0500
TZOFFSETTO:-0400
TZNAME:EDT
DTSTART:20190310T070000
END:DAYLIGHT
BEGIN:STANDARD
TZOFFSETFROM:-0400
TZOFFSETTO:-0500
TZNAME:EST
DTSTART:20191103T060000
END:STANDARD
BEGIN:DAYLIGHT
TZOFFSETFROM:-0500
TZOFFSETTO:-0400
TZNAME:EDT
DTSTART:20200308T070000
END:DAYLIGHT
BEGIN:STANDARD
TZOFFSETFROM:-0400
TZOFFSETTO:-0500
TZNAME:EST
DTSTART:20201101T060000
END:STANDARD
BEGIN:DAYLIGHT
TZOFFSETFROM:-0500
TZOFFSETTO:-0400
TZNAME:EDT
DTSTART:20210314T070000
END:DAYLIGHT
BEGIN:STANDARD
TZOFFSETFROM:-0400
TZOFFSETTO:-0500
TZNAME:EST
DTSTART:20211107T060000
END:STANDARD
BEGIN:DAYLIGHT
TZOFFSETFROM:-0500
TZOFFSETTO:-0400
TZNAME:EDT
DTSTART:20220313T070000
END:DAYLIGHT
BEGIN:STANDARD
TZOFFSETFROM:-0400
TZOFFSETTO:-0500
TZNAME:EST
DTSTART:20221106T060000
END:STANDARD
BEGIN:DAYLIGHT
TZOFFSETFROM:-0500
TZOFFSETTO:-0400
TZNAME:EDT
DTSTART:20230312T070000
END:DAYLIGHT
BEGIN:STANDARD
TZOFFSETFROM:-0400
TZOFFSETTO:-0500
TZNAME:EST
DTSTART:20231105T060000
END:STANDARD
BEGIN:DAYLIGHT
TZOFFSETFROM:-0500
TZOFFSETTO:-0400
TZNAME:EDT
DTSTART:20240310T070000
END:DAYLIGHT
BEGIN:STANDARD
TZOFFSETFROM:-0400
TZOFFSETTO:-0500
TZNAME:EST
DTSTART:20241103T060000
END:STANDARD
BEGIN:DAYLIGHT
TZOFFSETFROM:-0500
TZOFFSETTO:-0400
TZNAME:EDT
DTSTART:20250309T070000
END:DAYLIGHT
BEGIN:STANDARD
TZOFFSETFROM:-0400
TZOFFSETTO:-0500
TZNAME:EST
DTSTART:20251102T060000
END:STANDARD
END:VTIMEZONE
BEGIN:VEVENT
DTSTART;TZID=America/New_York:20240914T070000
DTEND;TZID=America/New_York:20240914T170000
DTSTAMP:20260424T024003
CREATED:20240621T163229Z
LAST-MODIFIED:20240621T163651Z
UID:10000811-1726297200-1726333200@aanorthport.org
SUMMARY:Friends of Bill W. Annual Golf Tournament
DESCRIPTION:Teams and Single Players WelcomeCheck in 7:00 AM / Coffee & Doughnuts Shotgun start 8:00 AM– $95 registration per player includes chef-prepared luncheon– “Meal Only” tickets available $35
URL:https://aanorthport.org/event/golf-tournament/
LOCATION:Pelican Pointe Golf and Country Club\, 499 Derbyshire Drive\, Venice\, FL\, 34285\, United States
CATEGORIES:Group Events
GEO:27.0861381;-82.4041936
X-APPLE-STRUCTURED-LOCATION;VALUE=URI;X-ADDRESS=Pelican Pointe Golf and Country Club 499 Derbyshire Drive Venice FL 34285 United States;X-APPLE-RADIUS=500;X-TITLE=499 Derbyshire Drive:geo:-82.4041936,27.0861381
END:VEVENT
BEGIN:VEVENT
DTSTART;TZID=America/New_York:20220910T070000
DTEND;TZID=America/New_York:20220910T130000
DTSTAMP:20260424T024003
CREATED:20220627T013124Z
LAST-MODIFIED:20220627T013124Z
UID:10000292-1662793200-1662814800@aanorthport.org
SUMMARY:Friends of Bill Annual Golf Tournament
DESCRIPTION:Flyer \nPelican Pointe Gold and Country Club \nEntrance off Center Rd
URL:https://aanorthport.org/event/friends-of-bill-annual-golf-tournament/
LOCATION:Pelican Pointe Golf and Country Club\, 499 Derbyshire Drive\, Venice\, FL\, 34285\, United States
GEO:27.0861381;-82.4041936
X-APPLE-STRUCTURED-LOCATION;VALUE=URI;X-ADDRESS=Pelican Pointe Golf and Country Club 499 Derbyshire Drive Venice FL 34285 United States;X-APPLE-RADIUS=500;X-TITLE=499 Derbyshire Drive:geo:-82.4041936,27.0861381
END:VEVENT
BEGIN:VEVENT
DTSTART;TZID=America/New_York:20200905T070000
DTEND;TZID=America/New_York:20200905T170000
DTSTAMP:20260424T024003
CREATED:20200712T183042Z
LAST-MODIFIED:20200721T234421Z
UID:10000284-1599289200-1599325200@aanorthport.org
SUMMARY:Friends of Bill W. Annual Golf Tournament
DESCRIPTION:Flyer
URL:https://aanorthport.org/event/friends-of-bill-w-annual-golf-tournament/
LOCATION:Pelican Pointe Golf and Country Club\, 499 Derbyshire Drive\, Venice\, FL\, 34285\, United States
GEO:27.0861381;-82.4041936
X-APPLE-STRUCTURED-LOCATION;VALUE=URI;X-ADDRESS=Pelican Pointe Golf and Country Club 499 Derbyshire Drive Venice FL 34285 United States;X-APPLE-RADIUS=500;X-TITLE=499 Derbyshire Drive:geo:-82.4041936,27.0861381
END:VEVENT
END:VCALENDAR